{"text_format":"1","workbook":"xlsx","n_sheets":5,"sheets":["Nome do Projeto","Bolsas","Manutenção","CONSOLIDAÇÃO","Controles"],"not_rendered":{"charts":0,"images":6,"macros":1,"external_links":0,"defined_names":6,"comments":0,"pivot_tables":0},"unopened":[],"bounds":{"document_bytes":16777216,"sheet_cells":100000,"rows_first":2000,"rows_last":500,"rows_between":2000,"halvings":0,"cell_chars":16384,"cell_head_chars":4096},"cells_cut":0,"cells_raw":0,"read":"row_number_cap","date_system":"1900"}

{"sheet":"Nome do Projeto","index":0,"n_rows":1048574,"n_cols":16,"rows_kept":4500,"cut":true,"hidden":true,"merged":[[10,1,10,7],[9,1,9,7],[14,2,14,7],[14,0,14,1],[0,1,2,7],[13,0,13,7],[35,12,35,14],[35,15,35,18],[36,12,36,18],[34,12,34,18],[11,1,11,7],[15,0,15,7]],"bounds":{"rows_first":2000,"rows_last":500,"rows_between":2000,"halvings":0},"read":"row_number_cap"}
["UNIVERSIDADE DO ESTADO DO RIO DE JANEIRO","PLANILHA PARA ESTIMAR READEQUAÇÃO ORÇAMENTÁRIA  - PrInt UERJ - 2020"]
["SUB-REITORIA DE PÓS-GRADUAÇÃO E PESQUISA"]
["COORDENADORIA DE GESTÃO DE PROJETOS INSTITUCIONAIS"]
[]
[]
[null,null,null,null,null,null,null,null,"\n\n"]
[]
[]
[]
["PROGRAMA – NOME:"]
["TEMA:"]
["TÍTULO DO PROJETO:"]
[]
["CASO TENHA DÚVIDAS SOBRE CADA MODALIDADE DE BOLSA, ABAIXO SEGUE BREVE DESCRIÇÃO:"]
["Bolsas no Exterior\n\nDoutorado Sanduíche (6 a 12 meses)\nDoutorado Sanduíche: tem, por finalidade, a realização de estágio para o desenvolvimento de pesquisa em Instituição de Ensino Superior estrangeira, por estudantes regularmente matriculados(as) em curso de Doutorado no Brasil, em que o(a) estudante após o período de estudos no exterior, dentro do prazo regulamentar estabelecido pela Capes, retorna ao Brasil para conclusão e defesa da sua tese.\n\nProfessor Visitante no Exterior (3 a 12 meses)\nProfessor Visitante no Exterior: tem, por finalidade, a realização de visitas e orientações, docência em cursos e aulas, bem como o desenvolvimento de atividades de pesquisa, em Instituição de Ensino Superior estrangeira e em institutos ou centros de pesquisa e desenvolvimento no exterior, sendo destinada a professores(as) ou pesquisadores(as) com vínculo empregatício com Instituições de Ensino Superior e institutos e centros de pesquisa do Brasil e cuja formação e experiência profissional representem uma contribuição inovadora, subdividindo-se nas tipologias:\n\na) Sênior: destinada a professores(as) ou pesquisadores(as) com vínculo empregatício com Instituições de Ensino Superior e institutos e centros de pesquisa do Brasil, com titulação obtida há mais de dez anos, e que possua produção científica compatível com os requisitos do instrumento de seleção; e\n\nb) Júnior: destinada a professores(as) ou pesquisadores(as) com vínculo empregatício com Instituições de Ensino Superior e institutos e centros de pesquisa do Brasil, com titulação obtida há, no máximo, dez anos, e que possua produção científica compatível com os requisitos do instrumento de seleção;\n\nCapacitação em cursos de curta duração/Summer/winter schools (até 3 meses)\nCapacitação: tem, por finalidade, o desenvolvimento de capacidade técnica, científica ou pedagógica, para fortalecimento institucional por meio da qualificação de recursos humanos.\n ",null,"Bolsas no País\n\nProfessor Visitante no Brasil (15 dias a 12 meses)\nProfessor  visitante  no  Brasil:  para  atração  de  professores  de renome  atuantes  e residentes   no   exterior   para   proferir cursos, treinamentos,   palestras   ou  seminários presenciais, com vigência mínima de 15 dias e máxima de 12 meses, divididos em até 3 períodos ao longo da duração do Projeto Institucional de Internacionalização.\n\nJovem talento com experiência no exterior (6 a 36 meses)\npara jovens pesquisadores de talento, brasileiros ou estrangeiros, residindo no exterior com relevante experiência acadêmico-científica internacional comprovada (como mestrado ou doutorado plenos, ou mestrado ou doutorado sanduíche por no mínimo doze meses) para realização de atividades de pesquisa ou docência.\n\nPós-doutorado com experiência no exterior (6 a 36 meses)\npara atração de pesquisadores ou docentes, brasileiros ou estrangeiros, residentes no Brasil ou no exterior que tenham relevante experiência acadêmico-científica no exterior (como doutorado pleno ou pós-doutorado por no mínimo doze meses), para realização de atividades de pesquisa ou docência, com vigência mínima de 6 meses e máxima de 36 meses, dentro da duração do Projeto Institucional de Internacionalização"]
["Fonte: Portaria CAPES nº 289/2018 , 28 de dezembro 2018 e Edital CAPES 41/2017"]
[]
[]
[]
[]
[]
[]
[]
[]
[]
[]
[]
[]
[]
[]
[]
[]
[]
[]
[null,null,null,null,null,null,null,null,null,null,null,null,"ATENÇÃO\nINSTRUÇÕES GERAIS:"]
[null,null,null,null,null,null,null,null,null,null,null,null,"1- Preencher apenas as células com campos verde >>>>>",null,null,"Verde"]
[null,null,null,null,null,null,null,null,null,null,null,null,"2-Abaixo, preencher o nome do Programa, selecionar o Tema e preencher o Título do Projeto\n3- Na parte inferior do Excel, acessar as guias \"Bolsas\", \"Manutenção\" e preencher ou alterar as células com campos verde"]
[]
[]
[]
[]
[]
[]
[]
[]
[]
[]
[]
[]
[]
[]
[]
[]
[]
[]
[]
[]
[]
[]
[]
[]
[]
[]
[]
[]
[]
[]
[]
[]
[]
[]
[]
[]
[]
[]
[]
[]
[]
[]
[]
[]
[]
[]
[]
[]
[]
[]
[]
[]
[]
[]
[]
[]
[]
[]
[]
[]
[]
[]
[]
[]
[]
[]
[]
[]
[]
[]
[]
[]
[]
[]
[]
[]
[]
[]
[]
[]
[]
[]
[]
[]
[]
[]
[]
[]
[]
[]
[]
[]
[]
[]
[]
[]
[]
[]
[]
[]
[]
[]
[]
[]
[]
[]
[]
[]
[]
[]
[]
[]
[]
[]
[]
[]
[]
[]
[]
[]
[]
[]
[]
[]
[]
[]
[]
[]
[]
[]
[]
[]
[]
[]
[]
[]
[]
[]
[]
[]
[]
[]
[]
[]
[]
[]
[]
[]
[]
[]
[]
[]
[]
[]
[]
[]
[]
[]
[]
[]
[]
[]
[]
[]
[]
[]
[]
[]
[]
[]
[]
[]
[]
[]
[]
[]
[]
[]
[]
[]
[]
[]
[]
[]
[]
[]
[]
[]
[]
[]
[]
[]
[]
[]
[]
[]
[]
[]
[]
[]
[]
[]
[]
[]
[]
[]
[]
[]
[]
[]
[]
[]
[]
[]
[]
[]
[]
[]
[]
[]
[]
[]
[]
[]
[]
[]
[]
[]
[]
[]
[]
[]
[]
[]
[]
[]
[]
[]
[]
[]
[]
[]
[]
[]
[]
[]
[]
[]
[]
[]
[]
[]
[]
[]
[]
[]
[]
[]
[]
[]
[]
[]
[]
[]
[]
[]
[]
[]
[]
[]
[]
[]
[]
[]
[]
[]
[]
[]
[]
[]
[]
[]
[]
[]
[]
[]
[]
[]
[]
[]
[]
[]
[]
[]
[]
[]
[]
[]
[]
[]
[]
[]
[]
[]
[]
[]
[]
[]
[]
[]
[]
[]
[]
[]
[]
[]
[]
[]
[]
[]
[]
[]
[]
[]
[]
[]
[]
[]
[]
[]
[]
[]
[]
[]
[]
[]
[]
[]
[]
[]
[]
[]
[]
[]
[]
[]
[]
[]
[]
[]
[]
[]
[]
[]
[]
[]
[]
[]
[]
[]
[]
[]
[]
[]
[]
[]
[]
[]
[]
[]
[]
[]
[]
[]
[]
[]
[]
[]
[]
[]
[]
[]
[]
[]
[]
[]
[]
[]
[]
[]
[]
[]
[]
[]
[]
[]
[]
[]
[]
[]
[]
[]
[]
[]
[]
[]
[]
[]
[]
[]
[]
[]
[]
[]
[]
[]
[]
[]
[]
[]
[]
[]
[]
[]
[]
[]
[]
[]
[]
[]
[]
[]
[]
[]
[]
[]
[]
[]
[]
[]
[]
[]
[]
[]
[]
[]
[]
[]
[]
[]
[]
[]
[]
[]
[]
[]
[]
[]
[]
[]
[]
[]
[]
[]
[]
[]
[]
[]
[]
[]
[]
[]
[]
[]
[]
[]
[]
[]
[]
[]
[]
[]
[]
[]
[]
[]
[]
[]
[]
[]
[]
[]
[]
[]
[]
[]
[]
[]
[]
[]
[]
[]
[]
[]
[]
[]
[]
[]
[]
[]
[]
[]
[]
[]
[]
[]
[]
[]
[]
[]
[]
[]
[]
[]
[]
[]
[]
[]
[]
[]
[]
[]
[]
[]
[]
[]
[]
[]
[]
[]
[]
[]
[]
[]
[]
[]
[]
[]
[]
[]
[]
[]
[]
[]
[]
[]
[]
[]
[]
[]
[]
[]
[]
[]
[]
[]
[]
[]
[]
[]
[]
[]
[]
[]
[]
[]
[]
[]
[]
[]
[]
[]
[]
[]
[]
[]
[]
[]
[]
[]
[]
[]
[]
[]
[]
[]
[]
[]
[]
[]
[]
[]
[]
[]
[]
[]
[]
[]
[]
[]
[]
[]
[]
[]
[]
[]
[]
[]
[]
[]
[]
[]
[]
[]
[]
[]
[]
[]
[]
[]
[]
[]
[]
[]
[]
[]
[]
[]
[]
[]
[]
[]
[]
[]
[]
[]
[]
[]
[]
[]
[]
[]
[]
[]
[]
[]
[]
[]
[]
[]
[]
[]
[]
[]
[]
[]
[]
[]
[]
[]
[]
[]
[]
[]
[]
[]
[]
[]
[]
[]
[]
[]
[]
[]
[]
[]
[]
[]
[]
[]
[]
[]
[]
[]
[]
[]
[]
[]
[]
[]
[]
[]
[]
[]
[]
[]
[]
[]
[]
[]
[]
[]
[]
[]
[]
[]
[]
[]
[]
[]
[]
[]
[]
[]
[]
[]
[]
[]
[]
[]
[]
[]
[]
[]
[]
[]
[]
[]
[]
[]
[]
[]
[]
[]
[]
[]
[]
[]
[]
[]
[]
[]
[]
[]
[]
[]
[]
[]
[]
[]
[]
[]
[]
[]
[]
[]
[]
[]
[]
[]
[]
[]
[]
[]
[]
[]
[]
[]
[]
[]
[]
[]
[]
[]
[]
[]
[]
[]
[]
[]
[]
[]
[]
[]
[]
[]
[]
[]
[]
[]
[]
[]
[]
[]
[]
[]
[]
[]
[]
[]
[]
[]
[]
[]
[]
[]
[]
[]
[]
[]
[]
[]
[]
[]
[]
[]
[]
[]
[]
[]
[]
[]
[]
[]
[]
[]
[]
[]
[]
[]
[]
[]
[]
[]
[]
[]
[]
[]
[]
[]
[]
[]
[]
[]
[]
[]
[]
[]
[]
[]
[]
[]
[]
[]
[]
[]
[]
[]
[]
[]
[]
[]
[]
[]
[]
[]
[]
[]
[]
[]
[]
[]
[]
[]
[]
[]
[]
[]
[]
[]
[]
[]
[]
[]
[]
[]
[]
[]
[]
[]
[]
[]
[]
[]
[]
[]
[]
[]
[]
[]
[]
[]
[]
[]
[]
[]
[]
[]
[]
[]
[]
[]
[]
[]
[]
[]
[]
[]
[]
[]
[]
[]
[]
[]
[]
[]
[]
[]
[]
[]
[]
[]
[]
[]
[]
[]
[]
[]
[]
[]
[]
[]
[]
[]
[]
[]
[]
[]
[]
[]
[]
[]
[]
[]
[]
[]
[]
[]
[]
[]
[]
[]
[]
[]
[]
[]
[]
[]
[]
[]
[]
[]
[]
[]
[]
[]
[]
[]
[]
[]
[]
[]
[]
[]
[]
[]
[]
[]
[]
[]
[]
[]
[]
[]
[]
[]
[]
[]
[]
[]
[]
[]
[]
[]
[]
[]
[]
[]
[]
[]
[]
[]
[]
[]
[]
[]
[]
[]
[]
[]
[]
[]
[]
[]
[]
[]
[]
[]
[]
[]
[]
[]
[]
[]
[]
[]
[]
[]
[]
[]
[]
[]
[]
[]
[]
[]
[]
[]
[]
[]
[]
[]
[]
[]
[]
[]
[]
[]
[]
[]
[]
[]
[]
[]
[]
[]
[]
[]
[]
[]
[]
[]
[]
[]
[]
[]
[]
[]
[]
[]
[]
[]
[]
[]
[]
[]
[]
[]
[]
[]
[]
[]
[]
[]
[]
[]
[]
[]
[]
[]
[]
[]
[]
[]
[]
[]
[]
[]
[]
[]
[]
[]
[]
[]
[]
[]
[]
[]
[]
[]
[]
[]
[]
[]
[]
[]
[]
[]
[]
[]
[]
[]
[]
[]
[]
[]
[]
[]
[]
[]
[]
[]
[]
[]
[]
[]
[]
[]
[]
[]
[]
[]
[]
[]
[]
[]
[]
[]
[]
[]
[]
[]
[]
[]
[]
[]
[]
[]
[]
[]
[]
[]
[]
[]
[]
[]
[]
[]
[]
[]
[]
[]
[]
[]
[]
[]
[]
[]
[]
[]
[]
[]
[]
[]
[]
[]
[]
[]
[]
[]
[]
[]
[]
[]
[]
[]
[]
[]
[]
[]
[]
[]
[]
[]
[]
[]
[]
[]
[]
[]
[]
[]
[]
[]
[]
[]
[]
[]
[]
[]
[]
[]
[]
[]
[]
[]
[]
[]
[]
[]
[]
[]
[]
[]
[]
[]
[]
[]
[]
[]
[]
[]
[]
[]
[]
[]
[]
[]
[]
[]
[]
[]
[]
[]
[]
[]
[]
[]
[]
[]
[]
[]
[]
[]
[]
[]
[]
[]
[]
[]
[]
[]
[]
[]
[]
[]
[]
[]
[]
[]
[]
[]
[]
[]
[]
[]
[]
[]
[]
[]
[]
[]
[]
[]
[]
[]
[]
[]
[]
[]
[]
[]
[]
[]
[]
[]
[]
[]
[]
[]
[]
[]
[]
[]
[]
[]
[]
[]
[]
[]
[]
[]
[]
[]
[]
[]
[]
[]
[]
[]
[]
[]
[]
[]
[]
[]
[]
[]
[]
[]
[]
[]
[]
[]
[]
[]
[]
[]
[]
[]
[]
[]
[]
[]
[]
[]
[]
[]
[]
[]
[]
[]
[]
[]
[]
[]
[]
[]
[]
[]
[]
[]
[]
[]
[]
[]
[]
[]
[]
[]
[]
[]
[]
[]
[]
[]
[]
[]
[]
[]
[]
[]
[]
[]
[]
[]
[]
[]
[]
[]
[]
[]
[]
[]
[]
[]
[]
[]
[]
[]
[]
[]
[]
[]
[]
[]
[]
[]
[]
[]
[]
[]
[]
[]
[]
[]
[]
[]
[]
[]
[]
[]
[]
[]
[]
[]
[]
[]
[]
[]
[]
[]
[]
[]
[]
[]
[]
[]
[]
[]
[]
[]
[]
[]
[]
[]
[]
[]
[]
[]
[]
[]
[]
[]
[]
[]
[]
[]
[]
[]
[]
[]
[]
[]
[]
[]
[]
[]
[]
[]
[]
[]
[]
[]
[]
[]
[]
[]
[]
[]
[]
[]
[]
[]
[]
[]
[]
[]
[]
[]
[]
[]
[]
[]
[]
[]
[]
[]
[]
[]
[]
[]
[]
[]
[]
[]
[]
[]
[]
[]
[]
[]
[]
[]
[]
[]
[]
[]
[]
[]
[]
[]
[]
[]
[]
[]
[]
[]
[]
[]
[]
[]
[]
[]
[]
[]
[]
[]
[]
[]
[]
[]
[]
[]
[]
[]
[]
[]
[]
[]
[]
[]
[]
[]
[]
[]
[]
[]
[]
[]
[]
[]
[]
[]
[]
[]
[]
[]
[]
[]
[]
[]
[]
[]
[]
[]
[]
[]
[]
[]
[]
[]
[]
[]
[]
[]
[]
[]
[]
[]
[]
[]
[]
[]
[]
[]
[]
[]
[]
[]
[]
[]
[]
[]
[]
[]
[]
[]
[]
[]
[]
[]
[]
[]
[]
[]
[]
[]
[]
[]
[]
[]
[]
[]
[]
[]
[]
[]
[]
[]
[]
[]
[]
[]
[]
[]
[]
[]
[]
[]
[]
[]
[]
[]
[]
[]
[]
[]
[]
[]
[]
[]
[]
[]
[]
[]
[]
[]
[]
[]
[]
[]
[]
[]
[]
[]
[]
[]
[]
[]
[]
[]
[]
[]
[]
[]
[]
[]
[]
[]
[]
[]
[]
[]
[]
[]
[]
[]
[]
[]
[]
[]
[]
[]
[]
[]
[]
[]
[]
[]
[]
[]
[]
[]
[]
[]
[]
[]
[]
[]
[]
[]
[]
[]
[]
[]
[]
[]
[]
[]
[]
[]
[]
[]
[]
[]
[]
[]
[]
[]
[]
[]
[]
[]
[]
[]
[]
[]
[]
[]
[]
[]
[]
[]
[]
[]
[]
[]
[]
[]
[]
[]
[]
[]
[]
[]
[]
[]
[]
[]
[]
[]
[]
[]
[]
[]
[]
[]
[]
[]
[]
[]
[]
[]
[]
[]
[]
[]
[]
[]
[]
[]
[]
[]
[]
[]
[]
[]
[]
[]
[]
[]
[]
[]
[]
[]
[]
[]
[]
[]
[]
[]
[]
[]
[]
[]
[]
[]
[]
[]
[]
[]
[]
[]
[]
[]
[]
[]
[]
[]
[]
[]
[]
[]
[]
[]
[]
[]
[]
[]
[]
[]
[]
[]
[]
[]
[]
[]
[]
[]
[]
[]
[]
[]
[]
[]
[]
[]
[]
[]
[]
[]
[]
[]
[]
[]
[]
[]
[]
[]
[]
[]
[]
[]
[]
[]
[]
[]
[]
[]
[]
[]
[]
[]
[]
[]
[]
[]
[]
[]
[]
[]
[]
[]
[]
[]
[]
[]
[]
[]
[]
[]
[]
[]
[]
[]
[]
[]
[]
[]
[]
[]
[]
[]
[]
[]
[]
[]
[]
[]
[]
[]
[]
[]
[]
[]
[]
[]
[]
[]
[]
[]
[]
[]
[]
[]
[]
[]
[]
[]
[]
[]
[]
[]
[]
[]
[]
[]
[]
[]
[]
[]
[]
[]
[]
[]
[]
[]
[]
[]
[]
[]
[]
[]
[]
[]
[]
[]
[]
[]
[]
[]
[]
[]
[]
[]
[]
[]
[]
[]
[]
[]
[]
[]
[]
[]
[]
[]
[]
[]
[]
[]
[]
[]
[]
[]
[]
[]
[]
[]
[]
[]
[]
[]
[]
[]
[]
[]
[]
[]
[]
[]
[]
[]
[]
[]
[]
[]
[]
[]
[]
[]
[]
[]
[]
[]
[]
[]
[]
[]
[]
[]
[]
[]
[]
[]
[]
[]
[]
[]
[]
[]
[]
[]
[]
[]
[]
[]
[]
[]
[]
[]
[]
[]
[]
[]
[]
[]
[]
[]
[]
[]
[]
[]
[]
[]
[]
[]
[]
[]
[]
[]
[]
[]
[]
[]
[]
[]
[]
[]
[]
[]
[]
[]
[]
[]
[]
[]
[]
[]
[]
[]
[]
[]
[]
[]
[]
[]
[]
[]
[]
[]
[]
[]
[]
[]
[]
[]
[]
[]
[]
[]
[]
[]
[]
[]
[]
[]
[]
[]
[]
[]
[]
[]
[]
[]
[]
[]
[]
[]
[]
[]
[]
[]
[]
[]
[]
[]
[]
[]
[]
[]
[]
[]
[]
[]
[]
[]
[]
[]
[]
[]
[]
[]
[]
[]
[]
[]
[]
[]
[]
[]
[]
[]
[]
[]
[]
[]
[]
[]
[]
[]
[]
[]
[]
[]
[]
[]
[]
[]
[]
[]
[]
[]
[]
[]
[]
[]
[]
[]
[]
[]
[]
[]
[]
[]
[]
[]
[]
[]
[]
[]
[]
[]
[]
[]
[]
[]
[]
[]
[]
[]
[]
[]
[]
[]
[]
[]
[]
[]
[]
[]
[]
[]
[]
[]
[]
[]
[]
[]
[]
[]
[]
[]
[]
[]
[]
[]
[]
[]
[]
[]
[]
[]
[]
[]
[]
[]
[]
[]
[]
[]
[]
[]
[]
[]
[]
[]
[]
[]
[]
[]
[]
[]
[]
[]
[]
[]
[]
[]
[]
[]
[]
[]
[]
[]
[]
[]
[]
[]
[]
[]
[]
[]
[]
[]
[]
[]
[]
[]
[]
[]
[]
[]
[]
[]
[]
[]
[]
[]
[]
[]
[]
[]
[]
[]
[]
[]
[]
[]
[]
[]
[]
[]
[]
[]
[]
[]
[]
[]
[]
[]
[]
[]
[]
[]
[]
[]
[]
[]
[]
[]
[]
[]
[]
[]
[]
[]
[]
[]
[]
[]
[]
[]
[]
[]
[]
[]
[]
[]
[]
[]
[]
[]
[]
[]
[]
[]
[]
[]
[]
[]
[]
[]
[]
[]
[]
[]
[]
[]
[]
[]
[]
[]
[]
[]
[]
[]
[]
[]
[]
[]
[]
[]
[]
[]
[]
[]
[]
[]
[]
[]
[]
[]
[]
[]
[]
[]
[]
[]
[]
[]
[]
[]
[]
[]
[]
[]
[]
[]
[]
[]
[]
[]
[]
[]
[]
[]
[]
[]
[]
[]
[]
[]
[]
[]
[]
[]
[]
[]
[]
[]
[]
[]
[]
[]
[]
[]
[]
[]
[]
[]
[]
[]
[]
[]
[]
[]
[]
[]
[]
[]
[]
[]
[]
[]
[]
[]
[]
[]
[]
[]
[]
[]
[]
[]
[]
[]
[]
[]
[]
[]
[]
[]
[]
[]
[]
[]
[]
[]
[]
[]
[]
[]
[]
[]
[]
[]
[]
[]
[]
[]
[]
[]
[]
[]
[]
[]
[]
[]
[]
[]
[]
[]
[]
[]
[]
[]
[]
[]
[]
[]
[]
[]
[]
[]
[]
[]
[]
[]
[]
[]
[]
[]
[]
[]
[]
[]
[]
[]
[]
[]
[]
[]
[]
[]
[]
[]
[]
[]
[]
[]
[]
[]
[]
[]
[]
[]
[]
[]
[]
[]
[]
[]
[]
[]
[]
[]
[]
[]
[]
[]
[]
[]
[]
[]
[]
[]
[]
[]
[]
[]
[]
[]
[]
[]
[]
[]
[]
[]
[]
[]
[]
[]
[]
[]
[]
[]
[]
[]
[]
[]
[]
[]
[]
[]
[]
[]
[]
[]
[]
[]
[]
[]
[]
[]
[]
[]
[]
[]
[]
[]
[]
[]
[]
[]
[]
[]
[]
[]
[]
[]
[]
[]
[]
[]
[]
[]
[]
[]
[]
[]
[]
[]
[]
[]
[]
[]
[]
[]
[]
[]
[]
[]
[]
[]
[]
[]
[]
[]
[]
[]
[]
[]
[]
[]
[]
[]
[]
[]
[]
[]
[]
[]
[]
[]
[]
[]
[]
[]
[]
[]
[]
[]
[]
[]
[]
[]
[]
[]
[]
[]
[]
[]
[]
[]
[]
[]
[]
[]
[]
[]
[]
[]
[]
[]
[]
[]
[]
[]
[]
[]
[]
[]
[]
[]
[]
[]
[]
[]
[]
[]
[]
[]
[]
[]
[]
[]
[]
[]
[]
[]
[]
[]
[]
[]
[]
[]
[]
[]
[]
[]
[]
[]
[]
[]
[]
[]
[]
[]
[]
[]
[]
[]
[]
[]
[]
[]
[]
[]
[]
[]
[]
[]
[]
[]
[]
[]
[]
[]
[]
[]
[]
[]
[]
[]
[]
[]
[]
[]
[]
[]
[]
[]
[]
[]
[]
[]
[]
[]
[]
[]
[]
[]
[]
[]
[]
[]
[]
[]
[]
[]
[]
[]
[]
[]
[]
[]
[]
[]
[]
[]
[]
[]
[]
[]
[]
[]
[]
[]
[]
[]
[]
[]
[]
[]
[]
[]
[]
[]
[]
[]
[]
[]
[]
[]
[]
[]
[]
[]
[]
[]
[]
[]
[]
[]
[]
[]
[]
[]
[]
[]
[]
[]
[]
[]
[]
[]
[]
[]
[]
[]
[]
[]
[]
[]
[]
[]
[]
[]
[]
[]
[]
[]
[]
[]
[]
[]
[]
[]
[]
[]
[]
[]
[]
[]
[]
[]
[]
[]
[]
[]
[]
[]
[]
[]
[]
[]
[]
[]
[]
[]
[]
[]
[]
[]
[]
[]
[]
[]
[]
[]
[]
[]
[]
[]
[]
[]
[]
[]
[]
[]
[]
[]
[]
[]
[]
[]
[]
[]
[]
[]
[]
[]
[]
[]
[]
[]
[]
[]
[]
[]
[]
[]
[]
[]
[]
[]
[]
[]
[]
[]
[]
[]
[]
[]
[]
[]
[]
[]
[]
[]
[]
[]
[]
[]
[]
[]
[]
[]
[]
[]
[]
[]
[]
[]
[]
[]
[]
[]
[]
[]
[]
[]
[]
[]
[]
[]
[]
[]
[]
[]
[]
[]
[]
[]
[]
[]
[]
[]
[]
[]
[]
[]
[]
[]
[]
[]
[]
[]
[]
[]
[]
[]
[]
[]
[]
[]
[]
[]
[]
[]
[]
[]
[]
[]
[]
[]
[]
[]
[]
[]
[]
[]
[]
[]
[]
[]
[]
[]
[]
[]
[]
[]
[]
[]
[]
[]
[]
[]
[]
[]
[]
[]
[]
[]
[]
[]
[]
[]
[]
[]
[]
[]
[]
[]
[]
[]
[]
[]
[]
[]
[]
[]
[]
[]
[]
[]
[]
[]
[]
[]
[]
[]
[]
[]
[]
[]
[]
[]
[]
[]
[]
[]
[]
[]
[]
[]
[]
[]
[]
[]
[]
[]
[]
[]
[]
[]
[]
[]
[]
[]
[]
[]
[]
[]
[]
[]
[]
[]
[]
[]
[]
[]
[]
[]
[]
[]
[]
[]
[]
[]
[]
[]
[]
[]
[]
[]
[]
[]
[]
[]
[]
[]
[]
[]
[]
[]
[]
[]
[]
[]
[]
[]
[]
[]
[]
[]
[]
[]
[]
[]
[]
[]
[]
[]
[]
[]
[]
[]
[]
[]
[]
[]
[]
[]
[]
[]
[]
[]
[]
[]
[]
[]
[]
[]
[]
[]
[]
[]
[]
[]
[]
[]
[]
[]
[]
[]
[]
[]
[]
[]
[]
[]
[]
[]
[]
[]
[]
[]
[]
[]
[]
[]
[]
[]
[]
[]
[]
[]
[]
[]
[]
[]
[]
[]
[]
[]
[]
[]
[]
[]
[]
[]
[]
[]
[]
[]
[]
[]
[]
[]
[]
[]
[]
[]
[]
[]
[]
[]
[]
[]
[]
[]
[]
[]
[]
[]
[]
[]
[]
[]
[]
[]
[]
[]
[]
[]
[]
[]
[]
[]
[]
[]
[]
[]
[]
[]
[]
[]
[]
[]
[]
[]
[]
[]
[]
[]
[]
[]
[]
[]
[]
[]
[]
[]
[]
[]
[]
[]
[]
[]
[]
[]
[]
[]
[]
[]
[]
[]
[]
[]
[]
[]
[]
[]
[]
[]
[]
[]
[]
[]
[]
[]
[]
[]
[]
[]
[]
[]
[]
[]
[]
[]
[]
[]
[]
[]
[]
[]
[]
[]
[]
[]
[]
[]
[]
[]
[]
[]
[]
[]
[]
[]
[]
[]
[]
[]
[]
[]
[]
[]
[]
[]
[]
[]
[]
[]
[]
[]
[]
[]
[]
[]
[]
[]
[]
[]
[]
[]
[]
[]
[]
[]
[]
[]
[]
[]
[]
[]
[]
[]
[]
[]
[]
[]
[]
[]
[]
[]
[]
[]
[]
[]
[]
[]
[]
[]
[]
[]
[]
[]
[]
[]
[]
[]
[]
[]
[]
[]
[]
[]
[]
[]
[]
[]
[]
[]
[]
[]
[]
[]
[]
[]
[]
[]
[]
[]
[]
[]
[]
[]
[]
[]
[]
[]
[]
[]
[]
[]
[]
[]
[]
[]
[]
[]
[]
[]
[]
[]
[]
[]
[]
[]
[]
[]
[]
[]
[]
[]
[]
[]
[]
[]
[]
[]
[]
[]
[]
[]
[]
[]
[]
[]
[]
[]
[]
[]
[]
[]
[]
[]
[]
[]
[]
[]
[]
[]
[]
[]
[]
[]
[]
[]
[]
[]
[]
[]
[]
[]
[]
[]
[]
[]
[]
[]
[]
[]
[]
[]
[]
[]
[]
[]
[]
[]
[]
[]
[]
[]
[]
[]
[]
[]
[]
[]
[]
[]
[]
[]
[]
[]
[]
[]
[]
[]
[]
[]
[]
[]
[]
[]
[]
[]
[]
[]
[]
[]
[]
[]
[]
[]
[]
[]
[]
[]
[]
[]
[]
[]
[]
[]
[]
[]
[]
[]
[]
[]
[]
[]
[]
[]
[]
[]
[]
[]
[]
[]
[]
[]
[]
[]
[]
[]
[]
[]
[]
[]
[]
[]
[]
[]
[]
[]
[]
[]
[]
[]
[]
[]
[]
[]
[]
[]
[]
[]
[]
[]
[]
[]
[]
[]
[]
[]
[]
[]
[]
[]
[]
[]
[]
[]
[]
[]
[]
[]
[]
[]
[]
[]
[]
[]
[]
[]
[]
[]
[]
[]
[]
[]
[]
[]
[]
[]
[]
[]
[]
[]
[]
[]
[]
[]
[]
[]
[]
[]
[]
[]
[]
[]
[]
[]
[]
[]
[]
[]
[]
[]
[]
[]
[]
[]
[]
[]
[]
[]
[]
[]
[]
[]
[]
[]
[]
[]
[]
[]
[]
[]
[]
[]
[]
[]
[]
[]
[]
[]
[]
[]
[]
[]
[]
[]
[]
[]
[]
[]
[]
[]
[]
[]
[]
[]
[]
[]
[]
[]
[]
[]
[]
[]
[]
[]
[]
[]
[]
[]
[]
[]
[]
[]
[]
[]
[]
[]
[]
[]
[]
[]
[]
[]
[]
[]
[]
[]
[]
[]
[]
[]
[]
[]
[]
[]
[]
[]
[]
[]
[]
[]
[]
[]
[]
[]
[]
[]
[]
[]
[]
[]
[]
[]
[]
[]
[]
[]
[]
[]
[]
[]
[]
[]
[]
[]
[]
[]
[]
[]
[]
[]
[]
[]
[]
[]
[]
[]
[]
[]
[]
[]
[]
[]
[]
[]
[]
[]
[]
[]
[]
[]
[]
[]
[]
[]
[]
[]
[]
[]
[]
[]
[]
[]
[]
[]
[]
[]
[]
[]
[]
[]
[]
[]
[]
[]
[]
[]
[]
[]
[]
[]
[]
[]
[]
[]
[]
[]
[]
[]
[]
[]
[]
[]
[]
[]
[]
[]
[]
[]
[]
[]
[]
[]
[]
[]
[]
[]
[]
[]
[]
[]
[]
[]
[]
[]
[]
[]
[]
[]
[]
[]
[]
[]
[]
[]
[]
[]
[]
[]
[]
[]
[]
[]
[]
[]
[]
[]
[]
[]
[]
[]
[]
[]
[]
[]
[]
[]
[]
[]
[]
[]
[]
[]
[]
[]
[]
[]
[]
[]
[]
[]
[]
[]
[]
[]
[]
[]
[]
[]
[]
[]
[]
[]
[]
[]
[]
[]
[]
[]
[]
[]
[]
[]
[]
[]
[]
[]
[]
[]
[]
[]
[]
[]
[]
[]
[]
[]
[]
[]
[]
[]
[]
[]
[]
[]
[]
[]
[]
[]
[]
[]
[]
[]
[]
[]
[]
[]
[]
[]
[]
[]
[]
[]
[]
[]
[]
[]
[]
[]
[]
[]
[]
[]
[]
[]
[]
[]
[]
[]
[]
[]
[]
[]
[]
[]
[]
[]
[]
[]
[]
[]
[]
[]
[]
[]
[]
[]
[]
[]
[]
[]
[]
[]
[]
[]
[]
[]
[]
[]
[]
[]
[]
[]
[]
[]
[]
[]
[]
[]
[]
[]
[]
[]
[]
[]
[]
[]
[]
[]
[]
[]
[]
[]
[]
[]
[]
[]
[]
[]
[]
[]
[]
[]
[]
[]
[]
[]
[]
[]
[]
[]
[]
[]
[]
[]
[]
[]
[]
[]
[]
[]
[]
[]
[]
[]
[]
[]
[]
[]
[]
[]
[]
[]
[]
[]
[]
[]
[]
[]
[]
[]
[]
[]
[]
[]
[]
[]
[]
[]
[]
[]
[]
[]
[]
[]
[]
[]
[]
[]
[]
[]
[]
[]
[]
[]
[]
[]
[]
[]
[]
[]
[]
[]
[]
[]
[]
[]
[]
[]
[]
[]
[]
[]
[]
[]
[]
[]
[]
[]
[]
[]
[]
[]
[]
[]
[]
[]
[]
[]
[]
[]
[]
[]
[]
[]
[]
[]
[]
[]
[]
[]
[]
[]
[]
[]
[]
[]
[]
[]
[]
[]
[]
[]
[]
[]
[]
[]
[]
[]
[]
[]
[]
[]
[]
[]
[]
[]
[]
[]
[]
[]
[]
[]
[]
[]
[]
[]
[]
[]
[]
[]
[]
[]
[]
[]
[]
[]
[]
[]
[]
[]
[]
[]
[]
[]
[]
[]
[]
[]
[]
[]
[]
[]
[]
[]
[]
[]
[]
[]
[]
[]
[]
[]
[]
[]
[]
[]
[]
[]
[]
[]
[]
[]
[]
[]
[]
[]
[]
[]
[]
[]
[]
[]
[]
[]
[]
[]
[]
[]
[]
[]
[]
[]
[]
[]
[]
[]
[]
[]
[]
[]
[]
[]
[]
[]
[]
[]
[]
[]
[]
[]
[]
[]
[]
[]
[]
[]
[]
[]
[]
[]
[]
[]
[]
[]
[]
[]
[]
[]
[]
[]
[]
[]
[]
[]
[]
[]
[]
[]
[]
[]
[]
[]
[]
[]
[]
[]
[]
[]
[]
[]
[]
[]
[]
[]
[]
[]
[]
[]
[]
[]
[]
[]
[]
[]
[]
[]
[]
[]
[]
[]
[]
[]
[]
[]
[]
[]
[]
[]
[]
[]
[]
[]
[]
[]
[]
[]
[]
[]
[]
[]
[]
[]
[]
[]
[]
[]
[]
[]
[]
[]
[]
[]
[]
[]
[]
[]
[]
[]
[]
[]
[]
[]
[]
[]
[]
[]
[]
[]
[]
[]
[]
[]
[]
[]
[]
[]
[]
[]
[]
[]
[]
[]
[]
[]
[]
[]
[]
[]
[]
[]
[]
[]
[]
[]
[]
[]
[]
[]
[]
[]
[]
[]
[]
[]
[]
[]
[]
[]
[]
[]
[]
[]
[]
[]
[{"$f":"1+1","v":2}]

{"sheet":"Bolsas","index":1,"n_rows":50,"n_cols":59,"rows_kept":50,"cut":false,"hidden":false,"merged":[[12,1,12,17],[0,52,0,58],[5,23,10,27],[12,23,12,37],[4,1,4,17],[4,23,4,37],[5,1,6,1],[5,4,6,7],[9,1,10,1],[7,1,8,1],[7,4,8,7],[9,4,10,7]]}
[null,{"$f":"'Nome do Projeto'!A1","v":"UNIVERSIDADE DO ESTADO DO RIO DE JANEIRO"},null,null,null,null,null,null,null,null,null,null,null,null,null,null,null,null,null,null,null,null,null,null,null,null,null,null,null,null,null,null,null,null,null,null,null,null,null,null,null,null,null,"Bolsas por ano de início",null,null,null,null,null,null,null,null,"Bolsas - Valores totais por ano"]
[null,"PRÓ-REITORIA DE PÓS-GRADUAÇÃO E PESQUISA - PR2",null,null,null,null,null,null,null,null,null,null,null,null,null,null,null,null,null,null,null,null,null,null,null,null,null,null,null,null,null,null,null,null,null,null,null,null,null,null,null,null,null,"Bolsas",2018,2019,2020,2021,2022,"Totais",null,null,"Bolsas",2018,2019,2020,2021,2022,"Totais"]
[null,"PLANILHA DE REFERÊNCIA PARA REMANEJAMENTOS/ALTERAÇÕES - 2024",null,null,null,null,null,null,null,null,null,null,null,null,null,null,null,null,null,null,null,null,null,null,null,null,null,null,null,null,null,null,null,null,null,null,null,null,null,null,null,null,null,{"$f":"Controles!A7","v":"Professor Visitante no Brasil "},{"$f":"COUNTIFS($B:$B,$AR3,$E:$E,AS$2)","v":0},0,0,0,0,{"$f":"SUM(AS3:AW3)","v":0},{"$f":"VLOOKUP(AR3,Controles!A:I,7,FALSE)","v":0.5},{"$f":"VLOOKUP(AR3,Controles!A:I,9,FALSE)","v":12},{"$f":"Controles!A7","v":"Professor Visitante no Brasil "},{"$f":"SUMIFS($R:$R,$E:$E,BB$2,$B:$B,$BA3)","v":0},0,0,0,0,{"$f":"SUM(BB3:BF3)","v":0}]
[null,"COORDENADORIA DE GESTÃO DE PROJETOS INSTITUCIONAIS",null,null,null,null,null,null,null,null,null,null,null,null,null,null,null,null,null,null,null,null,null,null,null,null,null,null,null,null,null,null,null,null,null,null,null,null,null,null,null,null,null,{"$f":"Controles!A8","v":"Jovem Talento com Experiência no Exterior "},0,0,0,0,0,{"$f":"SUM(AS4:AW4)","v":0},{"$f":"VLOOKUP(AR4,Controles!A:I,7,FALSE)","v":6},{"$f":"VLOOKUP(AR4,Controles!A:I,9,FALSE)","v":36},{"$f":"Controles!A8","v":"Jovem Talento com Experiência no Exterior "},0,0,0,0,0,{"$f":"SUM(BB4:BF4)","v":0}]
[null,"PLANO DE TRABALHO ATUAL - 2024",null,null,null,null,null,null,null,null,null,null,null,null,null,null,null,null,null,null,null,null,null,"PLANO DE TRABALHO SOLICITADO - 2024"]
[null,"Coordenador(a):",null,null,"SELECIONE",null,null,null,"Anos",null,null,null,null,null,null,null,null,"TOTAL POR ANO",null,null,null,null,null,"Instruções:\n1- É necessário preencher no lado esquerdo da planilha (lado azul) TODAS as bolsas 2024 aprovadas para o projeto, conforme plano de trabalho disponível no SCBA, incluindo as que não serão alteradas e as a serem alteradas.  No lado verde deverá ser preenchido TODAS as bolsas que reflitam o Plano de Trabalho desejado para o ano 2024.\n2- Preencha as justificativas. Nos casos onde não houver alteração, escreva \"Não se aplica\" no campo de justificativa.\n",null,null,null,null,null,null,null,null,null,null,null,null,null,"TOTAL POR ANO",null,null,null,null,null,{"$f":"Controles!A9","v":"Pós-doutorado com experiência no exterior "},{"$f":"COUNTIFS($B:$B,$AR6,$E:$E,AS$2)","v":0},0,0,0,0,0,{"$f":"VLOOKUP(AR6,Controles!A:I,7,FALSE)","v":6},{"$f":"VLOOKUP(AR6,Controles!A:I,9,FALSE)","v":36},{"$f":"Controles!A9","v":"Pós-doutorado com experiência no exterior "},{"$f":"SUMIFS($R:$R,$E:$E,BB$2,$B:$B,$BA6)","v":0},0,0,0,0,0]
[null,null,null,null,null,null,null,null,2019,null,null,null,null,null,null,null,null,{"$f":"SUMIFS(R:R,E:E,I7)","v":0},null,null,null,null,null,null,null,null,null,null,2019,null,null,null,null,null,null,null,null,{"$f":"SUMIFS(AL:AL,AA:AA,AC7)","v":0},null,null,null,null,null,{"$f":"Controles!A10","v":"Professor Visitante no Exterior Sênior "},0,0,0,0,0,0,{"$f":"VLOOKUP(AR7,Controles!A:I,7,FALSE)","v":3},{"$f":"VLOOKUP(AR7,Controles!A:I,9,FALSE)","v":12},{"$f":"Controles!A10","v":"Professor Visitante no Exterior Sênior "},0,0,0,0,0,0]
[null,"Tema",null,null,{"$f":"IF(E6=\"Selecione\",\"Será preenchido automaticamente após selecionar o coordenador(a)\",VLOOKUP(E6,Controles!$W:$AB,3,FALSE))","v":"Será preenchido automaticamente após selecionar o coordenador(a)"},null,null,null,2020,null,null,null,null,null,null,null,null,{"$f":"SUMIFS(R:R,E:E,I8)","v":0},null,null,null,null,null,null,null,null,null,null,2020,null,null,null,null,null,null,null,null,{"$f":"SUMIFS(AL:AL,AA:AA,AC8)","v":0},null,null,null,null,null,{"$f":"Controles!A11","v":"Professor Visitante no Exterior Júnior "},0,0,0,0,0,0,{"$f":"VLOOKUP(AR8,Controles!A:I,7,FALSE)","v":3},{"$f":"VLOOKUP(AR8,Controles!A:I,9,FALSE)","v":12},{"$f":"Controles!A11","v":"Professor Visitante no Exterior Júnior "},0,0,0,0,0,0]
[null,null,null,null,null,null,null,null,2021,null,null,null,null,null,null,null,null,{"$f":"SUMIFS(R:R,E:E,I9)","v":0},null,null,null,null,null,null,null,null,null,null,2021,null,null,null,null,null,null,null,null,{"$f":"SUMIFS(AL:AL,AA:AA,AC9)","v":0},null,null,null,null,null,{"$f":"Controles!A12","v":"Doutorado Sanduíche"},0,0,0,0,0,0,{"$f":"VLOOKUP(AR9,Controles!A:I,7,FALSE)","v":6},{"$f":"VLOOKUP(AR9,Controles!A:I,9,FALSE)","v":12},{"$f":"Controles!A12","v":"Doutorado Sanduíche"},0,0,0,0,0,0]
[null,"Titulo do Projeto",null,null,{"$f":"IF(E6=\"Selecione\",\"Será preenchido automaticamente após selecionar o coordenador(a)\",VLOOKUP(E6,Controles!$W:$AB,4,FALSE))","v":"Será preenchido automaticamente após selecionar o coordenador(a)"},null,null,null,2024,null,null,null,null,null,null,null,null,{"$f":"SUMIFS(R:R,E:E,I10)","v":0},null,null,null,null,null,null,null,null,null,null,2024,null,null,null,null,null,null,null,null,{"$f":"SUMIFS(AL:AL,AA:AA,AC10)","v":0},null,null,null,null,null,{"$f":"Controles!A13","v":"Capacitação "},0,0,0,0,0,0,{"$f":"VLOOKUP(AR10,Controles!A:I,7,FALSE)","v":0},{"$f":"VLOOKUP(AR10,Controles!A:I,9,FALSE)","v":3},{"$f":"Controles!A13","v":"Capacitação "},0,0,0,0,0,0]
[null,null,null,null,null,null,null,null,null,null,null,null,null,null,null,null,null,{"$f":"SUMIFS(R:R,E:E,I11)","v":0},null,null,null,null,null,null,null,null,null,null,null,null,null,null,null,null,null,null,null,{"$f":"SUMIFS(AL:AL,AA:AA,AC11)","v":0},null,null,null,null,null,{"$f":"Controles!A14","v":0},0,0,0,0,0,0,{"$f":"VLOOKUP(AR11,Controles!A:I,7,FALSE)","v":0},{"$f":"VLOOKUP(AR11,Controles!A:I,9,FALSE)","v":0},{"$f":"Controles!A14","v":0},0,0,0,0,0,0]
[null,null,null,null,null,null,null,null,"Total",null,null,null,null,null,null,null,null,{"$f":"SUM(R7:R11)","v":0},null,null,null,null,null,null,null,null,null,null,"Total",null,null,null,null,null,null,null,null,{"$f":"SUM(AL7:AL11)","v":0},{"$f":"IF(AL12>R12,\"Valor \"&TEXT(AL12-R12,\"R$ #.###,##\")&\" superior  ao disponível ao Projeto\",\"Readequação dentro do limite.\")","v":"Readequação dentro do limite."},null,null,null,null,{"$f":"Controles!A15","v":0},0,0,0,0,0,0,{"$f":"VLOOKUP(AR12,Controles!A:I,7,FALSE)","v":0},{"$f":"VLOOKUP(AR12,Controles!A:I,9,FALSE)","v":0},{"$f":"Controles!A15","v":0},0,0,0,0,0,0]
[null,"PLANO DE TRABALHO ATUAL - 2024",null,null,null,null,null,null,null,null,null,null,null,null,null,null,null,null,null,null,null,null,null,"PLANO DE TRABALHO SOLICITADO - 2024"]
[null,"\nMODALIDADE","Itens Financiáveis","SELECIONE \nPaís de Destino ou Origem","Ano de Referência (2024)","Total de Meses","Número de meses ","Qtde de Beneficiários","Status de Preenchimento","País Prioritário?","Continente","Mensalidade  Estimada\n (Soma de todos os meses)","Auxilio Deslocamento Estimado CORRETO","Auxilio Deslocamento de Referência utilizado pela CAPES","Auxilio Instalação Estimado ","Seguro-saude Estimado","TOTAL PREVISTO COM BASE NA PORTARIA 201/2017","Memória de cálculo UTILIZADO PELA CAPES","SALDO (Valor aprovado - total previsto)","Formula","Fórmula Bolsa \n(Alterado, Mantido ou Excluído)",null,null,"\nMODALIDADE","Itens Financiáveis","SELECIONE \nPaís de Destino ou Origem","Ano de Referência","Número de meses ","Nº Beneficiários","País Prioritário?","Continente","Mensalidade  Estimada\n (Soma de todos os meses)","Auxilio Deslocamento Estimado CORRETO","Auxilio Deslocamento de Referência utilizado pela CAPES","Auxilio Instalação Estimado ","Seguro-saude Estimado","TOTAL PREVISTO COM BASE NA PORTARIA 201/2017","TOTAL DE REFERÊNCIA UTILIZADO PELA CAPES","JUSTIFICATIVA","Formula de verificação","Fórmula Bolsa \n(Alterado, Mantido ou Incluído)","Existindo previsão, informar em qual/quais mês/meses a(s) bolsas(s) pretendida(s) iniciarão.","Status de Preenchimento","Totais",{"$f":"SUM(AS3:AS12)","v":0},{"$f":"SUM(AT3:AT12)","v":0},{"$f":"SUM(AU3:AU12)","v":0},{"$f":"SUM(AV3:AV12)","v":0},{"$f":"SUM(AW3:AW12)","v":0},{"$f":"SUM(AS14:AW14)","v":0},null,null,"Totais",{"$f":"SUM(BB3:BB12)","v":0},{"$f":"SUM(BC3:BC12)","v":0},{"$f":"SUM(BD3:BD12)","v":0},{"$f":"SUM(BE3:BE12)","v":0},{"$f":"SUM(BF3:BF12)","v":0},{"$f":"SUM(BB14:BF14)","v":0}]
["Walter",null,{"$f":"IF(B15=\"\",\"\",VLOOKUP(B15,Controles!A:N,2,FALSE))","v":""},"Alemanha",2024,{"$f":"IF(G15*H15=0,\"\",G15*H15)","v":""},null,null,{"$f":"IF(AND(B15=\"\",E15=\"\",G15=\"\",H15=\"\"),\"\",IF(OR(,,B15=\"\",D15=\"\",E15=\"\",G15=\"\",H15=\"\"),\"Preenchimento pendente\",\"Preenchimento completo\"))","v":"Preenchimento pendente"},{"$f":"IF(D15=\"\",\"\",VLOOKUP(D15,Controles!P:T,5,FALSE))","v":"S"},{"$f":"IF(D15=\"\",\"\",VLOOKUP(D15,Controles!P:S,4,FALSE))","v":"Europa"},{"$f":"IF(I15=\"Preenchimento completo\",VLOOKUP(B15,Controles!A:N,3,FALSE)*G15,\"\")","v":""},{"$f":"IF(I15=\"Preenchimento completo\",VLOOKUP(C15&K15,Controles!J:K,2,FALSE)*IF(G15>6,2,1),\"\")","v":""},{"$f":"IF(I15=\"Preenchimento completo\",VLOOKUP(B15,Controles!A:N,5,FALSE)*IF(G15>6,2,1),\"\")","v":""},{"$f":"IF(I15=\"Preenchimento completo\",VLOOKUP(B15,Controles!A:N,4,FALSE),\"\")","v":""},{"$f":"IF(I15=\"Preenchimento completo\",ROUNDUP(G15,0)*VLOOKUP(B15,Controles!A:N,6,FALSE),\"\")","v":""},{"$f":"IF(I15=\"Preenchimento completo\",SUM(L15:P15),\"\")","v":""},{"$f":"IF(I15=\"Preenchimento completo\",(Q15-M15-N15+VLOOKUP(B15,Controles!$A:$N,5,FALSE)*IF(G15>6,2,1))*H15,\"\")","v":""},{"$f":"IF(R15=\"\",\"\",R15-Q15)","v":""},{"$f":"B15&E15&G15&H15","v":"2024"},{"$f":"IF(B15=\"\",\"\",IF(COUNTIFS(X:X,B15)=0,\"Excluído\",IF(COUNTIFS(AN:AN,T15)=0,\"Alterado\",\"Mantido\")))","v":""},null,null,null,{"$f":"IF(X15=\"\",\"\",VLOOKUP(X15,Controles!A:N,2,FALSE))","v":""},"Alemanha",2024,null,null,{"$f":"IF(Z15=\"\",\"\",VLOOKUP(Z15,Controles!P:T,5,FALSE))","v":"S"},{"$f":"IF(Z15=\"\",\"\",VLOOKUP(Z15,Controles!P:S,4,FALSE))","v":"Europa"},{"$f":"IF(OR(AQ15=\"Preenchimento completo\",AQ15=\"Falta Justificativa\"),VLOOKUP(X15,Controles!A:N,3,FALSE)*AB15,\"\")","v":""},{"$f":"IF(OR(AQ15=\"Preenchimento completo\",AQ15=\"Falta Justificativa\"),VLOOKUP(Y15&AE15,Controles!J:K,2,FALSE)*IF(AB15>6,2,1),\"\")","v":""},{"$f":"IF(OR(AQ15=\"Preenchimento completo\",AQ15=\"Falta Justificativa\"),VLOOKUP(X15,Controles!A:N,5,FALSE)*IF(AB15>6,2,1),\"\")","v":""},{"$f":"IF(OR(AQ15=\"Preenchimento completo\",AQ15=\"Falta Justificativa\"),VLOOKUP(X15,Controles!A:N,4,FALSE),\"\")","v":""},{"$f":"IF(OR(AQ15=\"Preenchimento completo\",AQ15=\"Falta Justificativa\"),ROUNDUP(AB15,0)*VLOOKUP(X15,Controles!A:N,6,FALSE),\"\")","v":""},{"$f":"IF(OR(AQ15=\"Preenchimento completo\",AQ15=\"Falta Justificativa\"),SUM(AF15:AJ15),\"\")","v":""},{"$f":"IF(OR(AQ15=\"Preenchimento completo\",AQ15=\"Falta Justificativa\"),(AK15-AG15-AH15+VLOOKUP(X15,Controles!$A:$N,5,FALSE)*IF(AB15>6,2,1))*AC15,\"\")","v":""},null,{"$f":"X15&AA15&AB15&AC15","v":"2024"},{"$f":"IF(X15=\"\",\"\",IF(COUNTIFS(U:U,X15)=0,\"Incluído\",IF(COUNTIFS(T:T,AN15)=0,\"Alterado\",\"Mantido\")))","v":""},null,{"$f":"IF(AND(X15=\"\",AA15=\"\",AB15=\"\",AC15=\"\"),\"\",IF(OR(X15=\"\",,AA15=\"\",AB15=\"\",AC15=\"\"),\"Preenchimento pendente\",IF(AM15=\"\",\"Falta Justificativa\",\"Preenchimento completo\")))","v":"Preenchimento pendente"}]
["Walter",null,{"$f":"IF(B16=\"\",\"\",VLOOKUP(B16,Controles!A:N,2,FALSE))","v":""},"Alemanha",null,{"$f":"IF(G16*H16=0,\"\",G16*H16)","v":""},null,null,{"$f":"IF(AND(B16=\"\",E16=\"\",G16=\"\",H16=\"\"),\"\",IF(OR(,,B16=\"\",D16=\"\",E16=\"\",G16=\"\",H16=\"\"),\"Preenchimento pendente\",\"Preenchimento completo\"))","v":""},{"$f":"IF(D16=\"\",\"\",VLOOKUP(D16,Controles!P:T,5,FALSE))","v":"S"},{"$f":"IF(D16=\"\",\"\",VLOOKUP(D16,Controles!P:S,4,FALSE))","v":"Europa"},{"$f":"IF(I16=\"Preenchimento completo\",VLOOKUP(B16,Controles!A:N,3,FALSE)*G16,\"\")","v":""},{"$f":"IF(I16=\"Preenchimento completo\",VLOOKUP(C16&K16,Controles!J:K,2,FALSE)*IF(G16>6,2,1),\"\")","v":""},{"$f":"IF(I16=\"Preenchimento completo\",VLOOKUP(B16,Controles!A:N,5,FALSE)*IF(G16>6,2,1),\"\")","v":""},{"$f":"IF(I16=\"Preenchimento completo\",VLOOKUP(B16,Controles!A:N,4,FALSE),\"\")","v":""},{"$f":"IF(I16=\"Preenchimento completo\",ROUNDUP(G16,0)*VLOOKUP(B16,Controles!A:N,6,FALSE),\"\")","v":""},{"$f":"IF(I16=\"Preenchimento completo\",SUM(L16:P16),\"\")","v":""},{"$f":"IF(I16=\"Preenchimento completo\",(Q16-M16-N16+VLOOKUP(B16,Controles!$A:$N,5,FALSE)*IF(G16>6,2,1))*H16,\"\")","v":""},{"$f":"IF(R16=\"\",\"\",R16-Q16)","v":""},{"$f":"B16&E16&G16&H16","v":""},"",null,null,null,{"$f":"IF(X16=\"\",\"\",VLOOKUP(X16,Controles!A:N,2,FALSE))","v":""},"Alemanha",null,null,null,{"$f":"IF(Z16=\"\",\"\",VLOOKUP(Z16,Controles!P:T,5,FALSE))","v":"S"},{"$f":"IF(Z16=\"\",\"\",VLOOKUP(Z16,Controles!P:S,4,FALSE))","v":"Europa"},{"$f":"IF(OR(AQ16=\"Preenchimento completo\",AQ16=\"Falta Justificativa\"),VLOOKUP(X16,Controles!A:N,3,FALSE)*AB16,\"\")","v":""},{"$f":"IF(OR(AQ16=\"Preenchimento completo\",AQ16=\"Falta Justificativa\"),VLOOKUP(Y16&AE16,Controles!J:K,2,FALSE)*IF(AB16>6,2,1),\"\")","v":""},{"$f":"IF(OR(AQ16=\"Preenchimento completo\",AQ16=\"Falta Justificativa\"),VLOOKUP(X16,Controles!A:N,5,FALSE)*IF(AB16>6,2,1),\"\")","v":""},{"$f":"IF(OR(AQ16=\"Preenchimento completo\",AQ16=\"Falta Justificativa\"),VLOOKUP(X16,Controles!A:N,4,FALSE),\"\")","v":""},{"$f":"IF(OR(AQ16=\"Preenchimento completo\",AQ16=\"Falta Justificativa\"),ROUNDUP(AB16,0)*VLOOKUP(X16,Controles!A:N,6,FALSE),\"\")","v":""},{"$f":"IF(OR(AQ16=\"Preenchimento completo\",AQ16=\"Falta Justificativa\"),SUM(AF16:AJ16),\"\")","v":""},{"$f":"IF(OR(AQ16=\"Preenchimento completo\",AQ16=\"Falta Justificativa\"),(AK16-AG16-AH16+VLOOKUP(X16,Controles!$A:$N,5,FALSE)*IF(AB16>6,2,1))*AC16,\"\")","v":""},null,{"$f":"X16&AA16&AB16&AC16","v":""},"",null,""]
["Walter",null,{"$f":"IF(B17=\"\",\"\",VLOOKUP(B17,Controles!A:N,2,FALSE))","v":""},"Alemanha",null,"",null,null,"",{"$f":"IF(D17=\"\",\"\",VLOOKUP(D17,Controles!P:T,5,FALSE))","v":"S"},{"$f":"IF(D17=\"\",\"\",VLOOKUP(D17,Controles!P:S,4,FALSE))","v":"Europa"},{"$f":"IF(I17=\"Preenchimento completo\",VLOOKUP(B17,Controles!A:N,3,FALSE)*G17,\"\")","v":""},{"$f":"IF(I17=\"Preenchimento completo\",VLOOKUP(C17&K17,Controles!J:K,2,FALSE)*IF(G17>6,2,1),\"\")","v":""},{"$f":"IF(I17=\"Preenchimento completo\",VLOOKUP(B17,Controles!A:N,5,FALSE)*IF(G17>6,2,1),\"\")","v":""},{"$f":"IF(I17=\"Preenchimento completo\",VLOOKUP(B17,Controles!A:N,4,FALSE),\"\")","v":""},{"$f":"IF(I17=\"Preenchimento completo\",ROUNDUP(G17,0)*VLOOKUP(B17,Controles!A:N,6,FALSE),\"\")","v":""},"",{"$f":"IF(I17=\"Preenchimento completo\",(Q17-M17-N17+VLOOKUP(B17,Controles!$A:$N,5,FALSE)*IF(G17>6,2,1))*H17,\"\")","v":""},"","","",null,null,null,{"$f":"IF(X17=\"\",\"\",VLOOKUP(X17,Controles!A:N,2,FALSE))","v":""},"Alemanha",null,null,null,{"$f":"IF(Z17=\"\",\"\",VLOOKUP(Z17,Controles!P:T,5,FALSE))","v":"S"},{"$f":"IF(Z17=\"\",\"\",VLOOKUP(Z17,Controles!P:S,4,FALSE))","v":"Europa"},{"$f":"IF(OR(AQ17=\"Preenchimento completo\",AQ17=\"Falta Justificativa\"),VLOOKUP(X17,Controles!A:N,3,FALSE)*AB17,\"\")","v":""},{"$f":"IF(OR(AQ17=\"Preenchimento completo\",AQ17=\"Falta Justificativa\"),VLOOKUP(Y17&AE17,Controles!J:K,2,FALSE)*IF(AB17>6,2,1),\"\")","v":""},{"$f":"IF(OR(AQ17=\"Preenchimento completo\",AQ17=\"Falta Justificativa\"),VLOOKUP(X17,Controles!A:N,5,FALSE)*IF(AB17>6,2,1),\"\")","v":""},{"$f":"IF(OR(AQ17=\"Preenchimento completo\",AQ17=\"Falta Justificativa\"),VLOOKUP(X17,Controles!A:N,4,FALSE),\"\")","v":""},{"$f":"IF(OR(AQ17=\"Preenchimento completo\",AQ17=\"Falta Justificativa\"),ROUNDUP(AB17,0)*VLOOKUP(X17,Controles!A:N,6,FALSE),\"\")","v":""},{"$f":"IF(OR(AQ17=\"Preenchimento completo\",AQ17=\"Falta Justificativa\"),SUM(AF17:AJ17),\"\")","v":""},{"$f":"IF(OR(AQ17=\"Preenchimento completo\",AQ17=\"Falta Justificativa\"),(AK17-AG17-AH17+VLOOKUP(X17,Controles!$A:$N,5,FALSE)*IF(AB17>6,2,1))*AC17,\"\")","v":""},null,"","",null,""]
["Walter",null,{"$f":"IF(B18=\"\",\"\",VLOOKUP(B18,Controles!A:N,2,FALSE))","v":""},"Alemanha",null,"",null,null,"",{"$f":"IF(D18=\"\",\"\",VLOOKUP(D18,Controles!P:T,5,FALSE))","v":"S"},{"$f":"IF(D18=\"\",\"\",VLOOKUP(D18,Controles!P:S,4,FALSE))","v":"Europa"},{"$f":"IF(I18=\"Preenchimento completo\",VLOOKUP(B18,Controles!A:N,3,FALSE)*G18,\"\")","v":""},{"$f":"IF(I18=\"Preenchimento completo\",VLOOKUP(C18&K18,Controles!J:K,2,FALSE)*IF(G18>6,2,1),\"\")","v":""},{"$f":"IF(I18=\"Preenchimento completo\",VLOOKUP(B18,Controles!A:N,5,FALSE)*IF(G18>6,2,1),\"\")","v":""},{"$f":"IF(I18=\"Preenchimento completo\",VLOOKUP(B18,Controles!A:N,4,FALSE),\"\")","v":""},{"$f":"IF(I18=\"Preenchimento completo\",ROUNDUP(G18,0)*VLOOKUP(B18,Controles!A:N,6,FALSE),\"\")","v":""},"",{"$f":"IF(I18=\"Preenchimento completo\",(Q18-M18-N18+VLOOKUP(B18,Controles!$A:$N,5,FALSE)*IF(G18>6,2,1))*H18,\"\")","v":""},"","","",null,null,null,{"$f":"IF(X18=\"\",\"\",VLOOKUP(X18,Controles!A:N,2,FALSE))","v":""},"Alemanha",null,null,null,{"$f":"IF(Z18=\"\",\"\",VLOOKUP(Z18,Controles!P:T,5,FALSE))","v":"S"},{"$f":"IF(Z18=\"\",\"\",VLOOKUP(Z18,Controles!P:S,4,FALSE))","v":"Europa"},{"$f":"IF(OR(AQ18=\"Preenchimento completo\",AQ18=\"Falta Justificativa\"),VLOOKUP(X18,Controles!A:N,3,FALSE)*AB18,\"\")","v":""},{"$f":"IF(OR(AQ18=\"Preenchimento completo\",AQ18=\"Falta Justificativa\"),VLOOKUP(Y18&AE18,Controles!J:K,2,FALSE)*IF(AB18>6,2,1),\"\")","v":""},{"$f":"IF(OR(AQ18=\"Preenchimento completo\",AQ18=\"Falta Justificativa\"),VLOOKUP(X18,Controles!A:N,5,FALSE)*IF(AB18>6,2,1),\"\")","v":""},{"$f":"IF(OR(AQ18=\"Preenchimento completo\",AQ18=\"Falta Justificativa\"),VLOOKUP(X18,Controles!A:N,4,FALSE),\"\")","v":""},{"$f":"IF(OR(AQ18=\"Preenchimento completo\",AQ18=\"Falta Justificativa\"),ROUNDUP(AB18,0)*VLOOKUP(X18,Controles!A:N,6,FALSE),\"\")","v":""},"",{"$f":"IF(OR(AQ18=\"Preenchimento completo\",AQ18=\"Falta Justificativa\"),(AK18-AG18-AH18+VLOOKUP(X18,Controles!$A:$N,5,FALSE)*IF(AB18>6,2,1))*AC18,\"\")","v":""},null,"","",null,""]
["Walter",null,{"$f":"IF(B19=\"\",\"\",VLOOKUP(B19,Controles!A:N,2,FALSE))","v":""},"Alemanha",null,"",null,null,"",{"$f":"IF(D19=\"\",\"\",VLOOKUP(D19,Controles!P:T,5,FALSE))","v":"S"},{"$f":"IF(D19=\"\",\"\",VLOOKUP(D19,Controles!P:S,4,FALSE))","v":"Europa"},{"$f":"IF(I19=\"Preenchimento completo\",VLOOKUP(B19,Controles!A:N,3,FALSE)*G19,\"\")","v":""},{"$f":"IF(I19=\"Preenchimento completo\",VLOOKUP(C19&K19,Controles!J:K,2,FALSE)*IF(G19>6,2,1),\"\")","v":""},{"$f":"IF(I19=\"Preenchimento completo\",VLOOKUP(B19,Controles!A:N,5,FALSE)*IF(G19>6,2,1),\"\")","v":""},{"$f":"IF(I19=\"Preenchimento completo\",VLOOKUP(B19,Controles!A:N,4,FALSE),\"\")","v":""},{"$f":"IF(I19=\"Preenchimento completo\",ROUNDUP(G19,0)*VLOOKUP(B19,Controles!A:N,6,FALSE),\"\")","v":""},"",{"$f":"IF(I19=\"Preenchimento completo\",(Q19-M19-N19+VLOOKUP(B19,Controles!$A:$N,5,FALSE)*IF(G19>6,2,1))*H19,\"\")","v":""},"","","",null,null,null,{"$f":"IF(X19=\"\",\"\",VLOOKUP(X19,Controles!A:N,2,FALSE))","v":""},"Alemanha",null,null,null,{"$f":"IF(Z19=\"\",\"\",VLOOKUP(Z19,Controles!P:T,5,FALSE))","v":"S"},{"$f":"IF(Z19=\"\",\"\",VLOOKUP(Z19,Controles!P:S,4,FALSE))","v":"Europa"},{"$f":"IF(OR(AQ19=\"Preenchimento completo\",AQ19=\"Falta Justificativa\"),VLOOKUP(X19,Controles!A:N,3,FALSE)*AB19,\"\")","v":""},{"$f":"IF(OR(AQ19=\"Preenchimento completo\",AQ19=\"Falta Justificativa\"),VLOOKUP(Y19&AE19,Controles!J:K,2,FALSE)*IF(AB19>6,2,1),\"\")","v":""},{"$f":"IF(OR(AQ19=\"Preenchimento completo\",AQ19=\"Falta Justificativa\"),VLOOKUP(X19,Controles!A:N,5,FALSE)*IF(AB19>6,2,1),\"\")","v":""},{"$f":"IF(OR(AQ19=\"Preenchimento completo\",AQ19=\"Falta Justificativa\"),VLOOKUP(X19,Controles!A:N,4,FALSE),\"\")","v":""},{"$f":"IF(OR(AQ19=\"Preenchimento completo\",AQ19=\"Falta Justificativa\"),ROUNDUP(AB19,0)*VLOOKUP(X19,Controles!A:N,6,FALSE),\"\")","v":""},"",{"$f":"IF(OR(AQ19=\"Preenchimento completo\",AQ19=\"Falta Justificativa\"),(AK19-AG19-AH19+VLOOKUP(X19,Controles!$A:$N,5,FALSE)*IF(AB19>6,2,1))*AC19,\"\")","v":""},null,"","",null,""]
["Walter",null,{"$f":"IF(B20=\"\",\"\",VLOOKUP(B20,Controles!A:N,2,FALSE))","v":""},"Alemanha",null,"",null,null,"",{"$f":"IF(D20=\"\",\"\",VLOOKUP(D20,Controles!P:T,5,FALSE))","v":"S"},{"$f":"IF(D20=\"\",\"\",VLOOKUP(D20,Controles!P:S,4,FALSE))","v":"Europa"},{"$f":"IF(I20=\"Preenchimento completo\",VLOOKUP(B20,Controles!A:N,3,FALSE)*G20,\"\")","v":""},{"$f":"IF(I20=\"Preenchimento completo\",VLOOKUP(C20&K20,Controles!J:K,2,FALSE)*IF(G20>6,2,1),\"\")","v":""},{"$f":"IF(I20=\"Preenchimento completo\",VLOOKUP(B20,Controles!A:N,5,FALSE)*IF(G20>6,2,1),\"\")","v":""},{"$f":"IF(I20=\"Preenchimento completo\",VLOOKUP(B20,Controles!A:N,4,FALSE),\"\")","v":""},{"$f":"IF(I20=\"Preenchimento completo\",ROUNDUP(G20,0)*VLOOKUP(B20,Controles!A:N,6,FALSE),\"\")","v":""},"",{"$f":"IF(I20=\"Preenchimento completo\",(Q20-M20-N20+VLOOKUP(B20,Controles!$A:$N,5,FALSE)*IF(G20>6,2,1))*H20,\"\")","v":""},"","","",null,null,null,{"$f":"IF(X20=\"\",\"\",VLOOKUP(X20,Controles!A:N,2,FALSE))","v":""},"Alemanha",null,null,null,{"$f":"IF(Z20=\"\",\"\",VLOOKUP(Z20,Controles!P:T,5,FALSE))","v":"S"},{"$f":"IF(Z20=\"\",\"\",VLOOKUP(Z20,Controles!P:S,4,FALSE))","v":"Europa"},{"$f":"IF(OR(AQ20=\"Preenchimento completo\",AQ20=\"Falta Justificativa\"),VLOOKUP(X20,Controles!A:N,3,FALSE)*AB20,\"\")","v":""},{"$f":"IF(OR(AQ20=\"Preenchimento completo\",AQ20=\"Falta Justificativa\"),VLOOKUP(Y20&AE20,Controles!J:K,2,FALSE)*IF(AB20>6,2,1),\"\")","v":""},{"$f":"IF(OR(AQ20=\"Preenchimento completo\",AQ20=\"Falta Justificativa\"),VLOOKUP(X20,Controles!A:N,5,FALSE)*IF(AB20>6,2,1),\"\")","v":""},{"$f":"IF(OR(AQ20=\"Preenchimento completo\",AQ20=\"Falta Justificativa\"),VLOOKUP(X20,Controles!A:N,4,FALSE),\"\")","v":""},{"$f":"IF(OR(AQ20=\"Preenchimento completo\",AQ20=\"Falta Justificativa\"),ROUNDUP(AB20,0)*VLOOKUP(X20,Controles!A:N,6,FALSE),\"\")","v":""},"",{"$f":"IF(OR(AQ20=\"Preenchimento completo\",AQ20=\"Falta Justificativa\"),(AK20-AG20-AH20+VLOOKUP(X20,Controles!$A:$N,5,FALSE)*IF(AB20>6,2,1))*AC20,\"\")","v":""},null,"","",null,""]
["Walter",null,{"$f":"IF(B21=\"\",\"\",VLOOKUP(B21,Controles!A:N,2,FALSE))","v":""},"Alemanha",null,"",null,null,"",{"$f":"IF(D21=\"\",\"\",VLOOKUP(D21,Controles!P:T,5,FALSE))","v":"S"},{"$f":"IF(D21=\"\",\"\",VLOOKUP(D21,Controles!P:S,4,FALSE))","v":"Europa"},{"$f":"IF(I21=\"Preenchimento completo\",VLOOKUP(B21,Controles!A:N,3,FALSE)*G21,\"\")","v":""},{"$f":"IF(I21=\"Preenchimento completo\",VLOOKUP(C21&K21,Controles!J:K,2,FALSE)*IF(G21>6,2,1),\"\")","v":""},{"$f":"IF(I21=\"Preenchimento completo\",VLOOKUP(B21,Controles!A:N,5,FALSE)*IF(G21>6,2,1),\"\")","v":""},{"$f":"IF(I21=\"Preenchimento completo\",VLOOKUP(B21,Controles!A:N,4,FALSE),\"\")","v":""},{"$f":"IF(I21=\"Preenchimento completo\",ROUNDUP(G21,0)*VLOOKUP(B21,Controles!A:N,6,FALSE),\"\")","v":""},"",{"$f":"IF(I21=\"Preenchimento completo\",(Q21-M21-N21+VLOOKUP(B21,Controles!$A:$N,5,FALSE)*IF(G21>6,2,1))*H21,\"\")","v":""},"","","",null,null,null,{"$f":"IF(X21=\"\",\"\",VLOOKUP(X21,Controles!A:N,2,FALSE))","v":""},"Alemanha",null,null,null,{"$f":"IF(Z21=\"\",\"\",VLOOKUP(Z21,Controles!P:T,5,FALSE))","v":"S"},{"$f":"IF(Z21=\"\",\"\",VLOOKUP(Z21,Controles!P:S,4,FALSE))","v":"Europa"},{"$f":"IF(OR(AQ21=\"Preenchimento completo\",AQ21=\"Falta Justificativa\"),VLOOKUP(X21,Controles!A:N,3,FALSE)*AB21,\"\")","v":""},{"$f":"IF(OR(AQ21=\"Preenchimento completo\",AQ21=\"Falta Justificativa\"),VLOOKUP(Y21&AE21,Controles!J:K,2,FALSE)*IF(AB21>6,2,1),\"\")","v":""},{"$f":"IF(OR(AQ21=\"Preenchimento completo\",AQ21=\"Falta Justificativa\"),VLOOKUP(X21,Controles!A:N,5,FALSE)*IF(AB21>6,2,1),\"\")","v":""},{"$f":"IF(OR(AQ21=\"Preenchimento completo\",AQ21=\"Falta Justificativa\"),VLOOKUP(X21,Controles!A:N,4,FALSE),\"\")","v":""},{"$f":"IF(OR(AQ21=\"Preenchimento completo\",AQ21=\"Falta Justificativa\"),ROUNDUP(AB21,0)*VLOOKUP(X21,Controles!A:N,6,FALSE),\"\")","v":""},"",{"$f":"IF(OR(AQ21=\"Preenchimento completo\",AQ21=\"Falta Justificativa\"),(AK21-AG21-AH21+VLOOKUP(X21,Controles!$A:$N,5,FALSE)*IF(AB21>6,2,1))*AC21,\"\")","v":""},null,"","",null,""]
["Walter",null,{"$f":"IF(B22=\"\",\"\",VLOOKUP(B22,Controles!A:N,2,FALSE))","v":""},"Alemanha",null,"",null,null,"",{"$f":"IF(D22=\"\",\"\",VLOOKUP(D22,Controles!P:T,5,FALSE))","v":"S"},{"$f":"IF(D22=\"\",\"\",VLOOKUP(D22,Controles!P:S,4,FALSE))","v":"Europa"},{"$f":"IF(I22=\"Preenchimento completo\",VLOOKUP(B22,Controles!A:N,3,FALSE)*G22,\"\")","v":""},{"$f":"IF(I22=\"Preenchimento completo\",VLOOKUP(C22&K22,Controles!J:K,2,FALSE)*IF(G22>6,2,1),\"\")","v":""},{"$f":"IF(I22=\"Preenchimento completo\",VLOOKUP(B22,Controles!A:N,5,FALSE)*IF(G22>6,2,1),\"\")","v":""},{"$f":"IF(I22=\"Preenchimento completo\",VLOOKUP(B22,Controles!A:N,4,FALSE),\"\")","v":""},{"$f":"IF(I22=\"Preenchimento completo\",ROUNDUP(G22,0)*VLOOKUP(B22,Controles!A:N,6,FALSE),\"\")","v":""},"",{"$f":"IF(I22=\"Preenchimento completo\",(Q22-M22-N22+VLOOKUP(B22,Controles!$A:$N,5,FALSE)*IF(G22>6,2,1))*H22,\"\")","v":""},"","","",null,null,null,{"$f":"IF(X22=\"\",\"\",VLOOKUP(X22,Controles!A:N,2,FALSE))","v":""},"Alemanha",null,null,null,{"$f":"IF(Z22=\"\",\"\",VLOOKUP(Z22,Controles!P:T,5,FALSE))","v":"S"},{"$f":"IF(Z22=\"\",\"\",VLOOKUP(Z22,Controles!P:S,4,FALSE))","v":"Europa"},{"$f":"IF(OR(AQ22=\"Preenchimento completo\",AQ22=\"Falta Justificativa\"),VLOOKUP(X22,Controles!A:N,3,FALSE)*AB22,\"\")","v":""},{"$f":"IF(OR(AQ22=\"Preenchimento completo\",AQ22=\"Falta Justificativa\"),VLOOKUP(Y22&AE22,Controles!J:K,2,FALSE)*IF(AB22>6,2,1),\"\")","v":""},{"$f":"IF(OR(AQ22=\"Preenchimento completo\",AQ22=\"Falta Justificativa\"),VLOOKUP(X22,Controles!A:N,5,FALSE)*IF(AB22>6,2,1),\"\")","v":""},{"$f":"IF(OR(AQ22=\"Preenchimento completo\",AQ22=\"Falta Justificativa\"),VLOOKUP(X22,Controles!A:N,4,FALSE),\"\")","v":""},{"$f":"IF(OR(AQ22=\"Preenchimento completo\",AQ22=\"Falta Justificativa\"),ROUNDUP(AB22,0)*VLOOKUP(X22,Controles!A:N,6,FALSE),\"\")","v":""},"",{"$f":"IF(OR(AQ22=\"Preenchimento completo\",AQ22=\"Falta Justificativa\"),(AK22-AG22-AH22+VLOOKUP(X22,Controles!$A:$N,5,FALSE)*IF(AB22>6,2,1))*AC22,\"\")","v":""},null,"","",null,""]
["Walter",null,{"$f":"IF(B23=\"\",\"\",VLOOKUP(B23,Controles!A:N,2,FALSE))","v":""},"Alemanha",null,"",null,null,"",{"$f":"IF(D23=\"\",\"\",VLOOKUP(D23,Controles!P:T,5,FALSE))","v":"S"},{"$f":"IF(D23=\"\",\"\",VLOOKUP(D23,Controles!P:S,4,FALSE))","v":"Europa"},{"$f":"IF(I23=\"Preenchimento completo\",VLOOKUP(B23,Controles!A:N,3,FALSE)*G23,\"\")","v":""},{"$f":"IF(I23=\"Preenchimento completo\",VLOOKUP(C23&K23,Controles!J:K,2,FALSE)*IF(G23>6,2,1),\"\")","v":""},{"$f":"IF(I23=\"Preenchimento completo\",VLOOKUP(B23,Controles!A:N,5,FALSE)*IF(G23>6,2,1),\"\")","v":""},{"$f":"IF(I23=\"Preenchimento completo\",VLOOKUP(B23,Controles!A:N,4,FALSE),\"\")","v":""},{"$f":"IF(I23=\"Preenchimento completo\",ROUNDUP(G23,0)*VLOOKUP(B23,Controles!A:N,6,FALSE),\"\")","v":""},"",{"$f":"IF(I23=\"Preenchimento completo\",(Q23-M23-N23+VLOOKUP(B23,Controles!$A:$N,5,FALSE)*IF(G23>6,2,1))*H23,\"\")","v":""},"","","",null,null,null,{"$f":"IF(X23=\"\",\"\",VLOOKUP(X23,Controles!A:N,2,FALSE))","v":""},"Alemanha",null,null,null,{"$f":"IF(Z23=\"\",\"\",VLOOKUP(Z23,Controles!P:T,5,FALSE))","v":"S"},{"$f":"IF(Z23=\"\",\"\",VLOOKUP(Z23,Controles!P:S,4,FALSE))","v":"Europa"},{"$f":"IF(OR(AQ23=\"Preenchimento completo\",AQ23=\"Falta Justificativa\"),VLOOKUP(X23,Controles!A:N,3,FALSE)*AB23,\"\")","v":""},{"$f":"IF(OR(AQ23=\"Preenchimento completo\",AQ23=\"Falta Justificativa\"),VLOOKUP(Y23&AE23,Controles!J:K,2,FALSE)*IF(AB23>6,2,1),\"\")","v":""},{"$f":"IF(OR(AQ23=\"Preenchimento completo\",AQ23=\"Falta Justificativa\"),VLOOKUP(X23,Controles!A:N,5,FALSE)*IF(AB23>6,2,1),\"\")","v":""},{"$f":"IF(OR(AQ23=\"Preenchimento completo\",AQ23=\"Falta Justificativa\"),VLOOKUP(X23,Controles!A:N,4,FALSE),\"\")","v":""},{"$f":"IF(OR(AQ23=\"Preenchimento completo\",AQ23=\"Falta Justificativa\"),ROUNDUP(AB23,0)*VLOOKUP(X23,Controles!A:N,6,FALSE),\"\")","v":""},"",{"$f":"IF(OR(AQ23=\"Preenchimento completo\",AQ23=\"Falta Justificativa\"),(AK23-AG23-AH23+VLOOKUP(X23,Controles!$A:$N,5,FALSE)*IF(AB23>6,2,1))*AC23,\"\")","v":""},null,"","",null,""]
["Walter",null,{"$f":"IF(B24=\"\",\"\",VLOOKUP(B24,Controles!A:N,2,FALSE))","v":""},"Alemanha",null,"",null,null,"",{"$f":"IF(D24=\"\",\"\",VLOOKUP(D24,Controles!P:T,5,FALSE))","v":"S"},{"$f":"IF(D24=\"\",\"\",VLOOKUP(D24,Controles!P:S,4,FALSE))","v":"Europa"},{"$f":"IF(I24=\"Preenchimento completo\",VLOOKUP(B24,Controles!A:N,3,FALSE)*G24,\"\")","v":""},{"$f":"IF(I24=\"Preenchimento completo\",VLOOKUP(C24&K24,Controles!J:K,2,FALSE)*IF(G24>6,2,1),\"\")","v":""},{"$f":"IF(I24=\"Preenchimento completo\",VLOOKUP(B24,Controles!A:N,5,FALSE)*IF(G24>6,2,1),\"\")","v":""},{"$f":"IF(I24=\"Preenchimento completo\",VLOOKUP(B24,Controles!A:N,4,FALSE),\"\")","v":""},{"$f":"IF(I24=\"Preenchimento completo\",ROUNDUP(G24,0)*VLOOKUP(B24,Controles!A:N,6,FALSE),\"\")","v":""},"",{"$f":"IF(I24=\"Preenchimento completo\",(Q24-M24-N24+VLOOKUP(B24,Controles!$A:$N,5,FALSE)*IF(G24>6,2,1))*H24,\"\")","v":""},"","","",null,null,null,{"$f":"IF(X24=\"\",\"\",VLOOKUP(X24,Controles!A:N,2,FALSE))","v":""},"Alemanha",null,null,null,{"$f":"IF(Z24=\"\",\"\",VLOOKUP(Z24,Controles!P:T,5,FALSE))","v":"S"},{"$f":"IF(Z24=\"\",\"\",VLOOKUP(Z24,Controles!P:S,4,FALSE))","v":"Europa"},{"$f":"IF(OR(AQ24=\"Preenchimento completo\",AQ24=\"Falta Justificativa\"),VLOOKUP(X24,Controles!A:N,3,FALSE)*AB24,\"\")","v":""},{"$f":"IF(OR(AQ24=\"Preenchimento completo\",AQ24=\"Falta Justificativa\"),VLOOKUP(Y24&AE24,Controles!J:K,2,FALSE)*IF(AB24>6,2,1),\"\")","v":""},{"$f":"IF(OR(AQ24=\"Preenchimento completo\",AQ24=\"Falta Justificativa\"),VLOOKUP(X24,Controles!A:N,5,FALSE)*IF(AB24>6,2,1),\"\")","v":""},{"$f":"IF(OR(AQ24=\"Preenchimento completo\",AQ24=\"Falta Justificativa\"),VLOOKUP(X24,Controles!A:N,4,FALSE),\"\")","v":""},{"$f":"IF(OR(AQ24=\"Preenchimento completo\",AQ24=\"Falta Justificativa\"),ROUNDUP(AB24,0)*VLOOKUP(X24,Controles!A:N,6,FALSE),\"\")","v":""},"",{"$f":"IF(OR(AQ24=\"Preenchimento completo\",AQ24=\"Falta Justificativa\"),(AK24-AG24-AH24+VLOOKUP(X24,Controles!$A:$N,5,FALSE)*IF(AB24>6,2,1))*AC24,\"\")","v":""},null,"","",null,""]
["Walter",null,{"$f":"IF(B25=\"\",\"\",VLOOKUP(B25,Controles!A:N,2,FALSE))","v":""},"Alemanha",null,"",null,null,"",{"$f":"IF(D25=\"\",\"\",VLOOKUP(D25,Controles!P:T,5,FALSE))","v":"S"},{"$f":"IF(D25=\"\",\"\",VLOOKUP(D25,Controles!P:S,4,FALSE))","v":"Europa"},{"$f":"IF(I25=\"Preenchimento completo\",VLOOKUP(B25,Controles!A:N,3,FALSE)*G25,\"\")","v":""},{"$f":"IF(I25=\"Preenchimento completo\",VLOOKUP(C25&K25,Controles!J:K,2,FALSE)*IF(G25>6,2,1),\"\")","v":""},{"$f":"IF(I25=\"Preenchimento completo\",VLOOKUP(B25,Controles!A:N,5,FALSE)*IF(G25>6,2,1),\"\")","v":""},{"$f":"IF(I25=\"Preenchimento completo\",VLOOKUP(B25,Controles!A:N,4,FALSE),\"\")","v":""},{"$f":"IF(I25=\"Preenchimento completo\",ROUNDUP(G25,0)*VLOOKUP(B25,Controles!A:N,6,FALSE),\"\")","v":""},"",{"$f":"IF(I25=\"Preenchimento completo\",(Q25-M25-N25+VLOOKUP(B25,Controles!$A:$N,5,FALSE)*IF(G25>6,2,1))*H25,\"\")","v":""},"","","",null,null,null,{"$f":"IF(X25=\"\",\"\",VLOOKUP(X25,Controles!A:N,2,FALSE))","v":""},"Alemanha",null,null,null,{"$f":"IF(Z25=\"\",\"\",VLOOKUP(Z25,Controles!P:T,5,FALSE))","v":"S"},{"$f":"IF(Z25=\"\",\"\",VLOOKUP(Z25,Controles!P:S,4,FALSE))","v":"Europa"},{"$f":"IF(OR(AQ25=\"Preenchimento completo\",AQ25=\"Falta Justificativa\"),VLOOKUP(X25,Controles!A:N,3,FALSE)*AB25,\"\")","v":""},{"$f":"IF(OR(AQ25=\"Preenchimento completo\",AQ25=\"Falta Justificativa\"),VLOOKUP(Y25&AE25,Controles!J:K,2,FALSE)*IF(AB25>6,2,1),\"\")","v":""},{"$f":"IF(OR(AQ25=\"Preenchimento completo\",AQ25=\"Falta Justificativa\"),VLOOKUP(X25,Controles!A:N,5,FALSE)*IF(AB25>6,2,1),\"\")","v":""},{"$f":"IF(OR(AQ25=\"Preenchimento completo\",AQ25=\"Falta Justificativa\"),VLOOKUP(X25,Controles!A:N,4,FALSE),\"\")","v":""},{"$f":"IF(OR(AQ25=\"Preenchimento completo\",AQ25=\"Falta Justificativa\"),ROUNDUP(AB25,0)*VLOOKUP(X25,Controles!A:N,6,FALSE),\"\")","v":""},"",{"$f":"IF(OR(AQ25=\"Preenchimento completo\",AQ25=\"Falta Justificativa\"),(AK25-AG25-AH25+VLOOKUP(X25,Controles!$A:$N,5,FALSE)*IF(AB25>6,2,1))*AC25,\"\")","v":""},null,"","",null,""]
["Walter",null,{"$f":"IF(B26=\"\",\"\",VLOOKUP(B26,Controles!A:N,2,FALSE))","v":""},"Alemanha",null,"",null,null,"",{"$f":"IF(D26=\"\",\"\",VLOOKUP(D26,Controles!P:T,5,FALSE))","v":"S"},{"$f":"IF(D26=\"\",\"\",VLOOKUP(D26,Controles!P:S,4,FALSE))","v":"Europa"},{"$f":"IF(I26=\"Preenchimento completo\",VLOOKUP(B26,Controles!A:N,3,FALSE)*G26,\"\")","v":""},{"$f":"IF(I26=\"Preenchimento completo\",VLOOKUP(C26&K26,Controles!J:K,2,FALSE)*IF(G26>6,2,1),\"\")","v":""},{"$f":"IF(I26=\"Preenchimento completo\",VLOOKUP(B26,Controles!A:N,5,FALSE)*IF(G26>6,2,1),\"\")","v":""},{"$f":"IF(I26=\"Preenchimento completo\",VLOOKUP(B26,Controles!A:N,4,FALSE),\"\")","v":""},{"$f":"IF(I26=\"Preenchimento completo\",ROUNDUP(G26,0)*VLOOKUP(B26,Controles!A:N,6,FALSE),\"\")","v":""},"",{"$f":"IF(I26=\"Preenchimento completo\",(Q26-M26-N26+VLOOKUP(B26,Controles!$A:$N,5,FALSE)*IF(G26>6,2,1))*H26,\"\")","v":""},"","","",null,null,null,{"$f":"IF(X26=\"\",\"\",VLOOKUP(X26,Controles!A:N,2,FALSE))","v":""},"Alemanha",null,null,null,{"$f":"IF(Z26=\"\",\"\",VLOOKUP(Z26,Controles!P:T,5,FALSE))","v":"S"},{"$f":"IF(Z26=\"\",\"\",VLOOKUP(Z26,Controles!P:S,4,FALSE))","v":"Europa"},{"$f":"IF(OR(AQ26=\"Preenchimento completo\",AQ26=\"Falta Justificativa\"),VLOOKUP(X26,Controles!A:N,3,FALSE)*AB26,\"\")","v":""},{"$f":"IF(OR(AQ26=\"Preenchimento completo\",AQ26=\"Falta Justificativa\"),VLOOKUP(Y26&AE26,Controles!J:K,2,FALSE)*IF(AB26>6,2,1),\"\")","v":""},{"$f":"IF(OR(AQ26=\"Preenchimento completo\",AQ26=\"Falta Justificativa\"),VLOOKUP(X26,Controles!A:N,5,FALSE)*IF(AB26>6,2,1),\"\")","v":""},{"$f":"IF(OR(AQ26=\"Preenchimento completo\",AQ26=\"Falta Justificativa\"),VLOOKUP(X26,Controles!A:N,4,FALSE),\"\")","v":""},{"$f":"IF(OR(AQ26=\"Preenchimento completo\",AQ26=\"Falta Justificativa\"),ROUNDUP(AB26,0)*VLOOKUP(X26,Controles!A:N,6,FALSE),\"\")","v":""},"",{"$f":"IF(OR(AQ26=\"Preenchimento completo\",AQ26=\"Falta Justificativa\"),(AK26-AG26-AH26+VLOOKUP(X26,Controles!$A:$N,5,FALSE)*IF(AB26>6,2,1))*AC26,\"\")","v":""},null,"","",null,""]
["Walter",null,{"$f":"IF(B27=\"\",\"\",VLOOKUP(B27,Controles!A:N,2,FALSE))","v":""},"Alemanha",null,"",null,null,"",{"$f":"IF(D27=\"\",\"\",VLOOKUP(D27,Controles!P:T,5,FALSE))","v":"S"},{"$f":"IF(D27=\"\",\"\",VLOOKUP(D27,Controles!P:S,4,FALSE))","v":"Europa"},{"$f":"IF(I27=\"Preenchimento completo\",VLOOKUP(B27,Controles!A:N,3,FALSE)*G27,\"\")","v":""},{"$f":"IF(I27=\"Preenchimento completo\",VLOOKUP(C27&K27,Controles!J:K,2,FALSE)*IF(G27>6,2,1),\"\")","v":""},{"$f":"IF(I27=\"Preenchimento completo\",VLOOKUP(B27,Controles!A:N,5,FALSE)*IF(G27>6,2,1),\"\")","v":""},{"$f":"IF(I27=\"Preenchimento completo\",VLOOKUP(B27,Controles!A:N,4,FALSE),\"\")","v":""},{"$f":"IF(I27=\"Preenchimento completo\",ROUNDUP(G27,0)*VLOOKUP(B27,Controles!A:N,6,FALSE),\"\")","v":""},"",{"$f":"IF(I27=\"Preenchimento completo\",(Q27-M27-N27+VLOOKUP(B27,Controles!$A:$N,5,FALSE)*IF(G27>6,2,1))*H27,\"\")","v":""},"","","",null,null,null,{"$f":"IF(X27=\"\",\"\",VLOOKUP(X27,Controles!A:N,2,FALSE))","v":""},"Alemanha",null,null,null,{"$f":"IF(Z27=\"\",\"\",VLOOKUP(Z27,Controles!P:T,5,FALSE))","v":"S"},{"$f":"IF(Z27=\"\",\"\",VLOOKUP(Z27,Controles!P:S,4,FALSE))","v":"Europa"},{"$f":"IF(OR(AQ27=\"Preenchimento completo\",AQ27=\"Falta Justificativa\"),VLOOKUP(X27,Controles!A:N,3,FALSE)*AB27,\"\")","v":""},{"$f":"IF(OR(AQ27=\"Preenchimento completo\",AQ27=\"Falta Justificativa\"),VLOOKUP(Y27&AE27,Controles!J:K,2,FALSE)*IF(AB27>6,2,1),\"\")","v":""},{"$f":"IF(OR(AQ27=\"Preenchimento completo\",AQ27=\"Falta Justificativa\"),VLOOKUP(X27,Controles!A:N,5,FALSE)*IF(AB27>6,2,1),\"\")","v":""},{"$f":"IF(OR(AQ27=\"Preenchimento completo\",AQ27=\"Falta Justificativa\"),VLOOKUP(X27,Controles!A:N,4,FALSE),\"\")","v":""},{"$f":"IF(OR(AQ27=\"Preenchimento completo\",AQ27=\"Falta Justificativa\"),ROUNDUP(AB27,0)*VLOOKUP(X27,Controles!A:N,6,FALSE),\"\")","v":""},"",{"$f":"IF(OR(AQ27=\"Preenchimento completo\",AQ27=\"Falta Justificativa\"),(AK27-AG27-AH27+VLOOKUP(X27,Controles!$A:$N,5,FALSE)*IF(AB27>6,2,1))*AC27,\"\")","v":""},null,"","",null,""]
["Walter",null,{"$f":"IF(B28=\"\",\"\",VLOOKUP(B28,Controles!A:N,2,FALSE))","v":""},"Alemanha",null,"",null,null,"",{"$f":"IF(D28=\"\",\"\",VLOOKUP(D28,Controles!P:T,5,FALSE))","v":"S"},{"$f":"IF(D28=\"\",\"\",VLOOKUP(D28,Controles!P:S,4,FALSE))","v":"Europa"},{"$f":"IF(I28=\"Preenchimento completo\",VLOOKUP(B28,Controles!A:N,3,FALSE)*G28,\"\")","v":""},{"$f":"IF(I28=\"Preenchimento completo\",VLOOKUP(C28&K28,Controles!J:K,2,FALSE)*IF(G28>6,2,1),\"\")","v":""},{"$f":"IF(I28=\"Preenchimento completo\",VLOOKUP(B28,Controles!A:N,5,FALSE)*IF(G28>6,2,1),\"\")","v":""},{"$f":"IF(I28=\"Preenchimento completo\",VLOOKUP(B28,Controles!A:N,4,FALSE),\"\")","v":""},{"$f":"IF(I28=\"Preenchimento completo\",ROUNDUP(G28,0)*VLOOKUP(B28,Controles!A:N,6,FALSE),\"\")","v":""},"",{"$f":"IF(I28=\"Preenchimento completo\",(Q28-M28-N28+VLOOKUP(B28,Controles!$A:$N,5,FALSE)*IF(G28>6,2,1))*H28,\"\")","v":""},"","","",null,null,null,{"$f":"IF(X28=\"\",\"\",VLOOKUP(X28,Controles!A:N,2,FALSE))","v":""},"Alemanha",null,null,null,{"$f":"IF(Z28=\"\",\"\",VLOOKUP(Z28,Controles!P:T,5,FALSE))","v":"S"},{"$f":"IF(Z28=\"\",\"\",VLOOKUP(Z28,Controles!P:S,4,FALSE))","v":"Europa"},{"$f":"IF(OR(AQ28=\"Preenchimento completo\",AQ28=\"Falta Justificativa\"),VLOOKUP(X28,Controles!A:N,3,FALSE)*AB28,\"\")","v":""},{"$f":"IF(OR(AQ28=\"Preenchimento completo\",AQ28=\"Falta Justificativa\"),VLOOKUP(Y28&AE28,Controles!J:K,2,FALSE)*IF(AB28>6,2,1),\"\")","v":""},{"$f":"IF(OR(AQ28=\"Preenchimento completo\",AQ28=\"Falta Justificativa\"),VLOOKUP(X28,Controles!A:N,5,FALSE)*IF(AB28>6,2,1),\"\")","v":""},{"$f":"IF(OR(AQ28=\"Preenchimento completo\",AQ28=\"Falta Justificativa\"),VLOOKUP(X28,Controles!A:N,4,FALSE),\"\")","v":""},{"$f":"IF(OR(AQ28=\"Preenchimento completo\",AQ28=\"Falta Justificativa\"),ROUNDUP(AB28,0)*VLOOKUP(X28,Controles!A:N,6,FALSE),\"\")","v":""},"",{"$f":"IF(OR(AQ28=\"Preenchimento completo\",AQ28=\"Falta Justificativa\"),(AK28-AG28-AH28+VLOOKUP(X28,Controles!$A:$N,5,FALSE)*IF(AB28>6,2,1))*AC28,\"\")","v":""},null,"","",null,""]
["Walter",null,{"$f":"IF(B29=\"\",\"\",VLOOKUP(B29,Controles!A:N,2,FALSE))","v":""},"Alemanha",null,"",null,null,"",{"$f":"IF(D29=\"\",\"\",VLOOKUP(D29,Controles!P:T,5,FALSE))","v":"S"},{"$f":"IF(D29=\"\",\"\",VLOOKUP(D29,Controles!P:S,4,FALSE))","v":"Europa"},{"$f":"IF(I29=\"Preenchimento completo\",VLOOKUP(B29,Controles!A:N,3,FALSE)*G29,\"\")","v":""},{"$f":"IF(I29=\"Preenchimento completo\",VLOOKUP(C29&K29,Controles!J:K,2,FALSE)*IF(G29>6,2,1),\"\")","v":""},{"$f":"IF(I29=\"Preenchimento completo\",VLOOKUP(B29,Controles!A:N,5,FALSE)*IF(G29>6,2,1),\"\")","v":""},{"$f":"IF(I29=\"Preenchimento completo\",VLOOKUP(B29,Controles!A:N,4,FALSE),\"\")","v":""},{"$f":"IF(I29=\"Preenchimento completo\",ROUNDUP(G29,0)*VLOOKUP(B29,Controles!A:N,6,FALSE),\"\")","v":""},"",{"$f":"IF(I29=\"Preenchimento completo\",(Q29-M29-N29+VLOOKUP(B29,Controles!$A:$N,5,FALSE)*IF(G29>6,2,1))*H29,\"\")","v":""},"","","",null,null,null,{"$f":"IF(X29=\"\",\"\",VLOOKUP(X29,Controles!A:N,2,FALSE))","v":""},"Alemanha",null,null,null,{"$f":"IF(Z29=\"\",\"\",VLOOKUP(Z29,Controles!P:T,5,FALSE))","v":"S"},{"$f":"IF(Z29=\"\",\"\",VLOOKUP(Z29,Controles!P:S,4,FALSE))","v":"Europa"},{"$f":"IF(OR(AQ29=\"Preenchimento completo\",AQ29=\"Falta Justificativa\"),VLOOKUP(X29,Controles!A:N,3,FALSE)*AB29,\"\")","v":""},{"$f":"IF(OR(AQ29=\"Preenchimento completo\",AQ29=\"Falta Justificativa\"),VLOOKUP(Y29&AE29,Controles!J:K,2,FALSE)*IF(AB29>6,2,1),\"\")","v":""},{"$f":"IF(OR(AQ29=\"Preenchimento completo\",AQ29=\"Falta Justificativa\"),VLOOKUP(X29,Controles!A:N,5,FALSE)*IF(AB29>6,2,1),\"\")","v":""},{"$f":"IF(OR(AQ29=\"Preenchimento completo\",AQ29=\"Falta Justificativa\"),VLOOKUP(X29,Controles!A:N,4,FALSE),\"\")","v":""},{"$f":"IF(OR(AQ29=\"Preenchimento completo\",AQ29=\"Falta Justificativa\"),ROUNDUP(AB29,0)*VLOOKUP(X29,Controles!A:N,6,FALSE),\"\")","v":""},"",{"$f":"IF(OR(AQ29=\"Preenchimento completo\",AQ29=\"Falta Justificativa\"),(AK29-AG29-AH29+VLOOKUP(X29,Controles!$A:$N,5,FALSE)*IF(AB29>6,2,1))*AC29,\"\")","v":""},null,"","",null,""]
["Walter",null,{"$f":"IF(B30=\"\",\"\",VLOOKUP(B30,Controles!A:N,2,FALSE))","v":""},"Alemanha",null,"",null,null,"",{"$f":"IF(D30=\"\",\"\",VLOOKUP(D30,Controles!P:T,5,FALSE))","v":"S"},{"$f":"IF(D30=\"\",\"\",VLOOKUP(D30,Controles!P:S,4,FALSE))","v":"Europa"},{"$f":"IF(I30=\"Preenchimento completo\",VLOOKUP(B30,Controles!A:N,3,FALSE)*G30,\"\")","v":""},{"$f":"IF(I30=\"Preenchimento completo\",VLOOKUP(C30&K30,Controles!J:K,2,FALSE)*IF(G30>6,2,1),\"\")","v":""},{"$f":"IF(I30=\"Preenchimento completo\",VLOOKUP(B30,Controles!A:N,5,FALSE)*IF(G30>6,2,1),\"\")","v":""},{"$f":"IF(I30=\"Preenchimento completo\",VLOOKUP(B30,Controles!A:N,4,FALSE),\"\")","v":""},{"$f":"IF(I30=\"Preenchimento completo\",ROUNDUP(G30,0)*VLOOKUP(B30,Controles!A:N,6,FALSE),\"\")","v":""},"",{"$f":"IF(I30=\"Preenchimento completo\",(Q30-M30-N30+VLOOKUP(B30,Controles!$A:$N,5,FALSE)*IF(G30>6,2,1))*H30,\"\")","v":""},"","","",null,null,null,{"$f":"IF(X30=\"\",\"\",VLOOKUP(X30,Controles!A:N,2,FALSE))","v":""},"Alemanha",null,null,null,{"$f":"IF(Z30=\"\",\"\",VLOOKUP(Z30,Controles!P:T,5,FALSE))","v":"S"},{"$f":"IF(Z30=\"\",\"\",VLOOKUP(Z30,Controles!P:S,4,FALSE))","v":"Europa"},{"$f":"IF(OR(AQ30=\"Preenchimento completo\",AQ30=\"Falta Justificativa\"),VLOOKUP(X30,Controles!A:N,3,FALSE)*AB30,\"\")","v":""},{"$f":"IF(OR(AQ30=\"Preenchimento completo\",AQ30=\"Falta Justificativa\"),VLOOKUP(Y30&AE30,Controles!J:K,2,FALSE)*IF(AB30>6,2,1),\"\")","v":""},{"$f":"IF(OR(AQ30=\"Preenchimento completo\",AQ30=\"Falta Justificativa\"),VLOOKUP(X30,Controles!A:N,5,FALSE)*IF(AB30>6,2,1),\"\")","v":""},{"$f":"IF(OR(AQ30=\"Preenchimento completo\",AQ30=\"Falta Justificativa\"),VLOOKUP(X30,Controles!A:N,4,FALSE),\"\")","v":""},{"$f":"IF(OR(AQ30=\"Preenchimento completo\",AQ30=\"Falta Justificativa\"),ROUNDUP(AB30,0)*VLOOKUP(X30,Controles!A:N,6,FALSE),\"\")","v":""},"",{"$f":"IF(OR(AQ30=\"Preenchimento completo\",AQ30=\"Falta Justificativa\"),(AK30-AG30-AH30+VLOOKUP(X30,Controles!$A:$N,5,FALSE)*IF(AB30>6,2,1))*AC30,\"\")","v":""},null,"","",null,""]
["Walter",null,{"$f":"IF(B31=\"\",\"\",VLOOKUP(B31,Controles!A:N,2,FALSE))","v":""},"Alemanha",null,"",null,null,"",{"$f":"IF(D31=\"\",\"\",VLOOKUP(D31,Controles!P:T,5,FALSE))","v":"S"},{"$f":"IF(D31=\"\",\"\",VLOOKUP(D31,Controles!P:S,4,FALSE))","v":"Europa"},{"$f":"IF(I31=\"Preenchimento completo\",VLOOKUP(B31,Controles!A:N,3,FALSE)*G31,\"\")","v":""},{"$f":"IF(I31=\"Preenchimento completo\",VLOOKUP(C31&K31,Controles!J:K,2,FALSE)*IF(G31>6,2,1),\"\")","v":""},{"$f":"IF(I31=\"Preenchimento completo\",VLOOKUP(B31,Controles!A:N,5,FALSE)*IF(G31>6,2,1),\"\")","v":""},{"$f":"IF(I31=\"Preenchimento completo\",VLOOKUP(B31,Controles!A:N,4,FALSE),\"\")","v":""},{"$f":"IF(I31=\"Preenchimento completo\",ROUNDUP(G31,0)*VLOOKUP(B31,Controles!A:N,6,FALSE),\"\")","v":""},"",{"$f":"IF(I31=\"Preenchimento completo\",(Q31-M31-N31+VLOOKUP(B31,Controles!$A:$N,5,FALSE)*IF(G31>6,2,1))*H31,\"\")","v":""},"","","",null,null,null,{"$f":"IF(X31=\"\",\"\",VLOOKUP(X31,Controles!A:N,2,FALSE))","v":""},"Alemanha",null,null,null,{"$f":"IF(Z31=\"\",\"\",VLOOKUP(Z31,Controles!P:T,5,FALSE))","v":"S"},{"$f":"IF(Z31=\"\",\"\",VLOOKUP(Z31,Controles!P:S,4,FALSE))","v":"Europa"},{"$f":"IF(OR(AQ31=\"Preenchimento completo\",AQ31=\"Falta Justificativa\"),VLOOKUP(X31,Controles!A:N,3,FALSE)*AB31,\"\")","v":""},{"$f":"IF(OR(AQ31=\"Preenchimento completo\",AQ31=\"Falta Justificativa\"),VLOOKUP(Y31&AE31,Controles!J:K,2,FALSE)*IF(AB31>6,2,1),\"\")","v":""},{"$f":"IF(OR(AQ31=\"Preenchimento completo\",AQ31=\"Falta Justificativa\"),VLOOKUP(X31,Controles!A:N,5,FALSE)*IF(AB31>6,2,1),\"\")","v":""},{"$f":"IF(OR(AQ31=\"Preenchimento completo\",AQ31=\"Falta Justificativa\"),VLOOKUP(X31,Controles!A:N,4,FALSE),\"\")","v":""},{"$f":"IF(OR(AQ31=\"Preenchimento completo\",AQ31=\"Falta Justificativa\"),ROUNDUP(AB31,0)*VLOOKUP(X31,Controles!A:N,6,FALSE),\"\")","v":""},"",{"$f":"IF(OR(AQ31=\"Preenchimento completo\",AQ31=\"Falta Justificativa\"),(AK31-AG31-AH31+VLOOKUP(X31,Controles!$A:$N,5,FALSE)*IF(AB31>6,2,1))*AC31,\"\")","v":""},null,"","",null,""]
[null,null,{"$f":"IF(B32=\"\",\"\",VLOOKUP(B32,Controles!A:N,2,FALSE))","v":""},"Alemanha",null,"",null,null,"",{"$f":"IF(D32=\"\",\"\",VLOOKUP(D32,Controles!P:T,5,FALSE))","v":"S"},{"$f":"IF(D32=\"\",\"\",VLOOKUP(D32,Controles!P:S,4,FALSE))","v":"Europa"},{"$f":"IF(I32=\"Preenchimento completo\",VLOOKUP(B32,Controles!A:N,3,FALSE)*G32,\"\")","v":""},{"$f":"IF(I32=\"Preenchimento completo\",VLOOKUP(C32&K32,Controles!J:K,2,FALSE)*IF(G32>6,2,1),\"\")","v":""},{"$f":"IF(I32=\"Preenchimento completo\",VLOOKUP(B32,Controles!A:N,5,FALSE)*IF(G32>6,2,1),\"\")","v":""},{"$f":"IF(I32=\"Preenchimento completo\",VLOOKUP(B32,Controles!A:N,4,FALSE),\"\")","v":""},{"$f":"IF(I32=\"Preenchimento completo\",ROUNDUP(G32,0)*VLOOKUP(B32,Controles!A:N,6,FALSE),\"\")","v":""},"",{"$f":"IF(I32=\"Preenchimento completo\",(Q32-M32-N32+VLOOKUP(B32,Controles!$A:$N,5,FALSE)*IF(G32>6,2,1))*H32,\"\")","v":""},"","","",null,null,null,{"$f":"IF(X32=\"\",\"\",VLOOKUP(X32,Controles!A:N,2,FALSE))","v":""},"Alemanha",null,null,null,{"$f":"IF(Z32=\"\",\"\",VLOOKUP(Z32,Controles!P:T,5,FALSE))","v":"S"},{"$f":"IF(Z32=\"\",\"\",VLOOKUP(Z32,Controles!P:S,4,FALSE))","v":"Europa"},{"$f":"IF(OR(AQ32=\"Preenchimento completo\",AQ32=\"Falta Justificativa\"),VLOOKUP(X32,Controles!A:N,3,FALSE)*AB32,\"\")","v":""},{"$f":"IF(OR(AQ32=\"Preenchimento completo\",AQ32=\"Falta Justificativa\"),VLOOKUP(Y32&AE32,Controles!J:K,2,FALSE)*IF(AB32>6,2,1),\"\")","v":""},{"$f":"IF(OR(AQ32=\"Preenchimento completo\",AQ32=\"Falta Justificativa\"),VLOOKUP(X32,Controles!A:N,5,FALSE)*IF(AB32>6,2,1),\"\")","v":""},{"$f":"IF(OR(AQ32=\"Preenchimento completo\",AQ32=\"Falta Justificativa\"),VLOOKUP(X32,Controles!A:N,4,FALSE),\"\")","v":""},{"$f":"IF(OR(AQ32=\"Preenchimento completo\",AQ32=\"Falta Justificativa\"),ROUNDUP(AB32,0)*VLOOKUP(X32,Controles!A:N,6,FALSE),\"\")","v":""},"",{"$f":"IF(OR(AQ32=\"Preenchimento completo\",AQ32=\"Falta Justificativa\"),(AK32-AG32-AH32+VLOOKUP(X32,Controles!$A:$N,5,FALSE)*IF(AB32>6,2,1))*AC32,\"\")","v":""},null,"","",null,""]
[null,null,{"$f":"IF(B33=\"\",\"\",VLOOKUP(B33,Controles!A:N,2,FALSE))","v":""},"Alemanha",null,"",null,null,"",{"$f":"IF(D33=\"\",\"\",VLOOKUP(D33,Controles!P:T,5,FALSE))","v":"S"},{"$f":"IF(D33=\"\",\"\",VLOOKUP(D33,Controles!P:S,4,FALSE))","v":"Europa"},{"$f":"IF(I33=\"Preenchimento completo\",VLOOKUP(B33,Controles!A:N,3,FALSE)*G33,\"\")","v":""},{"$f":"IF(I33=\"Preenchimento completo\",VLOOKUP(C33&K33,Controles!J:K,2,FALSE)*IF(G33>6,2,1),\"\")","v":""},{"$f":"IF(I33=\"Preenchimento completo\",VLOOKUP(B33,Controles!A:N,5,FALSE)*IF(G33>6,2,1),\"\")","v":""},{"$f":"IF(I33=\"Preenchimento completo\",VLOOKUP(B33,Controles!A:N,4,FALSE),\"\")","v":""},{"$f":"IF(I33=\"Preenchimento completo\",ROUNDUP(G33,0)*VLOOKUP(B33,Controles!A:N,6,FALSE),\"\")","v":""},"",{"$f":"IF(I33=\"Preenchimento completo\",(Q33-M33-N33+VLOOKUP(B33,Controles!$A:$N,5,FALSE)*IF(G33>6,2,1))*H33,\"\")","v":""},{"$f":"IF(R33=\"\",\"\",R33-Q33)","v":""},"","",null,null,null,{"$f":"IF(X33=\"\",\"\",VLOOKUP(X33,Controles!A:N,2,FALSE))","v":""},"Alemanha",null,null,null,{"$f":"IF(Z33=\"\",\"\",VLOOKUP(Z33,Controles!P:T,5,FALSE))","v":"S"},{"$f":"IF(Z33=\"\",\"\",VLOOKUP(Z33,Controles!P:S,4,FALSE))","v":"Europa"},{"$f":"IF(OR(AQ33=\"Preenchimento completo\",AQ33=\"Falta Justificativa\"),VLOOKUP(X33,Controles!A:N,3,FALSE)*AB33,\"\")","v":""},{"$f":"IF(OR(AQ33=\"Preenchimento completo\",AQ33=\"Falta Justificativa\"),VLOOKUP(Y33&AE33,Controles!J:K,2,FALSE)*IF(AB33>6,2,1),\"\")","v":""},{"$f":"IF(OR(AQ33=\"Preenchimento completo\",AQ33=\"Falta Justificativa\"),VLOOKUP(X33,Controles!A:N,5,FALSE)*IF(AB33>6,2,1),\"\")","v":""},{"$f":"IF(OR(AQ33=\"Preenchimento completo\",AQ33=\"Falta Justificativa\"),VLOOKUP(X33,Controles!A:N,4,FALSE),\"\")","v":""},{"$f":"IF(OR(AQ33=\"Preenchimento completo\",AQ33=\"Falta Justificativa\"),ROUNDUP(AB33,0)*VLOOKUP(X33,Controles!A:N,6,FALSE),\"\")","v":""},"",{"$f":"IF(OR(AQ33=\"Preenchimento completo\",AQ33=\"Falta Justificativa\"),(AK33-AG33-AH33+VLOOKUP(X33,Controles!$A:$N,5,FALSE)*IF(AB33>6,2,1))*AC33,\"\")","v":""},null,"","",null,""]
[null,null,{"$f":"IF(B34=\"\",\"\",VLOOKUP(B34,Controles!A:N,2,FALSE))","v":""},"Alemanha",null,"",null,null,"",{"$f":"IF(D34=\"\",\"\",VLOOKUP(D34,Controles!P:T,5,FALSE))","v":"S"},{"$f":"IF(D34=\"\",\"\",VLOOKUP(D34,Controles!P:S,4,FALSE))","v":"Europa"},{"$f":"IF(I34=\"Preenchimento completo\",VLOOKUP(B34,Controles!A:N,3,FALSE)*G34,\"\")","v":""},{"$f":"IF(I34=\"Preenchimento completo\",VLOOKUP(C34&K34,Controles!J:K,2,FALSE)*IF(G34>6,2,1),\"\")","v":""},{"$f":"IF(I34=\"Preenchimento completo\",VLOOKUP(B34,Controles!A:N,5,FALSE)*IF(G34>6,2,1),\"\")","v":""},{"$f":"IF(I34=\"Preenchimento completo\",VLOOKUP(B34,Controles!A:N,4,FALSE),\"\")","v":""},{"$f":"IF(I34=\"Preenchimento completo\",ROUNDUP(G34,0)*VLOOKUP(B34,Controles!A:N,6,FALSE),\"\")","v":""},"",{"$f":"IF(I34=\"Preenchimento completo\",(Q34-M34-N34+VLOOKUP(B34,Controles!$A:$N,5,FALSE)*IF(G34>6,2,1))*H34,\"\")","v":""},"","","",null,null,null,{"$f":"IF(X34=\"\",\"\",VLOOKUP(X34,Controles!A:N,2,FALSE))","v":""},"Alemanha",null,null,null,{"$f":"IF(Z34=\"\",\"\",VLOOKUP(Z34,Controles!P:T,5,FALSE))","v":"S"},{"$f":"IF(Z34=\"\",\"\",VLOOKUP(Z34,Controles!P:S,4,FALSE))","v":"Europa"},{"$f":"IF(OR(AQ34=\"Preenchimento completo\",AQ34=\"Falta Justificativa\"),VLOOKUP(X34,Controles!A:N,3,FALSE)*AB34,\"\")","v":""},{"$f":"IF(OR(AQ34=\"Preenchimento completo\",AQ34=\"Falta Justificativa\"),VLOOKUP(Y34&AE34,Controles!J:K,2,FALSE)*IF(AB34>6,2,1),\"\")","v":""},{"$f":"IF(OR(AQ34=\"Preenchimento completo\",AQ34=\"Falta Justificativa\"),VLOOKUP(X34,Controles!A:N,5,FALSE)*IF(AB34>6,2,1),\"\")","v":""},{"$f":"IF(OR(AQ34=\"Preenchimento completo\",AQ34=\"Falta Justificativa\"),VLOOKUP(X34,Controles!A:N,4,FALSE),\"\")","v":""},{"$f":"IF(OR(AQ34=\"Preenchimento completo\",AQ34=\"Falta Justificativa\"),ROUNDUP(AB34,0)*VLOOKUP(X34,Controles!A:N,6,FALSE),\"\")","v":""},"",{"$f":"IF(OR(AQ34=\"Preenchimento completo\",AQ34=\"Falta Justificativa\"),(AK34-AG34-AH34+VLOOKUP(X34,Controles!$A:$N,5,FALSE)*IF(AB34>6,2,1))*AC34,\"\")","v":""},null,"","",null,""]
[null,null,{"$f":"IF(B35=\"\",\"\",VLOOKUP(B35,Controles!A:N,2,FALSE))","v":""},"Alemanha",null,"",null,null,"",{"$f":"IF(D35=\"\",\"\",VLOOKUP(D35,Controles!P:T,5,FALSE))","v":"S"},{"$f":"IF(D35=\"\",\"\",VLOOKUP(D35,Controles!P:S,4,FALSE))","v":"Europa"},{"$f":"IF(I35=\"Preenchimento completo\",VLOOKUP(B35,Controles!A:N,3,FALSE)*G35,\"\")","v":""},{"$f":"IF(I35=\"Preenchimento completo\",VLOOKUP(C35&K35,Controles!J:K,2,FALSE)*IF(G35>6,2,1),\"\")","v":""},{"$f":"IF(I35=\"Preenchimento completo\",VLOOKUP(B35,Controles!A:N,5,FALSE)*IF(G35>6,2,1),\"\")","v":""},{"$f":"IF(I35=\"Preenchimento completo\",VLOOKUP(B35,Controles!A:N,4,FALSE),\"\")","v":""},{"$f":"IF(I35=\"Preenchimento completo\",ROUNDUP(G35,0)*VLOOKUP(B35,Controles!A:N,6,FALSE),\"\")","v":""},"",{"$f":"IF(I35=\"Preenchimento completo\",(Q35-M35-N35+VLOOKUP(B35,Controles!$A:$N,5,FALSE)*IF(G35>6,2,1))*H35,\"\")","v":""},"","","",null,null,null,{"$f":"IF(X35=\"\",\"\",VLOOKUP(X35,Controles!A:N,2,FALSE))","v":""},"Alemanha",null,null,null,{"$f":"IF(Z35=\"\",\"\",VLOOKUP(Z35,Controles!P:T,5,FALSE))","v":"S"},{"$f":"IF(Z35=\"\",\"\",VLOOKUP(Z35,Controles!P:S,4,FALSE))","v":"Europa"},{"$f":"IF(OR(AQ35=\"Preenchimento completo\",AQ35=\"Falta Justificativa\"),VLOOKUP(X35,Controles!A:N,3,FALSE)*AB35,\"\")","v":""},{"$f":"IF(OR(AQ35=\"Preenchimento completo\",AQ35=\"Falta Justificativa\"),VLOOKUP(Y35&AE35,Controles!J:K,2,FALSE)*IF(AB35>6,2,1),\"\")","v":""},{"$f":"IF(OR(AQ35=\"Preenchimento completo\",AQ35=\"Falta Justificativa\"),VLOOKUP(X35,Controles!A:N,5,FALSE)*IF(AB35>6,2,1),\"\")","v":""},{"$f":"IF(OR(AQ35=\"Preenchimento completo\",AQ35=\"Falta Justificativa\"),VLOOKUP(X35,Controles!A:N,4,FALSE),\"\")","v":""},{"$f":"IF(OR(AQ35=\"Preenchimento completo\",AQ35=\"Falta Justificativa\"),ROUNDUP(AB35,0)*VLOOKUP(X35,Controles!A:N,6,FALSE),\"\")","v":""},"",{"$f":"IF(OR(AQ35=\"Preenchimento completo\",AQ35=\"Falta Justificativa\"),(AK35-AG35-AH35+VLOOKUP(X35,Controles!$A:$N,5,FALSE)*IF(AB35>6,2,1))*AC35,\"\")","v":""},null,"","",null,""]
[null,null,{"$f":"IF(B36=\"\",\"\",VLOOKUP(B36,Controles!A:N,2,FALSE))","v":""},"Alemanha",null,"",null,null,"",{"$f":"IF(D36=\"\",\"\",VLOOKUP(D36,Controles!P:T,5,FALSE))","v":"S"},{"$f":"IF(D36=\"\",\"\",VLOOKUP(D36,Controles!P:S,4,FALSE))","v":"Europa"},{"$f":"IF(I36=\"Preenchimento completo\",VLOOKUP(B36,Controles!A:N,3,FALSE)*G36,\"\")","v":""},{"$f":"IF(I36=\"Preenchimento completo\",VLOOKUP(C36&K36,Controles!J:K,2,FALSE)*IF(G36>6,2,1),\"\")","v":""},{"$f":"IF(I36=\"Preenchimento completo\",VLOOKUP(B36,Controles!A:N,5,FALSE)*IF(G36>6,2,1),\"\")","v":""},{"$f":"IF(I36=\"Preenchimento completo\",VLOOKUP(B36,Controles!A:N,4,FALSE),\"\")","v":""},{"$f":"IF(I36=\"Preenchimento completo\",ROUNDUP(G36,0)*VLOOKUP(B36,Controles!A:N,6,FALSE),\"\")","v":""},"",{"$f":"IF(I36=\"Preenchimento completo\",(Q36-M36-N36+VLOOKUP(B36,Controles!$A:$N,5,FALSE)*IF(G36>6,2,1))*H36,\"\")","v":""},"","","",null,null,null,{"$f":"IF(X36=\"\",\"\",VLOOKUP(X36,Controles!A:N,2,FALSE))","v":""},"Alemanha",null,null,null,{"$f":"IF(Z36=\"\",\"\",VLOOKUP(Z36,Controles!P:T,5,FALSE))","v":"S"},{"$f":"IF(Z36=\"\",\"\",VLOOKUP(Z36,Controles!P:S,4,FALSE))","v":"Europa"},{"$f":"IF(OR(AQ36=\"Preenchimento completo\",AQ36=\"Falta Justificativa\"),VLOOKUP(X36,Controles!A:N,3,FALSE)*AB36,\"\")","v":""},{"$f":"IF(OR(AQ36=\"Preenchimento completo\",AQ36=\"Falta Justificativa\"),VLOOKUP(Y36&AE36,Controles!J:K,2,FALSE)*IF(AB36>6,2,1),\"\")","v":""},{"$f":"IF(OR(AQ36=\"Preenchimento completo\",AQ36=\"Falta Justificativa\"),VLOOKUP(X36,Controles!A:N,5,FALSE)*IF(AB36>6,2,1),\"\")","v":""},{"$f":"IF(OR(AQ36=\"Preenchimento completo\",AQ36=\"Falta Justificativa\"),VLOOKUP(X36,Controles!A:N,4,FALSE),\"\")","v":""},{"$f":"IF(OR(AQ36=\"Preenchimento completo\",AQ36=\"Falta Justificativa\"),ROUNDUP(AB36,0)*VLOOKUP(X36,Controles!A:N,6,FALSE),\"\")","v":""},"",{"$f":"IF(OR(AQ36=\"Preenchimento completo\",AQ36=\"Falta Justificativa\"),(AK36-AG36-AH36+VLOOKUP(X36,Controles!$A:$N,5,FALSE)*IF(AB36>6,2,1))*AC36,\"\")","v":""},null,"","",null,""]
[null,null,{"$f":"IF(B37=\"\",\"\",VLOOKUP(B37,Controles!A:N,2,FALSE))","v":""},"Alemanha",null,"",null,null,"",{"$f":"IF(D37=\"\",\"\",VLOOKUP(D37,Controles!P:T,5,FALSE))","v":"S"},{"$f":"IF(D37=\"\",\"\",VLOOKUP(D37,Controles!P:S,4,FALSE))","v":"Europa"},{"$f":"IF(I37=\"Preenchimento completo\",VLOOKUP(B37,Controles!A:N,3,FALSE)*G37,\"\")","v":""},{"$f":"IF(I37=\"Preenchimento completo\",VLOOKUP(C37&K37,Controles!J:K,2,FALSE)*IF(G37>6,2,1),\"\")","v":""},{"$f":"IF(I37=\"Preenchimento completo\",VLOOKUP(B37,Controles!A:N,5,FALSE)*IF(G37>6,2,1),\"\")","v":""},{"$f":"IF(I37=\"Preenchimento completo\",VLOOKUP(B37,Controles!A:N,4,FALSE),\"\")","v":""},{"$f":"IF(I37=\"Preenchimento completo\",ROUNDUP(G37,0)*VLOOKUP(B37,Controles!A:N,6,FALSE),\"\")","v":""},"",{"$f":"IF(I37=\"Preenchimento completo\",(Q37-M37-N37+VLOOKUP(B37,Controles!$A:$N,5,FALSE)*IF(G37>6,2,1))*H37,\"\")","v":""},"","","",null,null,null,{"$f":"IF(X37=\"\",\"\",VLOOKUP(X37,Controles!A:N,2,FALSE))","v":""},"Alemanha",null,null,null,{"$f":"IF(Z37=\"\",\"\",VLOOKUP(Z37,Controles!P:T,5,FALSE))","v":"S"},{"$f":"IF(Z37=\"\",\"\",VLOOKUP(Z37,Controles!P:S,4,FALSE))","v":"Europa"},{"$f":"IF(OR(AQ37=\"Preenchimento completo\",AQ37=\"Falta Justificativa\"),VLOOKUP(X37,Controles!A:N,3,FALSE)*AB37,\"\")","v":""},{"$f":"IF(OR(AQ37=\"Preenchimento completo\",AQ37=\"Falta Justificativa\"),VLOOKUP(Y37&AE37,Controles!J:K,2,FALSE)*IF(AB37>6,2,1),\"\")","v":""},{"$f":"IF(OR(AQ37=\"Preenchimento completo\",AQ37=\"Falta Justificativa\"),VLOOKUP(X37,Controles!A:N,5,FALSE)*IF(AB37>6,2,1),\"\")","v":""},{"$f":"IF(OR(AQ37=\"Preenchimento completo\",AQ37=\"Falta Justificativa\"),VLOOKUP(X37,Controles!A:N,4,FALSE),\"\")","v":""},{"$f":"IF(OR(AQ37=\"Preenchimento completo\",AQ37=\"Falta Justificativa\"),ROUNDUP(AB37,0)*VLOOKUP(X37,Controles!A:N,6,FALSE),\"\")","v":""},"",{"$f":"IF(OR(AQ37=\"Preenchimento completo\",AQ37=\"Falta Justificativa\"),(AK37-AG37-AH37+VLOOKUP(X37,Controles!$A:$N,5,FALSE)*IF(AB37>6,2,1))*AC37,\"\")","v":""},null,"","",null,""]
[null,null,{"$f":"IF(B38=\"\",\"\",VLOOKUP(B38,Controles!A:N,2,FALSE))","v":""},"Alemanha",null,"",null,null,"",{"$f":"IF(D38=\"\",\"\",VLOOKUP(D38,Controles!P:T,5,FALSE))","v":"S"},{"$f":"IF(D38=\"\",\"\",VLOOKUP(D38,Controles!P:S,4,FALSE))","v":"Europa"},{"$f":"IF(I38=\"Preenchimento completo\",VLOOKUP(B38,Controles!A:N,3,FALSE)*G38,\"\")","v":""},{"$f":"IF(I38=\"Preenchimento completo\",VLOOKUP(C38&K38,Controles!J:K,2,FALSE)*IF(G38>6,2,1),\"\")","v":""},{"$f":"IF(I38=\"Preenchimento completo\",VLOOKUP(B38,Controles!A:N,5,FALSE)*IF(G38>6,2,1),\"\")","v":""},{"$f":"IF(I38=\"Preenchimento completo\",VLOOKUP(B38,Controles!A:N,4,FALSE),\"\")","v":""},{"$f":"IF(I38=\"Preenchimento completo\",ROUNDUP(G38,0)*VLOOKUP(B38,Controles!A:N,6,FALSE),\"\")","v":""},"",{"$f":"IF(I38=\"Preenchimento completo\",(Q38-M38-N38+VLOOKUP(B38,Controles!$A:$N,5,FALSE)*IF(G38>6,2,1))*H38,\"\")","v":""},"","","",null,null,null,{"$f":"IF(X38=\"\",\"\",VLOOKUP(X38,Controles!A:N,2,FALSE))","v":""},"Alemanha",null,null,null,{"$f":"IF(Z38=\"\",\"\",VLOOKUP(Z38,Controles!P:T,5,FALSE))","v":"S"},{"$f":"IF(Z38=\"\",\"\",VLOOKUP(Z38,Controles!P:S,4,FALSE))","v":"Europa"},{"$f":"IF(OR(AQ38=\"Preenchimento completo\",AQ38=\"Falta Justificativa\"),VLOOKUP(X38,Controles!A:N,3,FALSE)*AB38,\"\")","v":""},{"$f":"IF(OR(AQ38=\"Preenchimento completo\",AQ38=\"Falta Justificativa\"),VLOOKUP(Y38&AE38,Controles!J:K,2,FALSE)*IF(AB38>6,2,1),\"\")","v":""},{"$f":"IF(OR(AQ38=\"Preenchimento completo\",AQ38=\"Falta Justificativa\"),VLOOKUP(X38,Controles!A:N,5,FALSE)*IF(AB38>6,2,1),\"\")","v":""},{"$f":"IF(OR(AQ38=\"Preenchimento completo\",AQ38=\"Falta Justificativa\"),VLOOKUP(X38,Controles!A:N,4,FALSE),\"\")","v":""},{"$f":"IF(OR(AQ38=\"Preenchimento completo\",AQ38=\"Falta Justificativa\"),ROUNDUP(AB38,0)*VLOOKUP(X38,Controles!A:N,6,FALSE),\"\")","v":""},"",{"$f":"IF(OR(AQ38=\"Preenchimento completo\",AQ38=\"Falta Justificativa\"),(AK38-AG38-AH38+VLOOKUP(X38,Controles!$A:$N,5,FALSE)*IF(AB38>6,2,1))*AC38,\"\")","v":""},null,"","",null,""]
[null,null,{"$f":"IF(B39=\"\",\"\",VLOOKUP(B39,Controles!A:N,2,FALSE))","v":""},"Alemanha",null,"",null,null,"",{"$f":"IF(D39=\"\",\"\",VLOOKUP(D39,Controles!P:T,5,FALSE))","v":"S"},{"$f":"IF(D39=\"\",\"\",VLOOKUP(D39,Controles!P:S,4,FALSE))","v":"Europa"},{"$f":"IF(I39=\"Preenchimento completo\",VLOOKUP(B39,Controles!A:N,3,FALSE)*G39,\"\")","v":""},{"$f":"IF(I39=\"Preenchimento completo\",VLOOKUP(C39&K39,Controles!J:K,2,FALSE)*IF(G39>6,2,1),\"\")","v":""},{"$f":"IF(I39=\"Preenchimento completo\",VLOOKUP(B39,Controles!A:N,5,FALSE)*IF(G39>6,2,1),\"\")","v":""},{"$f":"IF(I39=\"Preenchimento completo\",VLOOKUP(B39,Controles!A:N,4,FALSE),\"\")","v":""},{"$f":"IF(I39=\"Preenchimento completo\",ROUNDUP(G39,0)*VLOOKUP(B39,Controles!A:N,6,FALSE),\"\")","v":""},"",{"$f":"IF(I39=\"Preenchimento completo\",(Q39-M39-N39+VLOOKUP(B39,Controles!$A:$N,5,FALSE)*IF(G39>6,2,1))*H39,\"\")","v":""},{"$f":"IF(R39=\"\",\"\",R39-Q39)","v":""},"","",null,null,null,{"$f":"IF(X39=\"\",\"\",VLOOKUP(X39,Controles!A:N,2,FALSE))","v":""},"Alemanha",null,null,null,{"$f":"IF(Z39=\"\",\"\",VLOOKUP(Z39,Controles!P:T,5,FALSE))","v":"S"},{"$f":"IF(Z39=\"\",\"\",VLOOKUP(Z39,Controles!P:S,4,FALSE))","v":"Europa"},{"$f":"IF(OR(AQ39=\"Preenchimento completo\",AQ39=\"Falta Justificativa\"),VLOOKUP(X39,Controles!A:N,3,FALSE)*AB39,\"\")","v":""},{"$f":"IF(OR(AQ39=\"Preenchimento completo\",AQ39=\"Falta Justificativa\"),VLOOKUP(Y39&AE39,Controles!J:K,2,FALSE)*IF(AB39>6,2,1),\"\")","v":""},{"$f":"IF(OR(AQ39=\"Preenchimento completo\",AQ39=\"Falta Justificativa\"),VLOOKUP(X39,Controles!A:N,5,FALSE)*IF(AB39>6,2,1),\"\")","v":""},{"$f":"IF(OR(AQ39=\"Preenchimento completo\",AQ39=\"Falta Justificativa\"),VLOOKUP(X39,Controles!A:N,4,FALSE),\"\")","v":""},{"$f":"IF(OR(AQ39=\"Preenchimento completo\",AQ39=\"Falta Justificativa\"),ROUNDUP(AB39,0)*VLOOKUP(X39,Controles!A:N,6,FALSE),\"\")","v":""},"",{"$f":"IF(OR(AQ39=\"Preenchimento completo\",AQ39=\"Falta Justificativa\"),(AK39-AG39-AH39+VLOOKUP(X39,Controles!$A:$N,5,FALSE)*IF(AB39>6,2,1))*AC39,\"\")","v":""},null,"","",null,""]
[null,null,{"$f":"IF(B40=\"\",\"\",VLOOKUP(B40,Controles!A:N,2,FALSE))","v":""},"Alemanha",null,"",null,null,"",{"$f":"IF(D40=\"\",\"\",VLOOKUP(D40,Controles!P:T,5,FALSE))","v":"S"},{"$f":"IF(D40=\"\",\"\",VLOOKUP(D40,Controles!P:S,4,FALSE))","v":"Europa"},{"$f":"IF(I40=\"Preenchimento completo\",VLOOKUP(B40,Controles!A:N,3,FALSE)*G40,\"\")","v":""},{"$f":"IF(I40=\"Preenchimento completo\",VLOOKUP(C40&K40,Controles!J:K,2,FALSE)*IF(G40>6,2,1),\"\")","v":""},{"$f":"IF(I40=\"Preenchimento completo\",VLOOKUP(B40,Controles!A:N,5,FALSE)*IF(G40>6,2,1),\"\")","v":""},{"$f":"IF(I40=\"Preenchimento completo\",VLOOKUP(B40,Controles!A:N,4,FALSE),\"\")","v":""},{"$f":"IF(I40=\"Preenchimento completo\",ROUNDUP(G40,0)*VLOOKUP(B40,Controles!A:N,6,FALSE),\"\")","v":""},"",{"$f":"IF(I40=\"Preenchimento completo\",(Q40-M40-N40+VLOOKUP(B40,Controles!$A:$N,5,FALSE)*IF(G40>6,2,1))*H40,\"\")","v":""},"","","",null,null,null,{"$f":"IF(X40=\"\",\"\",VLOOKUP(X40,Controles!A:N,2,FALSE))","v":""},"Alemanha",null,null,null,{"$f":"IF(Z40=\"\",\"\",VLOOKUP(Z40,Controles!P:T,5,FALSE))","v":"S"},{"$f":"IF(Z40=\"\",\"\",VLOOKUP(Z40,Controles!P:S,4,FALSE))","v":"Europa"},{"$f":"IF(OR(AQ40=\"Preenchimento completo\",AQ40=\"Falta Justificativa\"),VLOOKUP(X40,Controles!A:N,3,FALSE)*AB40,\"\")","v":""},{"$f":"IF(OR(AQ40=\"Preenchimento completo\",AQ40=\"Falta Justificativa\"),VLOOKUP(Y40&AE40,Controles!J:K,2,FALSE)*IF(AB40>6,2,1),\"\")","v":""},{"$f":"IF(OR(AQ40=\"Preenchimento completo\",AQ40=\"Falta Justificativa\"),VLOOKUP(X40,Controles!A:N,5,FALSE)*IF(AB40>6,2,1),\"\")","v":""},{"$f":"IF(OR(AQ40=\"Preenchimento completo\",AQ40=\"Falta Justificativa\"),VLOOKUP(X40,Controles!A:N,4,FALSE),\"\")","v":""},{"$f":"IF(OR(AQ40=\"Preenchimento completo\",AQ40=\"Falta Justificativa\"),ROUNDUP(AB40,0)*VLOOKUP(X40,Controles!A:N,6,FALSE),\"\")","v":""},"",{"$f":"IF(OR(AQ40=\"Preenchimento completo\",AQ40=\"Falta Justificativa\"),(AK40-AG40-AH40+VLOOKUP(X40,Controles!$A:$N,5,FALSE)*IF(AB40>6,2,1))*AC40,\"\")","v":""},null,"","",null,""]
[null,null,{"$f":"IF(B41=\"\",\"\",VLOOKUP(B41,Controles!A:N,2,FALSE))","v":""},"Alemanha",null,"",null,null,"",{"$f":"IF(D41=\"\",\"\",VLOOKUP(D41,Controles!P:T,5,FALSE))","v":"S"},{"$f":"IF(D41=\"\",\"\",VLOOKUP(D41,Controles!P:S,4,FALSE))","v":"Europa"},{"$f":"IF(I41=\"Preenchimento completo\",VLOOKUP(B41,Controles!A:N,3,FALSE)*G41,\"\")","v":""},{"$f":"IF(I41=\"Preenchimento completo\",VLOOKUP(C41&K41,Controles!J:K,2,FALSE)*IF(G41>6,2,1),\"\")","v":""},{"$f":"IF(I41=\"Preenchimento completo\",VLOOKUP(B41,Controles!A:N,5,FALSE)*IF(G41>6,2,1),\"\")","v":""},{"$f":"IF(I41=\"Preenchimento completo\",VLOOKUP(B41,Controles!A:N,4,FALSE),\"\")","v":""},{"$f":"IF(I41=\"Preenchimento completo\",ROUNDUP(G41,0)*VLOOKUP(B41,Controles!A:N,6,FALSE),\"\")","v":""},"",{"$f":"IF(I41=\"Preenchimento completo\",(Q41-M41-N41+VLOOKUP(B41,Controles!$A:$N,5,FALSE)*IF(G41>6,2,1))*H41,\"\")","v":""},"","","",null,null,null,{"$f":"IF(X41=\"\",\"\",VLOOKUP(X41,Controles!A:N,2,FALSE))","v":""},"Alemanha",null,null,null,{"$f":"IF(Z41=\"\",\"\",VLOOKUP(Z41,Controles!P:T,5,FALSE))","v":"S"},{"$f":"IF(Z41=\"\",\"\",VLOOKUP(Z41,Controles!P:S,4,FALSE))","v":"Europa"},{"$f":"IF(OR(AQ41=\"Preenchimento completo\",AQ41=\"Falta Justificativa\"),VLOOKUP(X41,Controles!A:N,3,FALSE)*AB41,\"\")","v":""},{"$f":"IF(OR(AQ41=\"Preenchimento completo\",AQ41=\"Falta Justificativa\"),VLOOKUP(Y41&AE41,Controles!J:K,2,FALSE)*IF(AB41>6,2,1),\"\")","v":""},{"$f":"IF(OR(AQ41=\"Preenchimento completo\",AQ41=\"Falta Justificativa\"),VLOOKUP(X41,Controles!A:N,5,FALSE)*IF(AB41>6,2,1),\"\")","v":""},{"$f":"IF(OR(AQ41=\"Preenchimento completo\",AQ41=\"Falta Justificativa\"),VLOOKUP(X41,Controles!A:N,4,FALSE),\"\")","v":""},{"$f":"IF(OR(AQ41=\"Preenchimento completo\",AQ41=\"Falta Justificativa\"),ROUNDUP(AB41,0)*VLOOKUP(X41,Controles!A:N,6,FALSE),\"\")","v":""},"",{"$f":"IF(OR(AQ41=\"Preenchimento completo\",AQ41=\"Falta Justificativa\"),(AK41-AG41-AH41+VLOOKUP(X41,Controles!$A:$N,5,FALSE)*IF(AB41>6,2,1))*AC41,\"\")","v":""},null,"","",null,""]
[null,null,{"$f":"IF(B42=\"\",\"\",VLOOKUP(B42,Controles!A:N,2,FALSE))","v":""},"Alemanha",null,"",null,null,"",{"$f":"IF(D42=\"\",\"\",VLOOKUP(D42,Controles!P:T,5,FALSE))","v":"S"},{"$f":"IF(D42=\"\",\"\",VLOOKUP(D42,Controles!P:S,4,FALSE))","v":"Europa"},{"$f":"IF(I42=\"Preenchimento completo\",VLOOKUP(B42,Controles!A:N,3,FALSE)*G42,\"\")","v":""},{"$f":"IF(I42=\"Preenchimento completo\",VLOOKUP(C42&K42,Controles!J:K,2,FALSE)*IF(G42>6,2,1),\"\")","v":""},{"$f":"IF(I42=\"Preenchimento completo\",VLOOKUP(B42,Controles!A:N,5,FALSE)*IF(G42>6,2,1),\"\")","v":""},{"$f":"IF(I42=\"Preenchimento completo\",VLOOKUP(B42,Controles!A:N,4,FALSE),\"\")","v":""},{"$f":"IF(I42=\"Preenchimento completo\",ROUNDUP(G42,0)*VLOOKUP(B42,Controles!A:N,6,FALSE),\"\")","v":""},"",{"$f":"IF(I42=\"Preenchimento completo\",(Q42-M42-N42+VLOOKUP(B42,Controles!$A:$N,5,FALSE)*IF(G42>6,2,1))*H42,\"\")","v":""},"","","",null,null,null,{"$f":"IF(X42=\"\",\"\",VLOOKUP(X42,Controles!A:N,2,FALSE))","v":""},"Alemanha",null,null,null,{"$f":"IF(Z42=\"\",\"\",VLOOKUP(Z42,Controles!P:T,5,FALSE))","v":"S"},{"$f":"IF(Z42=\"\",\"\",VLOOKUP(Z42,Controles!P:S,4,FALSE))","v":"Europa"},{"$f":"IF(OR(AQ42=\"Preenchimento completo\",AQ42=\"Falta Justificativa\"),VLOOKUP(X42,Controles!A:N,3,FALSE)*AB42,\"\")","v":""},{"$f":"IF(OR(AQ42=\"Preenchimento completo\",AQ42=\"Falta Justificativa\"),VLOOKUP(Y42&AE42,Controles!J:K,2,FALSE)*IF(AB42>6,2,1),\"\")","v":""},{"$f":"IF(OR(AQ42=\"Preenchimento completo\",AQ42=\"Falta Justificativa\"),VLOOKUP(X42,Controles!A:N,5,FALSE)*IF(AB42>6,2,1),\"\")","v":""},{"$f":"IF(OR(AQ42=\"Preenchimento completo\",AQ42=\"Falta Justificativa\"),VLOOKUP(X42,Controles!A:N,4,FALSE),\"\")","v":""},{"$f":"IF(OR(AQ42=\"Preenchimento completo\",AQ42=\"Falta Justificativa\"),ROUNDUP(AB42,0)*VLOOKUP(X42,Controles!A:N,6,FALSE),\"\")","v":""},"",{"$f":"IF(OR(AQ42=\"Preenchimento completo\",AQ42=\"Falta Justificativa\"),(AK42-AG42-AH42+VLOOKUP(X42,Controles!$A:$N,5,FALSE)*IF(AB42>6,2,1))*AC42,\"\")","v":""},null,"","",null,""]
[null,null,{"$f":"IF(B43=\"\",\"\",VLOOKUP(B43,Controles!A:N,2,FALSE))","v":""},"Alemanha",null,"",null,null,"",{"$f":"IF(D43=\"\",\"\",VLOOKUP(D43,Controles!P:T,5,FALSE))","v":"S"},{"$f":"IF(D43=\"\",\"\",VLOOKUP(D43,Controles!P:S,4,FALSE))","v":"Europa"},{"$f":"IF(I43=\"Preenchimento completo\",VLOOKUP(B43,Controles!A:N,3,FALSE)*G43,\"\")","v":""},{"$f":"IF(I43=\"Preenchimento completo\",VLOOKUP(C43&K43,Controles!J:K,2,FALSE)*IF(G43>6,2,1),\"\")","v":""},{"$f":"IF(I43=\"Preenchimento completo\",VLOOKUP(B43,Controles!A:N,5,FALSE)*IF(G43>6,2,1),\"\")","v":""},{"$f":"IF(I43=\"Preenchimento completo\",VLOOKUP(B43,Controles!A:N,4,FALSE),\"\")","v":""},{"$f":"IF(I43=\"Preenchimento completo\",ROUNDUP(G43,0)*VLOOKUP(B43,Controles!A:N,6,FALSE),\"\")","v":""},"",{"$f":"IF(I43=\"Preenchimento completo\",(Q43-M43-N43+VLOOKUP(B43,Controles!$A:$N,5,FALSE)*IF(G43>6,2,1))*H43,\"\")","v":""},"","","",null,null,null,{"$f":"IF(X43=\"\",\"\",VLOOKUP(X43,Controles!A:N,2,FALSE))","v":""},"Alemanha",null,null,null,{"$f":"IF(Z43=\"\",\"\",VLOOKUP(Z43,Controles!P:T,5,FALSE))","v":"S"},{"$f":"IF(Z43=\"\",\"\",VLOOKUP(Z43,Controles!P:S,4,FALSE))","v":"Europa"},{"$f":"IF(OR(AQ43=\"Preenchimento completo\",AQ43=\"Falta Justificativa\"),VLOOKUP(X43,Controles!A:N,3,FALSE)*AB43,\"\")","v":""},{"$f":"IF(OR(AQ43=\"Preenchimento completo\",AQ43=\"Falta Justificativa\"),VLOOKUP(Y43&AE43,Controles!J:K,2,FALSE)*IF(AB43>6,2,1),\"\")","v":""},{"$f":"IF(OR(AQ43=\"Preenchimento completo\",AQ43=\"Falta Justificativa\"),VLOOKUP(X43,Controles!A:N,5,FALSE)*IF(AB43>6,2,1),\"\")","v":""},{"$f":"IF(OR(AQ43=\"Preenchimento completo\",AQ43=\"Falta Justificativa\"),VLOOKUP(X43,Controles!A:N,4,FALSE),\"\")","v":""},{"$f":"IF(OR(AQ43=\"Preenchimento completo\",AQ43=\"Falta Justificativa\"),ROUNDUP(AB43,0)*VLOOKUP(X43,Controles!A:N,6,FALSE),\"\")","v":""},"",{"$f":"IF(OR(AQ43=\"Preenchimento completo\",AQ43=\"Falta Justificativa\"),(AK43-AG43-AH43+VLOOKUP(X43,Controles!$A:$N,5,FALSE)*IF(AB43>6,2,1))*AC43,\"\")","v":""},null,"","",null,""]
[null,null,{"$f":"IF(B44=\"\",\"\",VLOOKUP(B44,Controles!A:N,2,FALSE))","v":""},"Alemanha",null,"",null,null,"",{"$f":"IF(D44=\"\",\"\",VLOOKUP(D44,Controles!P:T,5,FALSE))","v":"S"},{"$f":"IF(D44=\"\",\"\",VLOOKUP(D44,Controles!P:S,4,FALSE))","v":"Europa"},{"$f":"IF(I44=\"Preenchimento completo\",VLOOKUP(B44,Controles!A:N,3,FALSE)*G44,\"\")","v":""},{"$f":"IF(I44=\"Preenchimento completo\",VLOOKUP(C44&K44,Controles!J:K,2,FALSE)*IF(G44>6,2,1),\"\")","v":""},{"$f":"IF(I44=\"Preenchimento completo\",VLOOKUP(B44,Controles!A:N,5,FALSE)*IF(G44>6,2,1),\"\")","v":""},{"$f":"IF(I44=\"Preenchimento completo\",VLOOKUP(B44,Controles!A:N,4,FALSE),\"\")","v":""},{"$f":"IF(I44=\"Preenchimento completo\",ROUNDUP(G44,0)*VLOOKUP(B44,Controles!A:N,6,FALSE),\"\")","v":""},"",{"$f":"IF(I44=\"Preenchimento completo\",(Q44-M44-N44+VLOOKUP(B44,Controles!$A:$N,5,FALSE)*IF(G44>6,2,1))*H44,\"\")","v":""},"","","",null,null,null,{"$f":"IF(X44=\"\",\"\",VLOOKUP(X44,Controles!A:N,2,FALSE))","v":""},"Alemanha",null,null,null,{"$f":"IF(Z44=\"\",\"\",VLOOKUP(Z44,Controles!P:T,5,FALSE))","v":"S"},{"$f":"IF(Z44=\"\",\"\",VLOOKUP(Z44,Controles!P:S,4,FALSE))","v":"Europa"},{"$f":"IF(OR(AQ44=\"Preenchimento completo\",AQ44=\"Falta Justificativa\"),VLOOKUP(X44,Controles!A:N,3,FALSE)*AB44,\"\")","v":""},{"$f":"IF(OR(AQ44=\"Preenchimento completo\",AQ44=\"Falta Justificativa\"),VLOOKUP(Y44&AE44,Controles!J:K,2,FALSE)*IF(AB44>6,2,1),\"\")","v":""},{"$f":"IF(OR(AQ44=\"Preenchimento completo\",AQ44=\"Falta Justificativa\"),VLOOKUP(X44,Controles!A:N,5,FALSE)*IF(AB44>6,2,1),\"\")","v":""},{"$f":"IF(OR(AQ44=\"Preenchimento completo\",AQ44=\"Falta Justificativa\"),VLOOKUP(X44,Controles!A:N,4,FALSE),\"\")","v":""},{"$f":"IF(OR(AQ44=\"Preenchimento completo\",AQ44=\"Falta Justificativa\"),ROUNDUP(AB44,0)*VLOOKUP(X44,Controles!A:N,6,FALSE),\"\")","v":""},"",{"$f":"IF(OR(AQ44=\"Preenchimento completo\",AQ44=\"Falta Justificativa\"),(AK44-AG44-AH44+VLOOKUP(X44,Controles!$A:$N,5,FALSE)*IF(AB44>6,2,1))*AC44,\"\")","v":""},null,"","",null,""]
[null,null,{"$f":"IF(B45=\"\",\"\",VLOOKUP(B45,Controles!A:N,2,FALSE))","v":""},"Alemanha",null,"",null,null,"",{"$f":"IF(D45=\"\",\"\",VLOOKUP(D45,Controles!P:T,5,FALSE))","v":"S"},{"$f":"IF(D45=\"\",\"\",VLOOKUP(D45,Controles!P:S,4,FALSE))","v":"Europa"},{"$f":"IF(I45=\"Preenchimento completo\",VLOOKUP(B45,Controles!A:N,3,FALSE)*G45,\"\")","v":""},{"$f":"IF(I45=\"Preenchimento completo\",VLOOKUP(C45&K45,Controles!J:K,2,FALSE)*IF(G45>6,2,1),\"\")","v":""},{"$f":"IF(I45=\"Preenchimento completo\",VLOOKUP(B45,Controles!A:N,5,FALSE)*IF(G45>6,2,1),\"\")","v":""},{"$f":"IF(I45=\"Preenchimento completo\",VLOOKUP(B45,Controles!A:N,4,FALSE),\"\")","v":""},{"$f":"IF(I45=\"Preenchimento completo\",ROUNDUP(G45,0)*VLOOKUP(B45,Controles!A:N,6,FALSE),\"\")","v":""},"",{"$f":"IF(I45=\"Preenchimento completo\",(Q45-M45-N45+VLOOKUP(B45,Controles!$A:$N,5,FALSE)*IF(G45>6,2,1))*H45,\"\")","v":""},"","","",null,null,null,{"$f":"IF(X45=\"\",\"\",VLOOKUP(X45,Controles!A:N,2,FALSE))","v":""},"Alemanha",null,null,null,{"$f":"IF(Z45=\"\",\"\",VLOOKUP(Z45,Controles!P:T,5,FALSE))","v":"S"},{"$f":"IF(Z45=\"\",\"\",VLOOKUP(Z45,Controles!P:S,4,FALSE))","v":"Europa"},{"$f":"IF(OR(AQ45=\"Preenchimento completo\",AQ45=\"Falta Justificativa\"),VLOOKUP(X45,Controles!A:N,3,FALSE)*AB45,\"\")","v":""},{"$f":"IF(OR(AQ45=\"Preenchimento completo\",AQ45=\"Falta Justificativa\"),VLOOKUP(Y45&AE45,Controles!J:K,2,FALSE)*IF(AB45>6,2,1),\"\")","v":""},{"$f":"IF(OR(AQ45=\"Preenchimento completo\",AQ45=\"Falta Justificativa\"),VLOOKUP(X45,Controles!A:N,5,FALSE)*IF(AB45>6,2,1),\"\")","v":""},{"$f":"IF(OR(AQ45=\"Preenchimento completo\",AQ45=\"Falta Justificativa\"),VLOOKUP(X45,Controles!A:N,4,FALSE),\"\")","v":""},{"$f":"IF(OR(AQ45=\"Preenchimento completo\",AQ45=\"Falta Justificativa\"),ROUNDUP(AB45,0)*VLOOKUP(X45,Controles!A:N,6,FALSE),\"\")","v":""},"",{"$f":"IF(OR(AQ45=\"Preenchimento completo\",AQ45=\"Falta Justificativa\"),(AK45-AG45-AH45+VLOOKUP(X45,Controles!$A:$N,5,FALSE)*IF(AB45>6,2,1))*AC45,\"\")","v":""},null,"","",null,""]
[null,null,{"$f":"IF(B46=\"\",\"\",VLOOKUP(B46,Controles!A:N,2,FALSE))","v":""},"Alemanha",null,"",null,null,"",{"$f":"IF(D46=\"\",\"\",VLOOKUP(D46,Controles!P:T,5,FALSE))","v":"S"},{"$f":"IF(D46=\"\",\"\",VLOOKUP(D46,Controles!P:S,4,FALSE))","v":"Europa"},{"$f":"IF(I46=\"Preenchimento completo\",VLOOKUP(B46,Controles!A:N,3,FALSE)*G46,\"\")","v":""},{"$f":"IF(I46=\"Preenchimento completo\",VLOOKUP(C46&K46,Controles!J:K,2,FALSE)*IF(G46>6,2,1),\"\")","v":""},{"$f":"IF(I46=\"Preenchimento completo\",VLOOKUP(B46,Controles!A:N,5,FALSE)*IF(G46>6,2,1),\"\")","v":""},{"$f":"IF(I46=\"Preenchimento completo\",VLOOKUP(B46,Controles!A:N,4,FALSE),\"\")","v":""},{"$f":"IF(I46=\"Preenchimento completo\",ROUNDUP(G46,0)*VLOOKUP(B46,Controles!A:N,6,FALSE),\"\")","v":""},"",{"$f":"IF(I46=\"Preenchimento completo\",(Q46-M46-N46+VLOOKUP(B46,Controles!$A:$N,5,FALSE)*IF(G46>6,2,1))*H46,\"\")","v":""},"","","",null,null,null,{"$f":"IF(X46=\"\",\"\",VLOOKUP(X46,Controles!A:N,2,FALSE))","v":""},"Alemanha",null,null,null,{"$f":"IF(Z46=\"\",\"\",VLOOKUP(Z46,Controles!P:T,5,FALSE))","v":"S"},{"$f":"IF(Z46=\"\",\"\",VLOOKUP(Z46,Controles!P:S,4,FALSE))","v":"Europa"},{"$f":"IF(OR(AQ46=\"Preenchimento completo\",AQ46=\"Falta Justificativa\"),VLOOKUP(X46,Controles!A:N,3,FALSE)*AB46,\"\")","v":""},{"$f":"IF(OR(AQ46=\"Preenchimento completo\",AQ46=\"Falta Justificativa\"),VLOOKUP(Y46&AE46,Controles!J:K,2,FALSE)*IF(AB46>6,2,1),\"\")","v":""},{"$f":"IF(OR(AQ46=\"Preenchimento completo\",AQ46=\"Falta Justificativa\"),VLOOKUP(X46,Controles!A:N,5,FALSE)*IF(AB46>6,2,1),\"\")","v":""},{"$f":"IF(OR(AQ46=\"Preenchimento completo\",AQ46=\"Falta Justificativa\"),VLOOKUP(X46,Controles!A:N,4,FALSE),\"\")","v":""},{"$f":"IF(OR(AQ46=\"Preenchimento completo\",AQ46=\"Falta Justificativa\"),ROUNDUP(AB46,0)*VLOOKUP(X46,Controles!A:N,6,FALSE),\"\")","v":""},"",{"$f":"IF(OR(AQ46=\"Preenchimento completo\",AQ46=\"Falta Justificativa\"),(AK46-AG46-AH46+VLOOKUP(X46,Controles!$A:$N,5,FALSE)*IF(AB46>6,2,1))*AC46,\"\")","v":""},null,"","",null,""]
[null,null,{"$f":"IF(B47=\"\",\"\",VLOOKUP(B47,Controles!A:N,2,FALSE))","v":""},"Alemanha",null,"",null,null,"",{"$f":"IF(D47=\"\",\"\",VLOOKUP(D47,Controles!P:T,5,FALSE))","v":"S"},{"$f":"IF(D47=\"\",\"\",VLOOKUP(D47,Controles!P:S,4,FALSE))","v":"Europa"},{"$f":"IF(I47=\"Preenchimento completo\",VLOOKUP(B47,Controles!A:N,3,FALSE)*G47,\"\")","v":""},{"$f":"IF(I47=\"Preenchimento completo\",VLOOKUP(C47&K47,Controles!J:K,2,FALSE)*IF(G47>6,2,1),\"\")","v":""},{"$f":"IF(I47=\"Preenchimento completo\",VLOOKUP(B47,Controles!A:N,5,FALSE)*IF(G47>6,2,1),\"\")","v":""},{"$f":"IF(I47=\"Preenchimento completo\",VLOOKUP(B47,Controles!A:N,4,FALSE),\"\")","v":""},{"$f":"IF(I47=\"Preenchimento completo\",ROUNDUP(G47,0)*VLOOKUP(B47,Controles!A:N,6,FALSE),\"\")","v":""},"",{"$f":"IF(I47=\"Preenchimento completo\",(Q47-M47-N47+VLOOKUP(B47,Controles!$A:$N,5,FALSE)*IF(G47>6,2,1))*H47,\"\")","v":""},"","","",null,null,null,{"$f":"IF(X47=\"\",\"\",VLOOKUP(X47,Controles!A:N,2,FALSE))","v":""},"Alemanha",null,null,null,{"$f":"IF(Z47=\"\",\"\",VLOOKUP(Z47,Controles!P:T,5,FALSE))","v":"S"},{"$f":"IF(Z47=\"\",\"\",VLOOKUP(Z47,Controles!P:S,4,FALSE))","v":"Europa"},{"$f":"IF(OR(AQ47=\"Preenchimento completo\",AQ47=\"Falta Justificativa\"),VLOOKUP(X47,Controles!A:N,3,FALSE)*AB47,\"\")","v":""},{"$f":"IF(OR(AQ47=\"Preenchimento completo\",AQ47=\"Falta Justificativa\"),VLOOKUP(Y47&AE47,Controles!J:K,2,FALSE)*IF(AB47>6,2,1),\"\")","v":""},{"$f":"IF(OR(AQ47=\"Preenchimento completo\",AQ47=\"Falta Justificativa\"),VLOOKUP(X47,Controles!A:N,5,FALSE)*IF(AB47>6,2,1),\"\")","v":""},{"$f":"IF(OR(AQ47=\"Preenchimento completo\",AQ47=\"Falta Justificativa\"),VLOOKUP(X47,Controles!A:N,4,FALSE),\"\")","v":""},{"$f":"IF(OR(AQ47=\"Preenchimento completo\",AQ47=\"Falta Justificativa\"),ROUNDUP(AB47,0)*VLOOKUP(X47,Controles!A:N,6,FALSE),\"\")","v":""},"",{"$f":"IF(OR(AQ47=\"Preenchimento completo\",AQ47=\"Falta Justificativa\"),(AK47-AG47-AH47+VLOOKUP(X47,Controles!$A:$N,5,FALSE)*IF(AB47>6,2,1))*AC47,\"\")","v":""},null,"","",null,{"$f":"IF(AND(X47=\"\",AA47=\"\",AB47=\"\",AC47=\"\"),\"\",IF(OR(X47=\"\",,AA47=\"\",AB47=\"\",AC47=\"\"),\"Preenchimento pendente\",IF(AM47=\"\",\"Falta Justificativa\",\"Preenchimento completo\")))","v":""}]
[null,null,{"$f":"IF(B48=\"\",\"\",VLOOKUP(B48,Controles!A:N,2,FALSE))","v":""},"Alemanha",null,"",null,null,"",{"$f":"IF(D48=\"\",\"\",VLOOKUP(D48,Controles!P:T,5,FALSE))","v":"S"},{"$f":"IF(D48=\"\",\"\",VLOOKUP(D48,Controles!P:S,4,FALSE))","v":"Europa"},{"$f":"IF(I48=\"Preenchimento completo\",VLOOKUP(B48,Controles!A:N,3,FALSE)*G48,\"\")","v":""},{"$f":"IF(I48=\"Preenchimento completo\",VLOOKUP(C48&K48,Controles!J:K,2,FALSE)*IF(G48>6,2,1),\"\")","v":""},{"$f":"IF(I48=\"Preenchimento completo\",VLOOKUP(B48,Controles!A:N,5,FALSE)*IF(G48>6,2,1),\"\")","v":""},{"$f":"IF(I48=\"Preenchimento completo\",VLOOKUP(B48,Controles!A:N,4,FALSE),\"\")","v":""},{"$f":"IF(I48=\"Preenchimento completo\",ROUNDUP(G48,0)*VLOOKUP(B48,Controles!A:N,6,FALSE),\"\")","v":""},"",{"$f":"IF(I48=\"Preenchimento completo\",(Q48-M48-N48+VLOOKUP(B48,Controles!$A:$N,5,FALSE)*IF(G48>6,2,1))*H48,\"\")","v":""},"","","",null,null,null,{"$f":"IF(X48=\"\",\"\",VLOOKUP(X48,Controles!A:N,2,FALSE))","v":""},"Alemanha",null,null,null,{"$f":"IF(Z48=\"\",\"\",VLOOKUP(Z48,Controles!P:T,5,FALSE))","v":"S"},{"$f":"IF(Z48=\"\",\"\",VLOOKUP(Z48,Controles!P:S,4,FALSE))","v":"Europa"},{"$f":"IF(OR(AQ48=\"Preenchimento completo\",AQ48=\"Falta Justificativa\"),VLOOKUP(X48,Controles!A:N,3,FALSE)*AB48,\"\")","v":""},{"$f":"IF(OR(AQ48=\"Preenchimento completo\",AQ48=\"Falta Justificativa\"),VLOOKUP(Y48&AE48,Controles!J:K,2,FALSE)*IF(AB48>6,2,1),\"\")","v":""},{"$f":"IF(OR(AQ48=\"Preenchimento completo\",AQ48=\"Falta Justificativa\"),VLOOKUP(X48,Controles!A:N,5,FALSE)*IF(AB48>6,2,1),\"\")","v":""},{"$f":"IF(OR(AQ48=\"Preenchimento completo\",AQ48=\"Falta Justificativa\"),VLOOKUP(X48,Controles!A:N,4,FALSE),\"\")","v":""},{"$f":"IF(OR(AQ48=\"Preenchimento completo\",AQ48=\"Falta Justificativa\"),ROUNDUP(AB48,0)*VLOOKUP(X48,Controles!A:N,6,FALSE),\"\")","v":""},"",{"$f":"IF(OR(AQ48=\"Preenchimento completo\",AQ48=\"Falta Justificativa\"),(AK48-AG48-AH48+VLOOKUP(X48,Controles!$A:$N,5,FALSE)*IF(AB48>6,2,1))*AC48,\"\")","v":""},null,"","",null,""]
[null,null,{"$f":"IF(B49=\"\",\"\",VLOOKUP(B49,Controles!A:N,2,FALSE))","v":""},"Alemanha",null,"",null,null,"",{"$f":"IF(D49=\"\",\"\",VLOOKUP(D49,Controles!P:T,5,FALSE))","v":"S"},{"$f":"IF(D49=\"\",\"\",VLOOKUP(D49,Controles!P:S,4,FALSE))","v":"Europa"},{"$f":"IF(I49=\"Preenchimento completo\",VLOOKUP(B49,Controles!A:N,3,FALSE)*G49,\"\")","v":""},{"$f":"IF(I49=\"Preenchimento completo\",VLOOKUP(C49&K49,Controles!J:K,2,FALSE)*IF(G49>6,2,1),\"\")","v":""},{"$f":"IF(I49=\"Preenchimento completo\",VLOOKUP(B49,Controles!A:N,5,FALSE)*IF(G49>6,2,1),\"\")","v":""},{"$f":"IF(I49=\"Preenchimento completo\",VLOOKUP(B49,Controles!A:N,4,FALSE),\"\")","v":""},{"$f":"IF(I49=\"Preenchimento completo\",ROUNDUP(G49,0)*VLOOKUP(B49,Controles!A:N,6,FALSE),\"\")","v":""},"",{"$f":"IF(I49=\"Preenchimento completo\",(Q49-M49-N49+VLOOKUP(B49,Controles!$A:$N,5,FALSE)*IF(G49>6,2,1))*H49,\"\")","v":""},"","","",null,null,null,{"$f":"IF(X49=\"\",\"\",VLOOKUP(X49,Controles!A:N,2,FALSE))","v":""},"Alemanha",null,null,null,{"$f":"IF(Z49=\"\",\"\",VLOOKUP(Z49,Controles!P:T,5,FALSE))","v":"S"},{"$f":"IF(Z49=\"\",\"\",VLOOKUP(Z49,Controles!P:S,4,FALSE))","v":"Europa"},{"$f":"IF(OR(AQ49=\"Preenchimento completo\",AQ49=\"Falta Justificativa\"),VLOOKUP(X49,Controles!A:N,3,FALSE)*AB49,\"\")","v":""},{"$f":"IF(OR(AQ49=\"Preenchimento completo\",AQ49=\"Falta Justificativa\"),VLOOKUP(Y49&AE49,Controles!J:K,2,FALSE)*IF(AB49>6,2,1),\"\")","v":""},{"$f":"IF(OR(AQ49=\"Preenchimento completo\",AQ49=\"Falta Justificativa\"),VLOOKUP(X49,Controles!A:N,5,FALSE)*IF(AB49>6,2,1),\"\")","v":""},{"$f":"IF(OR(AQ49=\"Preenchimento completo\",AQ49=\"Falta Justificativa\"),VLOOKUP(X49,Controles!A:N,4,FALSE),\"\")","v":""},{"$f":"IF(OR(AQ49=\"Preenchimento completo\",AQ49=\"Falta Justificativa\"),ROUNDUP(AB49,0)*VLOOKUP(X49,Controles!A:N,6,FALSE),\"\")","v":""},"",{"$f":"IF(OR(AQ49=\"Preenchimento completo\",AQ49=\"Falta Justificativa\"),(AK49-AG49-AH49+VLOOKUP(X49,Controles!$A:$N,5,FALSE)*IF(AB49>6,2,1))*AC49,\"\")","v":""},null,"","",null,""]
[null,null,{"$f":"IF(B50=\"\",\"\",VLOOKUP(B50,Controles!A:N,2,FALSE))","v":""},"Alemanha",null,"",null,null,"",{"$f":"IF(D50=\"\",\"\",VLOOKUP(D50,Controles!P:T,5,FALSE))","v":"S"},{"$f":"IF(D50=\"\",\"\",VLOOKUP(D50,Controles!P:S,4,FALSE))","v":"Europa"},{"$f":"IF(I50=\"Preenchimento completo\",VLOOKUP(B50,Controles!A:N,3,FALSE)*G50,\"\")","v":""},{"$f":"IF(I50=\"Preenchimento completo\",VLOOKUP(C50&K50,Controles!J:K,2,FALSE)*IF(G50>6,2,1),\"\")","v":""},{"$f":"IF(I50=\"Preenchimento completo\",VLOOKUP(B50,Controles!A:N,5,FALSE)*IF(G50>6,2,1),\"\")","v":""},{"$f":"IF(I50=\"Preenchimento completo\",VLOOKUP(B50,Controles!A:N,4,FALSE),\"\")","v":""},{"$f":"IF(I50=\"Preenchimento completo\",ROUNDUP(G50,0)*VLOOKUP(B50,Controles!A:N,6,FALSE),\"\")","v":""},"",{"$f":"IF(I50=\"Preenchimento completo\",(Q50-M50-N50+VLOOKUP(B50,Controles!$A:$N,5,FALSE)*IF(G50>6,2,1))*H50,\"\")","v":""},"","","",null,null,null,{"$f":"IF(X50=\"\",\"\",VLOOKUP(X50,Controles!A:N,2,FALSE))","v":""},"Alemanha",null,null,null,{"$f":"IF(Z50=\"\",\"\",VLOOKUP(Z50,Controles!P:T,5,FALSE))","v":"S"},{"$f":"IF(Z50=\"\",\"\",VLOOKUP(Z50,Controles!P:S,4,FALSE))","v":"Europa"},{"$f":"IF(OR(AQ50=\"Preenchimento completo\",AQ50=\"Falta Justificativa\"),VLOOKUP(X50,Controles!A:N,3,FALSE)*AB50,\"\")","v":""},{"$f":"IF(OR(AQ50=\"Preenchimento completo\",AQ50=\"Falta Justificativa\"),VLOOKUP(Y50&AE50,Controles!J:K,2,FALSE)*IF(AB50>6,2,1),\"\")","v":""},{"$f":"IF(OR(AQ50=\"Preenchimento completo\",AQ50=\"Falta Justificativa\"),VLOOKUP(X50,Controles!A:N,5,FALSE)*IF(AB50>6,2,1),\"\")","v":""},{"$f":"IF(OR(AQ50=\"Preenchimento completo\",AQ50=\"Falta Justificativa\"),VLOOKUP(X50,Controles!A:N,4,FALSE),\"\")","v":""},{"$f":"IF(OR(AQ50=\"Preenchimento completo\",AQ50=\"Falta Justificativa\"),ROUNDUP(AB50,0)*VLOOKUP(X50,Controles!A:N,6,FALSE),\"\")","v":""},"",{"$f":"IF(OR(AQ50=\"Preenchimento completo\",AQ50=\"Falta Justificativa\"),(AK50-AG50-AH50+VLOOKUP(X50,Controles!$A:$N,5,FALSE)*IF(AB50>6,2,1))*AC50,\"\")","v":""},null,"","",null,""]

{"sheet":"Manutenção","index":2,"n_rows":1048576,"n_cols":3,"rows_kept":4500,"cut":true,"hidden":true,"merged":[[7,1,8,6],[0,0,0,1],[1,0,1,1],[2,0,2,1],[3,0,3,1]],"bounds":{"rows_first":2000,"rows_last":500,"rows_between":2000,"halvings":0}}
[{"$f":"'Nome do Projeto'!A1","v":"UNIVERSIDADE DO ESTADO DO RIO DE JANEIRO"}]
[{"$f":"'Nome do Projeto'!A2","v":"SUB-REITORIA DE PÓS-GRADUAÇÃO E PESQUISA"}]
[{"$f":"'Nome do Projeto'!B1","v":"PLANILHA PARA ESTIMAR READEQUAÇÃO ORÇAMENTÁRIA  - PrInt UERJ - 2020"}]
["COORDENADORIA DE GESTÃO DE PROJETOS INSTITUCIONAIS"]
[]
[{"$f":"'Nome do Projeto'!A10","v":"PROGRAMA – NOME:"},{"$f":"'Nome do Projeto'!B10","v":0}]
[{"$f":"'Nome do Projeto'!A11","v":"TEMA:"},{"$f":"'Nome do Projeto'!B11","v":0}]
[{"$f":"'Nome do Projeto'!A12","v":"TÍTULO DO PROJETO:"},{"$f":"'Nome do Projeto'!B12","v":0}]
[]
[]
[]
[null,"Manutenção do Projeto","Valor"]
[null,2018]
[null,2019]
[null,2020]
[null,2021]
[null,2022]
[null,"Total",{"$f":"SUM(C13:C17)","v":0}]
[]
[]
[]
[]
[]
[]
[]
[]
[]
[]
[]
[]
[]
[]
[]
[]
[]
[]
[]
[]
[]
[]
[]
[]
[]
[]
[]
[]
[]
[]
[]
[]
[]
[]
[]
[]
[]
[]
[]
[]
[]
[]
[]
[]
[]
[]
[]
[]
[]
[]
[]
[]
[]
[]
[]
[]
[]
[]
[]
[]
[]
[]
[]
[]
[]
[]
[]
[]
[]
[]
[]
[]
[]
[]
[]
[]
[]
[]
[]
[]
[]
[]
[]
[]
[]
[]
[]
[]
[]
[]
[]
[]
[]
[]
[]
[]
[]
[]
[]
[]
[]
[]
[]
[]
[]
[]
[]
[]
[]
[]
[]
[]
[]
[]
[]
[]
[]
[]
[]
[]
[]
[]
[]
[]
[]
[]
[]
[]
[]
[]
[]
[]
[]
[]
[]
[]
[]
[]
[]
[]
[]
[]
[]
[]
[]
[]
[]
[]
[]
[]
[]
[]
[]
[]
[]
[]
[]
[]
[]
[]
[]
[]
[]
[]
[]
[]
[]
[]
[]
[]
[]
[]
[]
[]
[]
[]
[]
[]
[]
[]
[]
[]
[]
[]
[]
[]
[]
[]
[]
[]
[]
[]
[]
[]
[]
[]
[]
[]
[]
[]
[]
[]
[]
[]
[]
[]
[]
[]
[]
[]
[]
[]
[]
[]
[]
[]
[]
[]
[]
[]
[]
[]
[]
[]
[]
[]
[]
[]
[]
[]
[]
[]
[]
[]
[]
[]
[]
[]
[]
[]
[]
[]
[]
[]
[]
[]
[]
[]
[]
[]
[]
[]
[]
[]
[]
[]
[]
[]
[]
[]
[]
[]
[]
[]
[]
[]
[]
[]
[]
[]
[]
[]
[]
[]
[]
[]
[]
[]
[]
[]
[]
[]
[]
[]
[]
[]
[]
[]
[]
[]
[]
[]
[]
[]
[]
[]
[]
[]
[]
[]
[]
[]
[]
[]
[]
[]
[]
[]
[]
[]
[]
[]
[]
[]
[]
[]
[]
[]
[]
[]
[]
[]
[]
[]
[]
[]
[]
[]
[]
[]
[]
[]
[]
[]
[]
[]
[]
[]
[]
[]
[]
[]
[]
[]
[]
[]
[]
[]
[]
[]
[]
[]
[]
[]
[]
[]
[]
[]
[]
[]
[]
[]
[]
[]
[]
[]
[]
[]
[]
[]
[]
[]
[]
[]
[]
[]
[]
[]
[]
[]
[]
[]
[]
[]
[]
[]
[]
[]
[]
[]
[]
[]
[]
[]
[]
[]
[]
[]
[]
[]
[]
[]
[]
[]
[]
[]
[]
[]
[]
[]
[]
[]
[]
[]
[]
[]
[]
[]
[]
[]
[]
[]
[]
[]
[]
[]
[]
[]
[]
[]
[]
[]
[]
[]
[]
[]
[]
[]
[]
[]
[]
[]
[]
[]
[]
[]
[]
[]
[]
[]
[]
[]
[]
[]
[]
[]
[]
[]
[]
[]
[]
[]
[]
[]
[]
[]
[]
[]
[]
[]
[]
[]
[]
[]
[]
[]
[]
[]
[]
[]
[]
[]
[]
[]
[]
[]
[]
[]
[]
[]
[]
[]
[]
[]
[]
[]
[]
[]
[]
[]
[]
[]
[]
[]
[]
[]
[]
[]
[]
[]
[]
[]
[]
[]
[]
[]
[]
[]
[]
[]
[]
[]
[]
[]
[]
[]
[]
[]
[]
[]
[]
[]
[]
[]
[]
[]
[]
[]
[]
[]
[]
[]
[]
[]
[]
[]
[]
[]
[]
[]
[]
[]
[]
[]
[]
[]
[]
[]
[]
[]
[]
[]
[]
[]
[]
[]
[]
[]
[]
[]
[]
[]
[]
[]
[]
[]
[]
[]
[]
[]
[]
[]
[]
[]
[]
[]
[]
[]
[]
[]
[]
[]
[]
[]
[]
[]
[]
[]
[]
[]
[]
[]
[]
[]
[]
[]
[]
[]
[]
[]
[]
[]
[]
[]
[]
[]
[]
[]
[]
[]
[]
[]
[]
[]
[]
[]
[]
[]
[]
[]
[]
[]
[]
[]
[]
[]
[]
[]
[]
[]
[]
[]
[]
[]
[]
[]
[]
[]
[]
[]
[]
[]
[]
[]
[]
[]
[]
[]
[]
[]
[]
[]
[]
[]
[]
[]
[]
[]
[]
[]
[]
[]
[]
[]
[]
[]
[]
[]
[]
[]
[]
[]
[]
[]
[]
[]
[]
[]
[]
[]
[]
[]
[]
[]
[]
[]
[]
[]
[]
[]
[]
[]
[]
[]
[]
[]
[]
[]
[]
[]
[]
[]
[]
[]
[]
[]
[]
[]
[]
[]
[]
[]
[]
[]
[]
[]
[]
[]
[]
[]
[]
[]
[]
[]
[]
[]
[]
[]
[]
[]
[]
[]
[]
[]
[]
[]
[]
[]
[]
[]
[]
[]
[]
[]
[]
[]
[]
[]
[]
[]
[]
[]
[]
[]
[]
[]
[]
[]
[]
[]
[]
[]
[]
[]
[]
[]
[]
[]
[]
[]
[]
[]
[]
[]
[]
[]
[]
[]
[]
[]
[]
[]
[]
[]
[]
[]
[]
[]
[]
[]
[]
[]
[]
[]
[]
[]
[]
[]
[]
[]
[]
[]
[]
[]
[]
[]
[]
[]
[]
[]
[]
[]
[]
[]
[]
[]
[]
[]
[]
[]
[]
[]
[]
[]
[]
[]
[]
[]
[]
[]
[]
[]
[]
[]
[]
[]
[]
[]
[]
[]
[]
[]
[]
[]
[]
[]
[]
[]
[]
[]
[]
[]
[]
[]
[]
[]
[]
[]
[]
[]
[]
[]
[]
[]
[]
[]
[]
[]
[]
[]
[]
[]
[]
[]
[]
[]
[]
[]
[]
[]
[]
[]
[]
[]
[]
[]
[]
[]
[]
[]
[]
[]
[]
[]
[]
[]
[]
[]
[]
[]
[]
[]
[]
[]
[]
[]
[]
[]
[]
[]
[]
[]
[]
[]
[]
[]
[]
[]
[]
[]
[]
[]
[]
[]
[]
[]
[]
[]
[]
[]
[]
[]
[]
[]
[]
[]
[]
[]
[]
[]
[]
[]
[]
[]
[]
[]
[]
[]
[]
[]
[]
[]
[]
[]
[]
[]
[]
[]
[]
[]
[]
[]
[]
[]
[]
[]
[]
[]
[]
[]
[]
[]
[]
[]
[]
[]
[]
[]
[]
[]
[]
[]
[]
[]
[]
[]
[]
[]
[]
[]
[]
[]
[]
[]
[]
[]
[]
[]
[]
[]
[]
[]
[]
[]
[]
[]
[]
[]
[]
[]
[]
[]
[]
[]
[]
[]
[]
[]
[]
[]
[]
[]
[]
[]
[]
[]
[]
[]
[]
[]
[]
[]
[]
[]
[]
[]
[]
[]
[]
[]
[]
[]
[]
[]
[]
[]
[]
[]
[]
[]
[]
[]
[]
[]
[]
[]
[]
[]
[]
[]
[]
[]
[]
[]
[]
[]
[]
[]
[]
[]
[]
[]
[]
[]
[]
[]
[]
[]
[]
[]
[]
[]
[]
[]
[]
[]
[]
[]
[]
[]
[]
[]
[]
[]
[]
[]
[]
[]
[]
[]
[]
[]
[]
[]
[]
[]
[]
[]
[]
[]
[]
[]
[]
[]
[]
[]
[]
[]
[]
[]
[]
[]
[]
[]
[]
[]
[]
[]
[]
[]
[]
[]
[]
[]
[]
[]
[]
[]
[]
[]
[]
[]
[]
[]
[]
[]
[]
[]
[]
[]
[]
[]
[]
[]
[]
[]
[]
[]
[]
[]
[]
[]
[]
[]
[]
[]
[]
[]
[]
[]
[]
[]
[]
[]
[]
[]
[]
[]
[]
[]
[]
[]
[]
[]
[]
[]
[]
[]
[]
[]
[]
[]
[]
[]
[]
[]
[]
[]
[]
[]
[]
[]
[]
[]
[]
[]
[]
[]
[]
[]
[]
[]
[]
[]
[]
[]
[]
[]
[]
[]
[]
[]
[]
[]
[]
[]
[]
[]
[]
[]
[]
[]
[]
[]
[]
[]
[]
[]
[]
[]
[]
[]
[]
[]
[]
[]
[]
[]
[]
[]
[]
[]
[]
[]
[]
[]
[]
[]
[]
[]
[]
[]
[]
[]
[]
[]
[]
[]
[]
[]
[]
[]
[]
[]
[]
[]
[]
[]
[]
[]
[]
[]
[]
[]
[]
[]
[]
[]
[]
[]
[]
[]
[]
[]
[]
[]
[]
[]
[]
[]
[]
[]
[]
[]
[]
[]
[]
[]
[]
[]
[]
[]
[]
[]
[]
[]
[]
[]
[]
[]
[]
[]
[]
[]
[]
[]
[]
[]
[]
[]
[]
[]
[]
[]
[]
[]
[]
[]
[]
[]
[]
[]
[]
[]
[]
[]
[]
[]
[]
[]
[]
[]
[]
[]
[]
[]
[]
[]
[]
[]
[]
[]
[]
[]
[]
[]
[]
[]
[]
[]
[]
[]
[]
[]
[]
[]
[]
[]
[]
[]
[]
[]
[]
[]
[]
[]
[]
[]
[]
[]
[]
[]
[]
[]
[]
[]
[]
[]
[]
[]
[]
[]
[]
[]
[]
[]
[]
[]
[]
[]
[]
[]
[]
[]
[]
[]
[]
[]
[]
[]
[]
[]
[]
[]
[]
[]
[]
[]
[]
[]
[]
[]
[]
[]
[]
[]
[]
[]
[]
[]
[]
[]
[]
[]
[]
[]
[]
[]
[]
[]
[]
[]
[]
[]
[]
[]
[]
[]
[]
[]
[]
[]
[]
[]
[]
[]
[]
[]
[]
[]
[]
[]
[]
[]
[]
[]
[]
[]
[]
[]
[]
[]
[]
[]
[]
[]
[]
[]
[]
[]
[]
[]
[]
[]
[]
[]
[]
[]
[]
[]
[]
[]
[]
[]
[]
[]
[]
[]
[]
[]
[]
[]
[]
[]
[]
[]
[]
[]
[]
[]
[]
[]
[]
[]
[]
[]
[]
[]
[]
[]
[]
[]
[]
[]
[]
[]
[]
[]
[]
[]
[]
[]
[]
[]
[]
[]
[]
[]
[]
[]
[]
[]
[]
[]
[]
[]
[]
[]
[]
[]
[]
[]
[]
[]
[]
[]
[]
[]
[]
[]
[]
[]
[]
[]
[]
[]
[]
[]
[]
[]
[]
[]
[]
[]
[]
[]
[]
[]
[]
[]
[]
[]
[]
[]
[]
[]
[]
[]
[]
[]
[]
[]
[]
[]
[]
[]
[]
[]
[]
[]
[]
[]
[]
[]
[]
[]
[]
[]
[]
[]
[]
[]
[]
[]
[]
[]
[]
[]
[]
[]
[]
[]
[]
[]
[]
[]
[]
[]
[]
[]
[]
[]
[]
[]
[]
[]
[]
[]
[]
[]
[]
[]
[]
[]
[]
[]
[]
[]
[]
[]
[]
[]
[]
[]
[]
[]
[]
[]
[]
[]
[]
[]
[]
[]
[]
[]
[]
[]
[]
[]
[]
[]
[]
[]
[]
[]
[]
[]
[]
[]
[]
[]
[]
[]
[]
[]
[]
[]
[]
[]
[]
[]
[]
[]
[]
[]
[]
[]
[]
[]
[]
[]
[]
[]
[]
[]
[]
[]
[]
[]
[]
[]
[]
[]
[]
[]
[]
[]
[]
[]
[]
[]
[]
[]
[]
[]
[]
[]
[]
[]
[]
[]
[]
[]
[]
[]
[]
[]
[]
[]
[]
[]
[]
[]
[]
[]
[]
[]
[]
[]
[]
[]
[]
[]
[]
[]
[]
[]
[]
[]
[]
[]
[]
[]
[]
[]
[]
[]
[]
[]
[]
[]
[]
[]
[]
[]
[]
[]
[]
[]
[]
[]
[]
[]
[]
[]
[]
[]
[]
[]
[]
[]
[]
[]
[]
[]
[]
[]
[]
[]
[]
[]
[]
[]
[]
[]
[]
[]
[]
[]
[]
[]
[]
[]
[]
[]
[]
[]
[]
[]
[]
[]
[]
[]
[]
[]
[]
[]
[]
[]
[]
[]
[]
[]
[]
[]
[]
[]
[]
[]
[]
[]
[]
[]
[]
[]
[]
[]
[]
[]
[]
[]
[]
[]
[]
[]
[]
[]
[]
[]
[]
[]
[]
[]
[]
[]
[]
[]
[]
[]
[]
[]
[]
[]
[]
[]
[]
[]
[]
[]
[]
[]
[]
[]
[]
[]
[]
[]
[]
[]
[]
[]
[]
[]
[]
[]
[]
[]
[]
[]
[]
[]
[]
[]
[]
[]
[]
[]
[]
[]
[]
[]
[]
[]
[]
[]
[]
[]
[]
[]
[]
[]
[]
[]
[]
[]
[]
[]
[]
[]
[]
[]
[]
[]
[]
[]
[]
[]
[]
[]
[]
[]
[]
[]
[]
[]
[]
[]
[]
[]
[]
[]
[]
[]
[]
[]
[]
[]
[]
[]
[]
[]
[]
[]
[]
[]
[]
[]
[]
[]
[]
[]
[]
[]
[]
[]
[]
[]
[]
[]
[]
[]
[]
[]
[]
[]
[]
[]
[]
[]
[]
[]
[]
[]
[]
[]
[]
[]
[]
[]
[]
[]
[]
[]
[]
[]
[]
[]
[]
[]
[]
[]
[]
[]
[]
[]
[]
[]
[]
[]
[]
[]
[]
[]
[]
[]
[]
[]
[]
[]
[]
[]
[]
[]
[]
[]
[]
[]
[]
[]
[]
[]
[]
[]
[]
[]
[]
[]
[]
[]
[]
[]
[]
[]
[]
[]
[]
[]
[]
[]
[]
[]
[]
[]
[]
[]
[]
[]
[]
[]
[]
[]
[]
[]
[]
[]
[]
[]
[]
[]
[]
[]
[]
[]
[]
[]
[]
[]
[]
[]
[]
[]
[]
[]
[]
[]
[]
[]
[]
[]
[]
[]
[]
[]
[]
[]
[]
[]
[]
[]
[]
[]
[]
[]
[]
[]
[]
[]
[]
[]
[]
[]
[]
[]
[]
[]
[]
[]
[]
[]
[]
[]
[]
[]
[]
[]
[]
[]
[]
[]
[]
[]
[]
[]
[]
[]
[]
[]
[]
[]
[]
[]
[]
[]
[]
[]
[]
[]
[]
[]
[]
[]
[]
[]
[]
[]
[]
[]
[]
[]
[]
[]
[]
[]
[]
[]
[]
[]
[]
[]
[]
[]
[]
[]
[]
[]
[]
[]
[]
[]
[]
[]
[]
[]
[]
[]
[]
[]
[]
[]
[]
[]
[]
[]
[]
[]
[]
[]
[]
[]
[]
[]
[]
[]
[]
[]
[]
[]
[]
[]
[]
[]
[]
[]
[]
[]
[]
[]
[]
[]
[]
[]
[]
[]
[]
[]
[]
[]
[]
[]
[]
[]
[]
[]
[]
[]
[]
[]
[]
[]
[]
[]
[]
[]
[]
[]
[]
[]
[]
[]
[]
[]
[]
[]
[]
[]
[]
[]
[]
[]
[]
[]
[]
[]
[]
[]
[]
[]
[]
[]
[]
[]
[]
[]
[]
[]
[]
[]
[]
[]
[]
[]
[]
[]
[]
[]
[]
[]
[]
[]
[]
[]
[]
[]
[]
[]
[]
[]
[]
[]
[]
[]
[]
[]
[]
[]
[]
[]
[]
[]
[]
[]
[]
[]
[]
[]
[]
[]
[]
[]
[]
[]
[]
[]
[]
[]
[]
[]
[]
[]
[]
[]
[]
[]
[]
[]
[]
[]
[]
[]
[]
[]
[]
[]
[]
[]
[]
[]
[]
[]
[]
[]
[]
[]
[]
[]
[]
[]
[]
[]
[]
[]
[]
[]
[]
[]
[]
[]
[]
[]
[]
[]
[]
[]
[]
[]
[]
[]
[]
[]
[]
[]
[]
[]
[]
[]
[]
[]
[]
[]
[]
[]
[]
[]
[]
[]
[]
[]
[]
[]
[]
[]
[]
[]
[]
[]
[]
[]
[]
[]
[]
[]
[]
[]
[]
[]
[]
[]
[]
[]
[]
[]
[]
[]
[]
[]
[]
[]
[]
[]
[]
[]
[]
[]
[]
[]
[]
[]
[]
[]
[]
[]
[]
[]
[]
[]
[]
[]
[]
[]
[]
[]
[]
[]
[]
[]
[]
[]
[]
[]
[]
[]
[]
[]
[]
[]
[]
[]
[]
[]
[]
[]
[]
[]
[]
[]
[]
[]
[]
[]
[]
[]
[]
[]
[]
[]
[]
[]
[]
[]
[]
[]
[]
[]
[]
[]
[]
[]
[]
[]
[]
[]
[]
[]
[]
[]
[]
[]
[]
[]
[]
[]
[]
[]
[]
[]
[]
[]
[]
[]
[]
[]
[]
[]
[]
[]
[]
[]
[]
[]
[]
[]
[]
[]
[]
[]
[]
[]
[]
[]
[]
[]
[]
[]
[]
[]
[]
[]
[]
[]
[]
[]
[]
[]
[]
[]
[]
[]
[]
[]
[]
[]
[]
[]
[]
[]
[]
[]
[]
[]
[]
[]
[]
[]
[]
[]
[]
[]
[]
[]
[]
[]
[]
[]
[]
[]
[]
[]
[]
[]
[]
[]
[]
[]
[]
[]
[]
[]
[]
[]
[]
[]
[]
[]
[]
[]
[]
[]
[]
[]
[]
[]
[]
[]
[]
[]
[]
[]
[]
[]
[]
[]
[]
[]
[]
[]
[]
[]
[]
[]
[]
[]
[]
[]
[]
[]
[]
[]
[]
[]
[]
[]
[]
[]
[]
[]
[]
[]
[]
[]
[]
[]
[]
[]
[]
[]
[]
[]
[]
[]
[]
[]
[]
[]
[]
[]
[]
[]
[]
[]
[]
[]
[]
[]
[]
[]
[]
[]
[]
[]
[]
[]
[]
[]
[]
[]
[]
[]
[]
[]
[]
[]
[]
[]
[]
[]
[]
[]
[]
[]
[]
[]
[]
[]
[]
[]
[]
[]
[]
[]
[]
[]
[]
[]
[]
[]
[]
[]
[]
[]
[]
[]
[]
[]
[]
[]
[]
[]
[]
[]
[]
[]
[]
[]
[]
[]
[]
[]
[]
[]
[]
[]
[]
[]
[]
[]
[]
[]
[]
[]
[]
[]
[]
[]
[]
[]
[]
[]
[]
[]
[]
[]
[]
[]
[]
[]
[]
[]
[]
[]
[]
[]
[]
[]
[]
[]
[]
[]
[]
[]
[]
[]
[]
[]
[]
[]
[]
[]
[]
[]
[]
[]
[]
[]
[]
[]
[]
[]
[]
[]
[]
[]
[]
[]
[]
[]
[]
[]
[]
[]
[]
[]
[]
[]
[]
[]
[]
[]
[]
[]
[]
[]
[]
[]
[]
[]
[]
[]
[]
[]
[]
[]
[]
[]
[]
[]
[]
[]
[]
[]
[]
[]
[]
[]
[]
[]
[]
[]
[]
[]
[]
[]
[]
[]
[]
[]
[]
[]
[]
[]
[]
[]
[]
[]
[]
[]
[]
[]
[]
[]
[]
[]
[]
[]
[]
[]
[]
[]
[]
[]
[]
[]
[]
[]
[]
[]
[]
[]
[]
[]
[]
[]
[]
[]
[]
[]
[]
[]
[]
[]
[]
[]
[]
[]
[]
[]
[]
[]
[]
[]
[]
[]
[]
[]
[]
[]
[]
[]
[]
[]
[]
[]
[]
[]
[]
[]
[]
[]
[]
[]
[]
[]
[]
[]
[]
[]
[]
[]
[]
[]
[]
[]
[]
[]
[]
[]
[]
[]
[]
[]
[]
[]
[]
[]
[]
[]
[]
[]
[]
[]
[]
[]
[]
[]
[]
[]
[]
[]
[]
[]
[]
[]
[]
[]
[]
[]
[]
[]
[]
[]
[]
[]
[]
[]
[]
[]
[]
[]
[]
[]
[]
[]
[]
[]
[]
[]
[]
[]
[]
[]
[]
[]
[]
[]
[]
[]
[]
[]
[]
[]
[]
[]
[]
[]
[]
[]
[]
[]
[]
[]
[]
[]
[]
[]
[]
[]
[]
[]
[]
[]
[]
[]
[]
[]
[]
[]
[]
[]
[]
[]
[]
[]
[]
[]
[]
[]
[]
[]
[]
[]
[]
[]
[]
[]
[]
[]
[]
[]
[]
[]
[]
[]
[]
[]
[]
[]
[]
[]
[]
[]
[]
[]
[]
[]
[]
[]
[]
[]
[]
[]
[]
[]
[]
[]
[]
[]
[]
[]
[]
[]
[]
[]
[]
[]
[]
[]
[]
[]
[]
[]
[]
[]
[]
[]
[]
[]
[]
[]
[]
[]
[]
[]
[]
[]
[]
[]
[]
[]
[]
[]
[]
[]
[]
[]
[]
[]
[]
[]
[]
[]
[]
[]
[]
[]
[]
[]
[]
[]
[]
[]
[]
[]
[]
[]
[]
[]
[]
[]
[]
[]
[]
[]
[]
[]
[]
[]
[]
[]
[]
[]
[]
[]
[]
[]
[]
[]
[]
[]
[]
[]
[]
[]
[]
[]
[]
[]
[]
[]
[]
[]
[]
[]
[]
[]
[]
[]
[]
[]
[]
[]
[]
[]
[]
[]
[]
[]
[]
[]
[]
[]
[]
[]
[]
[]
[]
[]
[]
[]
[]
[]
[]
[]
[]
[]
[]
[]
[]
[]
[]
[]
[]
[]
[]
[]
[]
[]
[]
[]
[]
[]
[]
[]
[]
[]
[]
[]
[]
[]
[]
[]
[]
[]
[]
[]
[]
[]
[]
[]
[]
[]
[]
[]
[]
[]
[]
[]
[]
[]
[]
[]
[]
[]
[]
[]
[]
[]
[]
[]
[]
[]
[]
[]
[]
[]
[]
[]
[]
[]
[]
[]
[]
[]
[]
[]
[]
[]
[]
[]
[]
[]
[]
[]
[]
[]
[]
[]
[]
[]
[]
[]
[]
[]
[]
[]
[]
[]
[]
[]
[]
[]
[]
[]
[]
[]
[]
[]
[]
[]
[]
[]
[]
[]
[]
[]
[]
[]
[]
[]
[]
[]
[]
[]
[]
[]
[]
[]
[]
[]
[]
[]
[]
[]
[]
[]
[]
[]
[]
[]
[]
[]
[]
[]
[]
[]
[]
[]
[]
[]
[]
[]
[]
[]
[]
[]
[]
[]
[]
[]
[]
[]
[]
[]
[]
[]
[]
[]
[]
[]
[]
[]
[]
[]
[]
[]
[]
[]
[]
[]
[]
[]
[]
[]
[]
[]
[]
[]
[]
[]
[]
[]
[]
[]
[]
[]
[]
[]
[]
[]
[]
[]
[]
[]
[]
[]
[]
[]
[]
[]
[]
[]
[]
[]
[]
[]
[]
[]
[]
[]
[]
[]
[]
[]
[]
[]
[]
[]
[]
[]
[]
[]
[]
[]
[]
[]
[]
[]
[]
[]
[]
[]
[]
[]
[]
[]
[]
[]
[]
[]
[]
[]
[]
[]
[]
[]
[]
[]
[]
[]
[]
[]
[]
[]
[]
[]
[]
[]
[]
[]
[]
[]
[]
[]
[]
[]
[]
[]
[]
[]
[]
[]
[]
[]
[]
[]
[]
[]
[]
[]
[]
[]
[]
[]
[]
[]
[]
[]
[]
[]
[]
[]
[]
[]
[]
[]
[]
[]
[]
[]
[]
[]
[]
[]
[]
[]
[]
[]
[]
[]
[]
[]
[]
[]
[]
[]
[]
[]
[]
[]
[]
[]
[]
[]
[]
[]
[]
[]
[]
[]
[]
[]
[]
[]
[]
[]
[]
[]
[]
[]
[]
[]
[]
[]
[]
[]
[]
[]
[]
[]
[]
[]
[]
[]
[]
[]
[]
[]
[]
[]
[]
[]
[]
[]
[]
[]
[]
[]
[]
[]
[]
[]
[]
[]
[]
[]
[]
[]
[]
[]
[]
[]
[]
[]
[]
[]
[]
[]
[]
[]
[]
[]
[]
[]
[]
[]
[]
[]
[]
[]
[]
[]
[]
[]
[]
[]
[]
[]
[]
[]
[]
[]
[]
[]
[]
[]
[]
[]
[]
[]
[]
[]
[]
[]
[]
[]
[]
[]
[]
[]
[]
[]
[]
[]
[]
[]
[]
[]
[]
[]
[]
[]
[]
[]
[]
[]
[]
[]
[]
[]
[]
[]
[]
[]
[]
[]
[]
[]
[]
[]
[]
[]
[]
[]
[]
[]
[]
[]
[]
[]
[]
[]
[]
[]
[]
[]
[]
[]
[]
[]
[]
[]
[]
[]
[]
[]
[]
[]
[]
[]
[]
[]
[]
[]
[]
[]
[]
[]
[]
[]
[]
[]
[]
[]
[]
[]
[]
[]
[]
[]
[]
[]
[]
[]
[]
[]
[]
[]
[]
[]
[]
[]
[]
[]
[]
[]
[]
[]
[]
[]
[]
[]
[]
[]
[]
[]
[]
[]
[]
[]
[]
[]
[]
[]
[]
[]
[]
[]
[]
[]
[]
[]
[]
[]
[]
[]
[]
[]
[]
[]
[]
[]
[]
[]
[]
[]
[]
[]
[]
[]
[]
[]
[]
[]
[]
[]
[]
[]
[]
[]
[]
[]
[]
[]
[]
[]
[]
[]
[]
[]
[]
[]
[]
[]
[]
[]
[]
[]
[]
[]
[]
[]
[]
[]
[]
[]
[]
[]
[]
[]
[]
[]
[]
[]
[]
[]
[]
[]
[]
[]
[]
[]
[]
[]
[]
[]
[]
[]
[]
[]
[]
[]
[]
[]
[]
[]
[]
[]
[]
[]
[]
[]
[]
[]
[]
[]
[]
[]
[]
[]
[]
[]
[]
[]
[]
[]
[]
[]
[]
[]
[]
[]
[]
[]
[]
[]
[]
[]
[]
[]
[]
[]
[]
[]
[]
[]
[]
[]
[]
[]
[]
[]
[]
[]
[]
[]
[]
[]
[]
[]
[]
[]
[]
[]
[]
[]
[]
[]
[]
[]
[]
[]
[]
[]
[]
[]
[]
[]
[]
[]
[]
[]
[]
[]
[]
[]
[]
[]
[]
[]
[]
[]
[]
[]
[]
[]
[]
[]
[]
[]
[]
[]
[]
[]
[]
[]
[]
[]
[]
[]
[]
[]
[]
[]
[]
[]
[]
[]
[]
[]
[]
[]
[]
[]
[]
[]
[]
[]
[]
[]
[]
[]
[]
[]
[]
[]
[]
[]
[]
[]
[]
[]
[]
[]
[]
[]
[]
[]
[]
[]
[]
[]
[]
[]
[]
[]
[]
[]
[]
[]
[]
[]
[]
[]
[]
[]
[]
[]
[]
[]
[]
[]
[]
[]
[]
[]
[]
[]
[]
[]
[]
[]
[]
[]
[]
[]
[]
[]
[]
[]
[]
[]
[]
[]
[]
[]
[]
[]
[]
[]
[]
[]
[]
[]
[]
[]
[]
[]
[]
[]
[]
[]
[]
[]
[]
[]
[]
[]
[]
[]
[]
[]
[]
[]
[]
[]
[]
[]
[]
[]
[]
[]
[]
[]
[]
[]
[]
[]
[]
[]
[]
[]
[]
[]
[]
[]
[]
[]
[]
[]
[]
[]
[]
[]
[]
[]
[]
[]
[]
[]
[]
[]
[]
[]
[]
[]
[]
[]
[]
[]
[]
[]
[]
[]
[]
[]
[]
[]
[]
[]
[]
[]
[]
[]
[]
[]
[]
[]
[]
[]
[]
[]
[]
[]
[]
[]
[]
[]
[]
[]
[]
[]
[]
[]
[]
[]
[]
[]
[]
[]
[]
[]
[]
[]
[]
[]
[]
[]
[]
[]
[]
[]
[]
[]
[]
[]
[]
[]
[]
[]
[]
[]
[]
[]
[]
[]
[]
[]
[]
[]
[]
[]
[]
[]
[]
[]
[]
[]
[]
[]
[]
[]
[]
[]
[]
[]
[]
[]
[]
[]
[]
[]
[]
[]
[]
[]
[]
[]
[]
[]
[]
[]
[]
[]
[]
[]
[]
[]
[]
[]
[]
[]
[]
[]
[]
[]
[]
[]
[]
[]
[]
[]
[]
[]
[]
[]
[]
[]
[]
[]
[]
[]
[]
[]
[]
[]
[]
[]
[]
[]
[]
[]
[]
[]
[]
[]
[]
[]
[]
[]
[]
[]
[]
[]
[]
[]
[]
[]
[]
[]
[]
[]
[]
[]
[]
[]
[]
[]
[]
[]
[]
[]
[]
[]
[]
[]
[]
[]
[]
[]
[]
[]
[]
[]
[]
[]
[]
[]
[]
[]
[]
[]
[]
[]
[]
[]
[]
[]
[]
[]
[]
[]
[]
[]
[]
[]
[]
[]
[]
[]
[]
[]
[]
[]
[]
[]
[]
[]
[]
[]
[]
[]
[]
[]
[]
[]
[]
[]
[]
[]
[]
[]
[]
[]
[]
[]
[]
[]
[]
[]
[]
[]
[]
[]
[]
[]
[]
[]
[]
[]
[]
[]
[]
[]
[]
[]
[]
[]
[]
[]
[]
[]
[]
[]
[]
[]
[]
[]
[]
[]
[]
[]
[]
[]
[]
[]
[]
[]
[]
[]
[]
[]
[]
[]
[]
[]
[]
[]
[]
[]
[]
[]
[]
[]
[]
[]
[]
[]
[]
[]
[]
[]
[]
[]
[]
[]
[]
[]
[]
[]
[]
[]
[]
[]
[]
[]
[]
[]
[]
[]
[]
[]
[]
[]
[]
[]
[]
[]
[]
[]
[]
[{"$f":"1+1","v":2}]
[]
[{"$f":"1+1","v":2}]

{"sheet":"CONSOLIDAÇÃO","index":3,"n_rows":1048574,"n_cols":6,"rows_kept":4500,"cut":true,"hidden":true,"merged":[[2,0,2,1],[14,0,42,7],[13,0,13,7],[6,0,7,7],[5,1,5,7],[8,0,8,7],[10,4,11,4],[10,5,11,5]],"bounds":{"rows_first":2000,"rows_last":500,"rows_between":2000,"halvings":0}}
[{"$f":"'Nome do Projeto'!A1","v":"UNIVERSIDADE DO ESTADO DO RIO DE JANEIRO"}]
[{"$f":"'Nome do Projeto'!A2","v":"SUB-REITORIA DE PÓS-GRADUAÇÃO E PESQUISA"}]
[{"$f":"'Nome do Projeto'!B1","v":"PLANILHA PARA ESTIMAR READEQUAÇÃO ORÇAMENTÁRIA  - PrInt UERJ - 2020"}]
[{"$f":"'Nome do Projeto'!A10","v":"PROGRAMA – NOME:"},{"$f":"'Nome do Projeto'!B10","v":0}]
[{"$f":"'Nome do Projeto'!A11","v":"TEMA:"},{"$f":"'Nome do Projeto'!B11","v":0}]
[{"$f":"'Nome do Projeto'!A12","v":"TÍTULO DO PROJETO:"},{"$f":"'Nome do Projeto'!B12","v":0}]
["CONSOLIDAÇÃO"]
[]
["Resumo Geral - Totais"]
[null,"Previsto a países prioritários","Previsto aos demais países","Total geral"]
["Bolsas",{"$f":"SUMIFS(Bolsas!$R$15:$R$50,Bolsas!$J$15:$J$50,\"S\")","v":0},{"$f":"D11-B11","v":0},{"$f":"Bolsas!BG14","v":0},"Percentual TOTAL previsto a países prioritários",{"$f":"IF(D13-D12=0,\"\",B13/(D13-D12))","v":""}]
["Manutenção",null,null,{"$f":"Manutenção!C18","v":0}]
["Total do Projeto",{"$f":"SUM(B11:B12)","v":0},{"$f":"SUM(C11:C12)","v":0},{"$f":"SUM(D11:D12)","v":0}]
["Resumos Gerais - Quadros com informações de Bolsas e Manutenção"]
[]
[]
[]
[]
[]
[]
[]
[]
[]
[]
[]
[]
[]
[]
[]
[]
[]
[]
[]
[]
[]
[]
[]
[]
[]
[]
[]
[]
[]
[]
[]
[]
[]
[]
[]
[]
[]
[]
[]
[]
[]
[]
[]
[]
[]
[]
[]
[]
[]
[]
[]
[]
[]
[]
[]
[]
[]
[]
[]
[]
[]
[]
[]
[]
[]
[]
[]
[]
[]
[]
[]
[]
[]
[]
[]
[]
[]
[]
[]
[]
[]
[]
[]
[]
[]
[]
[]
[]
[]
[]
[]
[]
[]
[]
[]
[]
[]
[]
[]
[]
[]
[]
[]
[]
[]
[]
[]
[]
[]
[]
[]
[]
[]
[]
[]
[]
[]
[]
[]
[]
[]
[]
[]
[]
[]
[]
[]
[]
[]
[]
[]
[]
[]
[]
[]
[]
[]
[]
[]
[]
[]
[]
[]
[]
[]
[]
[]
[]
[]
[]
[]
[]
[]
[]
[]
[]
[]
[]
[]
[]
[]
[]
[]
[]
[]
[]
[]
[]
[]
[]
[]
[]
[]
[]
[]
[]
[]
[]
[]
[]
[]
[]
[]
[]
[]
[]
[]
[]
[]
[]
[]
[]
[]
[]
[]
[]
[]
[]
[]
[]
[]
[]
[]
[]
[]
[]
[]
[]
[]
[]
[]
[]
[]
[]
[]
[]
[]
[]
[]
[]
[]
[]
[]
[]
[]
[]
[]
[]
[]
[]
[]
[]
[]
[]
[]
[]
[]
[]
[]
[]
[]
[]
[]
[]
[]
[]
[]
[]
[]
[]
[]
[]
[]
[]
[]
[]
[]
[]
[]
[]
[]
[]
[]
[]
[]
[]
[]
[]
[]
[]
[]
[]
[]
[]
[]
[]
[]
[]
[]
[]
[]
[]
[]
[]
[]
[]
[]
[]
[]
[]
[]
[]
[]
[]
[]
[]
[]
[]
[]
[]
[]
[]
[]
[]
[]
[]
[]
[]
[]
[]
[]
[]
[]
[]
[]
[]
[]
[]
[]
[]
[]
[]
[]
[]
[]
[]
[]
[]
[]
[]
[]
[]
[]
[]
[]
[]
[]
[]
[]
[]
[]
[]
[]
[]
[]
[]
[]
[]
[]
[]
[]
[]
[]
[]
[]
[]
[]
[]
[]
[]
[]
[]
[]
[]
[]
[]
[]
[]
[]
[]
[]
[]
[]
[]
[]
[]
[]
[]
[]
[]
[]
[]
[]
[]
[]
[]
[]
[]
[]
[]
[]
[]
[]
[]
[]
[]
[]
[]
[]
[]
[]
[]
[]
[]
[]
[]
[]
[]
[]
[]
[]
[]
[]
[]
[]
[]
[]
[]
[]
[]
[]
[]
[]
[]
[]
[]
[]
[]
[]
[]
[]
[]
[]
[]
[]
[]
[]
[]
[]
[]
[]
[]
[]
[]
[]
[]
[]
[]
[]
[]
[]
[]
[]
[]
[]
[]
[]
[]
[]
[]
[]
[]
[]
[]
[]
[]
[]
[]
[]
[]
[]
[]
[]
[]
[]
[]
[]
[]
[]
[]
[]
[]
[]
[]
[]
[]
[]
[]
[]
[]
[]
[]
[]
[]
[]
[]
[]
[]
[]
[]
[]
[]
[]
[]
[]
[]
[]
[]
[]
[]
[]
[]
[]
[]
[]
[]
[]
[]
[]
[]
[]
[]
[]
[]
[]
[]
[]
[]
[]
[]
[]
[]
[]
[]
[]
[]
[]
[]
[]
[]
[]
[]
[]
[]
[]
[]
[]
[]
[]
[]
[]
[]
[]
[]
[]
[]
[]
[]
[]
[]
[]
[]
[]
[]
[]
[]
[]
[]
[]
[]
[]
[]
[]
[]
[]
[]
[]
[]
[]
[]
[]
[]
[]
[]
[]
[]
[]
[]
[]
[]
[]
[]
[]
[]
[]
[]
[]
[]
[]
[]
[]
[]
[]
[]
[]
[]
[]
[]
[]
[]
[]
[]
[]
[]
[]
[]
[]
[]
[]
[]
[]
[]
[]
[]
[]
[]
[]
[]
[]
[]
[]
[]
[]
[]
[]
[]
[]
[]
[]
[]
[]
[]
[]
[]
[]
[]
[]
[]
[]
[]
[]
[]
[]
[]
[]
[]
[]
[]
[]
[]
[]
[]
[]
[]
[]
[]
[]
[]
[]
[]
[]
[]
[]
[]
[]
[]
[]
[]
[]
[]
[]
[]
[]
[]
[]
[]
[]
[]
[]
[]
[]
[]
[]
[]
[]
[]
[]
[]
[]
[]
[]
[]
[]
[]
[]
[]
[]
[]
[]
[]
[]
[]
[]
[]
[]
[]
[]
[]
[]
[]
[]
[]
[]
[]
[]
[]
[]
[]
[]
[]
[]
[]
[]
[]
[]
[]
[]
[]
[]
[]
[]
[]
[]
[]
[]
[]
[]
[]
[]
[]
[]
[]
[]
[]
[]
[]
[]
[]
[]
[]
[]
[]
[]
[]
[]
[]
[]
[]
[]
[]
[]
[]
[]
[]
[]
[]
[]
[]
[]
[]
[]
[]
[]
[]
[]
[]
[]
[]
[]
[]
[]
[]
[]
[]
[]
[]
[]
[]
[]
[]
[]
[]
[]
[]
[]
[]
[]
[]
[]
[]
[]
[]
[]
[]
[]
[]
[]
[]
[]
[]
[]
[]
[]
[]
[]
[]
[]
[]
[]
[]
[]
[]
[]
[]
[]
[]
[]
[]
[]
[]
[]
[]
[]
[]
[]
[]
[]
[]
[]
[]
[]
[]
[]
[]
[]
[]
[]
[]
[]
[]
[]
[]
[]
[]
[]
[]
[]
[]
[]
[]
[]
[]
[]
[]
[]
[]
[]
[]
[]
[]
[]
[]
[]
[]
[]
[]
[]
[]
[]
[]
[]
[]
[]
[]
[]
[]
[]
[]
[]
[]
[]
[]
[]
[]
[]
[]
[]
[]
[]
[]
[]
[]
[]
[]
[]
[]
[]
[]
[]
[]
[]
[]
[]
[]
[]
[]
[]
[]
[]
[]
[]
[]
[]
[]
[]
[]
[]
[]
[]
[]
[]
[]
[]
[]
[]
[]
[]
[]
[]
[]
[]
[]
[]
[]
[]
[]
[]
[]
[]
[]
[]
[]
[]
[]
[]
[]
[]
[]
[]
[]
[]
[]
[]
[]
[]
[]
[]
[]
[]
[]
[]
[]
[]
[]
[]
[]
[]
[]
[]
[]
[]
[]
[]
[]
[]
[]
[]
[]
[]
[]
[]
[]
[]
[]
[]
[]
[]
[]
[]
[]
[]
[]
[]
[]
[]
[]
[]
[]
[]
[]
[]
[]
[]
[]
[]
[]
[]
[]
[]
[]
[]
[]
[]
[]
[]
[]
[]
[]
[]
[]
[]
[]
[]
[]
[]
[]
[]
[]
[]
[]
[]
[]
[]
[]
[]
[]
[]
[]
[]
[]
[]
[]
[]
[]
[]
[]
[]
[]
[]
[]
[]
[]
[]
[]
[]
[]
[]
[]
[]
[]
[]
[]
[]
[]
[]
[]
[]
[]
[]
[]
[]
[]
[]
[]
[]
[]
[]
[]
[]
[]
[]
[]
[]
[]
[]
[]
[]
[]
[]
[]
[]
[]
[]
[]
[]
[]
[]
[]
[]
[]
[]
[]
[]
[]
[]
[]
[]
[]
[]
[]
[]
[]
[]
[]
[]
[]
[]
[]
[]
[]
[]
[]
[]
[]
[]
[]
[]
[]
[]
[]
[]
[]
[]
[]
[]
[]
[]
[]
[]
[]
[]
[]
[]
[]
[]
[]
[]
[]
[]
[]
[]
[]
[]
[]
[]
[]
[]
[]
[]
[]
[]
[]
[]
[]
[]
[]
[]
[]
[]
[]
[]
[]
[]
[]
[]
[]
[]
[]
[]
[]
[]
[]
[]
[]
[]
[]
[]
[]
[]
[]
[]
[]
[]
[]
[]
[]
[]
[]
[]
[]
[]
[]
[]
[]
[]
[]
[]
[]
[]
[]
[]
[]
[]
[]
[]
[]
[]
[]
[]
[]
[]
[]
[]
[]
[]
[]
[]
[]
[]
[]
[]
[]
[]
[]
[]
[]
[]
[]
[]
[]
[]
[]
[]
[]
[]
[]
[]
[]
[]
[]
[]
[]
[]
[]
[]
[]
[]
[]
[]
[]
[]
[]
[]
[]
[]
[]
[]
[]
[]
[]
[]
[]
[]
[]
[]
[]
[]
[]
[]
[]
[]
[]
[]
[]
[]
[]
[]
[]
[]
[]
[]
[]
[]
[]
[]
[]
[]
[]
[]
[]
[]
[]
[]
[]
[]
[]
[]
[]
[]
[]
[]
[]
[]
[]
[]
[]
[]
[]
[]
[]
[]
[]
[]
[]
[]
[]
[]
[]
[]
[]
[]
[]
[]
[]
[]
[]
[]
[]
[]
[]
[]
[]
[]
[]
[]
[]
[]
[]
[]
[]
[]
[]
[]
[]
[]
[]
[]
[]
[]
[]
[]
[]
[]
[]
[]
[]
[]
[]
[]
[]
[]
[]
[]
[]
[]
[]
[]
[]
[]
[]
[]
[]
[]
[]
[]
[]
[]
[]
[]
[]
[]
[]
[]
[]
[]
[]
[]
[]
[]
[]
[]
[]
[]
[]
[]
[]
[]
[]
[]
[]
[]
[]
[]
[]
[]
[]
[]
[]
[]
[]
[]
[]
[]
[]
[]
[]
[]
[]
[]
[]
[]
[]
[]
[]
[]
[]
[]
[]
[]
[]
[]
[]
[]
[]
[]
[]
[]
[]
[]
[]
[]
[]
[]
[]
[]
[]
[]
[]
[]
[]
[]
[]
[]
[]
[]
[]
[]
[]
[]
[]
[]
[]
[]
[]
[]
[]
[]
[]
[]
[]
[]
[]
[]
[]
[]
[]
[]
[]
[]
[]
[]
[]
[]
[]
[]
[]
[]
[]
[]
[]
[]
[]
[]
[]
[]
[]
[]
[]
[]
[]
[]
[]
[]
[]
[]
[]
[]
[]
[]
[]
[]
[]
[]
[]
[]
[]
[]
[]
[]
[]
[]
[]
[]
[]
[]
[]
[]
[]
[]
[]
[]
[]
[]
[]
[]
[]
[]
[]
[]
[]
[]
[]
[]
[]
[]
[]
[]
[]
[]
[]
[]
[]
[]
[]
[]
[]
[]
[]
[]
[]
[]
[]
[]
[]
[]
[]
[]
[]
[]
[]
[]
[]
[]
[]
[]
[]
[]
[]
[]
[]
[]
[]
[]
[]
[]
[]
[]
[]
[]
[]
[]
[]
[]
[]
[]
[]
[]
[]
[]
[]
[]
[]
[]
[]
[]
[]
[]
[]
[]
[]
[]
[]
[]
[]
[]
[]
[]
[]
[]
[]
[]
[]
[]
[]
[]
[]
[]
[]
[]
[]
[]
[]
[]
[]
[]
[]
[]
[]
[]
[]
[]
[]
[]
[]
[]
[]
[]
[]
[]
[]
[]
[]
[]
[]
[]
[]
[]
[]
[]
[]
[]
[]
[]
[]
[]
[]
[]
[]
[]
[]
[]
[]
[]
[]
[]
[]
[]
[]
[]
[]
[]
[]
[]
[]
[]
[]
[]
[]
[]
[]
[]
[]
[]
[]
[]
[]
[]
[]
[]
[]
[]
[]
[]
[]
[]
[]
[]
[]
[]
[]
[]
[]
[]
[]
[]
[]
[]
[]
[]
[]
[]
[]
[]
[]
[]
[]
[]
[]
[]
[]
[]
[]
[]
[]
[]
[]
[]
[]
[]
[]
[]
[]
[]
[]
[]
[]
[]
[]
[]
[]
[]
[]
[]
[]
[]
[]
[]
[]
[]
[]
[]
[]
[]
[]
[]
[]
[]
[]
[]
[]
[]
[]
[]
[]
[]
[]
[]
[]
[]
[]
[]
[]
[]
[]
[]
[]
[]
[]
[]
[]
[]
[]
[]
[]
[]
[]
[]
[]
[]
[]
[]
[]
[]
[]
[]
[]
[]
[]
[]
[]
[]
[]
[]
[]
[]
[]
[]
[]
[]
[]
[]
[]
[]
[]
[]
[]
[]
[]
[]
[]
[]
[]
[]
[]
[]
[]
[]
[]
[]
[]
[]
[]
[]
[]
[]
[]
[]
[]
[]
[]
[]
[]
[]
[]
[]
[]
[]
[]
[]
[]
[]
[]
[]
[]
[]
[]
[]
[]
[]
[]
[]
[]
[]
[]
[]
[]
[]
[]
[]
[]
[]
[]
[]
[]
[]
[]
[]
[]
[]
[]
[]
[]
[]
[]
[]
[]
[]
[]
[]
[]
[]
[]
[]
[]
[]
[]
[]
[]
[]
[]
[]
[]
[]
[]
[]
[]
[]
[]
[]
[]
[]
[]
[]
[]
[]
[]
[]
[]
[]
[]
[]
[]
[]
[]
[]
[]
[]
[]
[]
[]
[]
[]
[]
[]
[]
[]
[]
[]
[]
[]
[]
[]
[]
[]
[]
[]
[]
[]
[]
[]
[]
[]
[]
[]
[]
[]
[]
[]
[]
[]
[]
[]
[]
[]
[]
[]
[]
[]
[]
[]
[]
[]
[]
[]
[]
[]
[]
[]
[]
[]
[]
[]
[]
[]
[]
[]
[]
[]
[]
[]
[]
[]
[]
[]
[]
[]
[]
[]
[]
[]
[]
[]
[]
[]
[]
[]
[]
[]
[]
[]
[]
[]
[]
[]
[]
[]
[]
[]
[]
[]
[]
[]
[]
[]
[]
[]
[]
[]
[]
[]
[]
[]
[]
[]
[]
[]
[]
[]
[]
[]
[]
[]
[]
[]
[]
[]
[]
[]
[]
[]
[]
[]
[]
[]
[]
[]
[]
[]
[]
[]
[]
[]
[]
[]
[]
[]
[]
[]
[]
[]
[]
[]
[]
[]
[]
[]
[]
[]
[]
[]
[]
[]
[]
[]
[]
[]
[]
[]
[]
[]
[]
[]
[]
[]
[]
[]
[]
[]
[]
[]
[]
[]
[]
[]
[]
[]
[]
[]
[]
[]
[]
[]
[]
[]
[]
[]
[]
[]
[]
[]
[]
[]
[]
[]
[]
[]
[]
[]
[]
[]
[]
[]
[]
[]
[]
[]
[]
[]
[]
[]
[]
[]
[]
[]
[]
[]
[]
[]
[]
[]
[]
[]
[]
[]
[]
[]
[]
[]
[]
[]
[]
[]
[]
[]
[]
[]
[]
[]
[]
[]
[]
[]
[]
[]
[]
[]
[]
[]
[]
[]
[]
[]
[]
[]
[]
[]
[]
[]
[]
[]
[]
[]
[]
[]
[]
[]
[]
[]
[]
[]
[]
[]
[]
[]
[]
[]
[]
[]
[]
[]
[]
[]
[]
[]
[]
[]
[]
[]
[]
[]
[]
[]
[]
[]
[]
[]
[]
[]
[]
[]
[]
[]
[]
[]
[]
[]
[]
[]
[]
[]
[]
[]
[]
[]
[]
[]
[]
[]
[]
[]
[]
[]
[]
[]
[]
[]
[]
[]
[]
[]
[]
[]
[]
[]
[]
[]
[]
[]
[]
[]
[]
[]
[]
[]
[]
[]
[]
[]
[]
[]
[]
[]
[]
[]
[]
[]
[]
[]
[]
[]
[]
[]
[]
[]
[]
[]
[]
[]
[]
[]
[]
[]
[]
[]
[]
[]
[]
[]
[]
[]
[]
[]
[]
[]
[]
[]
[]
[]
[]
[]
[]
[]
[]
[]
[]
[]
[]
[]
[]
[]
[]
[]
[]
[]
[]
[]
[]
[]
[]
[]
[]
[]
[]
[]
[]
[]
[]
[]
[]
[]
[]
[]
[]
[]
[]
[]
[]
[]
[]
[]
[]
[]
[]
[]
[]
[]
[]
[]
[]
[]
[]
[]
[]
[]
[]
[]
[]
[]
[]
[]
[]
[]
[]
[]
[]
[]
[]
[]
[]
[]
[]
[]
[]
[]
[]
[]
[]
[]
[]
[]
[]
[]
[]
[]
[]
[]
[]
[]
[]
[]
[]
[]
[]
[]
[]
[]
[]
[]
[]
[]
[]
[]
[]
[]
[]
[]
[]
[]
[]
[]
[]
[]
[]
[]
[]
[]
[]
[]
[]
[]
[]
[]
[]
[]
[]
[]
[]
[]
[]
[]
[]
[]
[]
[]
[]
[]
[]
[]
[]
[]
[]
[]
[]
[]
[]
[]
[]
[]
[]
[]
[]
[]
[]
[]
[]
[]
[]
[]
[]
[]
[]
[]
[]
[]
[]
[]
[]
[]
[]
[]
[]
[]
[]
[]
[]
[]
[]
[]
[]
[]
[]
[]
[]
[]
[]
[]
[]
[]
[]
[]
[]
[]
[]
[]
[]
[]
[]
[]
[]
[]
[]
[]
[]
[]
[]
[]
[]
[]
[]
[]
[]
[]
[]
[]
[]
[]
[]
[]
[]
[]
[]
[]
[]
[]
[]
[]
[]
[]
[]
[]
[]
[]
[]
[]
[]
[]
[]
[]
[]
[]
[]
[]
[]
[]
[]
[]
[]
[]
[]
[]
[]
[]
[]
[]
[]
[]
[]
[]
[]
[]
[]
[]
[]
[]
[]
[]
[]
[]
[]
[]
[]
[]
[]
[]
[]
[]
[]
[]
[]
[]
[]
[]
[]
[]
[]
[]
[]
[]
[]
[]
[]
[]
[]
[]
[]
[]
[]
[]
[]
[]
[]
[]
[]
[]
[]
[]
[]
[]
[]
[]
[]
[]
[]
[]
[]
[]
[]
[]
[]
[]
[]
[]
[]
[]
[]
[]
[]
[]
[]
[]
[]
[]
[]
[]
[]
[]
[]
[]
[]
[]
[]
[]
[]
[]
[]
[]
[]
[]
[]
[]
[]
[]
[]
[]
[]
[]
[]
[]
[]
[]
[]
[]
[]
[]
[]
[]
[]
[]
[]
[]
[]
[]
[]
[]
[]
[]
[]
[]
[]
[]
[]
[]
[]
[]
[]
[]
[]
[]
[]
[]
[]
[]
[]
[]
[]
[]
[]
[]
[]
[]
[]
[]
[]
[]
[]
[]
[]
[]
[]
[]
[]
[]
[]
[]
[]
[]
[]
[]
[]
[]
[]
[]
[]
[]
[]
[]
[]
[]
[]
[]
[]
[]
[]
[]
[]
[]
[]
[]
[]
[]
[]
[]
[]
[]
[]
[]
[]
[]
[]
[]
[]
[]
[]
[]
[]
[]
[]
[]
[]
[]
[]
[]
[]
[]
[]
[]
[]
[]
[]
[]
[]
[]
[]
[]
[]
[]
[]
[]
[]
[]
[]
[]
[]
[]
[]
[]
[]
[]
[]
[]
[]
[]
[]
[]
[]
[]
[]
[]
[]
[]
[]
[]
[]
[]
[]
[]
[]
[]
[]
[]
[]
[]
[]
[]
[]
[]
[]
[]
[]
[]
[]
[]
[]
[]
[]
[]
[]
[]
[]
[]
[]
[]
[]
[]
[]
[]
[]
[]
[]
[]
[]
[]
[]
[]
[]
[]
[]
[]
[]
[]
[]
[]
[]
[]
[]
[]
[]
[]
[]
[]
[]
[]
[]
[]
[]
[]
[]
[]
[]
[]
[]
[]
[]
[]
[]
[]
[]
[]
[]
[]
[]
[]
[]
[]
[]
[]
[]
[]
[]
[]
[]
[]
[]
[]
[]
[]
[]
[]
[]
[]
[]
[]
[]
[]
[]
[]
[]
[]
[]
[]
[]
[]
[]
[]
[]
[]
[]
[]
[]
[]
[]
[]
[]
[]
[]
[]
[]
[]
[]
[]
[]
[]
[]
[]
[]
[]
[]
[]
[]
[]
[]
[]
[]
[]
[]
[]
[]
[]
[]
[]
[]
[]
[]
[]
[]
[]
[]
[]
[]
[]
[]
[]
[]
[]
[]
[]
[]
[]
[]
[]
[]
[]
[]
[]
[]
[]
[]
[]
[]
[]
[]
[]
[]
[]
[]
[]
[]
[]
[]
[]
[]
[]
[]
[]
[]
[]
[]
[]
[]
[]
[]
[]
[]
[]
[]
[]
[]
[]
[]
[]
[]
[]
[]
[]
[]
[]
[]
[]
[]
[]
[]
[]
[]
[]
[]
[]
[]
[]
[]
[]
[]
[]
[]
[]
[]
[]
[]
[]
[]
[]
[]
[]
[]
[]
[]
[]
[]
[]
[]
[]
[]
[]
[]
[]
[]
[]
[]
[]
[]
[]
[]
[]
[]
[]
[]
[]
[]
[]
[]
[]
[]
[]
[]
[]
[]
[]
[]
[]
[]
[]
[]
[]
[]
[]
[]
[]
[]
[]
[]
[]
[]
[]
[]
[]
[]
[]
[]
[]
[]
[]
[]
[]
[]
[]
[]
[]
[]
[]
[]
[]
[]
[]
[]
[]
[]
[]
[]
[]
[]
[]
[]
[]
[]
[]
[]
[]
[]
[]
[]
[]
[]
[]
[]
[]
[]
[]
[]
[]
[]
[]
[]
[]
[]
[]
[]
[]
[]
[]
[]
[]
[]
[]
[]
[]
[]
[]
[]
[]
[]
[]
[]
[]
[]
[]
[]
[]
[]
[]
[]
[]
[]
[]
[]
[]
[]
[]
[]
[]
[]
[]
[]
[]
[]
[]
[]
[]
[]
[]
[]
[]
[]
[]
[]
[]
[]
[]
[]
[]
[]
[]
[]
[]
[]
[]
[]
[]
[]
[]
[]
[]
[]
[]
[]
[]
[]
[]
[]
[]
[]
[]
[]
[]
[]
[]
[]
[]
[]
[]
[]
[]
[]
[]
[]
[]
[]
[]
[]
[]
[]
[]
[]
[]
[]
[]
[]
[]
[]
[]
[]
[]
[]
[]
[]
[]
[]
[]
[]
[]
[]
[]
[]
[]
[]
[]
[]
[]
[]
[]
[]
[]
[]
[]
[]
[]
[]
[]
[]
[]
[]
[]
[]
[]
[]
[]
[]
[]
[]
[]
[]
[]
[]
[]
[]
[]
[]
[]
[]
[]
[]
[]
[]
[]
[]
[]
[]
[]
[]
[]
[]
[]
[]
[]
[]
[]
[]
[]
[]
[]
[]
[]
[]
[]
[]
[]
[]
[]
[]
[]
[]
[]
[]
[]
[]
[]
[]
[]
[]
[]
[]
[]
[]
[]
[]
[]
[]
[]
[]
[]
[]
[]
[]
[]
[]
[]
[]
[]
[]
[]
[]
[]
[]
[]
[]
[]
[]
[]
[]
[]
[]
[]
[]
[]
[]
[]
[]
[]
[]
[]
[]
[]
[]
[]
[]
[]
[]
[]
[]
[]
[]
[]
[]
[]
[]
[]
[]
[]
[]
[]
[]
[]
[]
[]
[]
[]
[]
[]
[]
[]
[]
[]
[]
[]
[]
[]
[]
[]
[]
[]
[]
[]
[]
[]
[]
[]
[]
[]
[]
[]
[]
[]
[]
[]
[]
[]
[]
[]
[]
[]
[]
[]
[]
[]
[]
[]
[]
[]
[]
[]
[]
[]
[]
[]
[]
[]
[]
[]
[]
[]
[]
[]
[]
[]
[]
[]
[]
[]
[]
[]
[]
[]
[]
[]
[]
[]
[]
[]
[]
[]
[]
[]
[]
[]
[]
[]
[]
[]
[]
[]
[]
[]
[]
[]
[]
[]
[]
[]
[]
[]
[]
[]
[]
[]
[]
[]
[]
[]
[]
[]
[]
[]
[]
[]
[]
[]
[]
[]
[]
[]
[]
[]
[]
[]
[]
[]
[]
[]
[]
[]
[]
[]
[]
[]
[]
[]
[]
[]
[]
[]
[]
[]
[]
[]
[]
[]
[]
[]
[]
[]
[]
[]
[]
[]
[]
[]
[]
[]
[]
[]
[]
[]
[]
[]
[]
[]
[]
[]
[]
[]
[]
[]
[]
[]
[]
[]
[]
[]
[]
[]
[]
[]
[]
[]
[]
[]
[]
[]
[]
[]
[]
[]
[]
[]
[]
[]
[]
[]
[]
[]
[]
[]
[]
[]
[]
[]
[]
[]
[]
[]
[]
[]
[]
[]
[]
[]
[]
[]
[]
[]
[]
[]
[]
[]
[]
[]
[]
[]
[]
[]
[]
[]
[]
[]
[]
[]
[]
[]
[]
[]
[]
[]
[]
[]
[]
[]
[]
[]
[]
[]
[]
[]
[]
[]
[]
[]
[]
[]
[]
[]
[]
[]
[]
[]
[]
[]
[]
[]
[]
[]
[]
[]
[]
[]
[]
[]
[]
[]
[]
[]
[]
[]
[]
[]
[]
[]
[]
[]
[]
[]
[]
[]
[]
[]
[]
[]
[]
[]
[]
[]
[]
[]
[]
[]
[]
[]
[]
[]
[]
[]
[]
[]
[]
[]
[]
[]
[]
[]
[]
[]
[]
[]
[]
[]
[]
[]
[]
[]
[]
[]
[]
[]
[]
[]
[]
[]
[]
[]
[]
[]
[]
[]
[]
[]
[]
[]
[]
[]
[]
[]
[]
[]
[]
[]
[]
[]
[]
[]
[]
[]
[]
[]
[]
[]
[]
[]
[]
[]
[]
[]
[]
[]
[]
[]
[]
[]
[]
[]
[]
[]
[]
[]
[]
[]
[]
[]
[]
[]
[]
[]
[]
[]
[]
[]
[]
[]
[]
[]
[]
[]
[]
[]
[]
[]
[]
[]
[]
[]
[]
[]
[]
[]
[]
[]
[]
[]
[]
[]
[]
[]
[]
[]
[]
[]
[]
[]
[]
[]
[]
[]
[]
[]
[]
[]
[]
[]
[]
[]
[]
[]
[]
[]
[]
[]
[]
[]
[]
[]
[]
[]
[]
[]
[]
[]
[]
[]
[]
[]
[]
[]
[]
[]
[]
[]
[]
[]
[]
[]
[]
[]
[]
[]
[]
[]
[]
[]
[]
[]
[]
[]
[]
[]
[]
[]
[]
[]
[]
[]
[]
[]
[]
[]
[]
[]
[]
[]
[]
[]
[]
[]
[]
[]
[]
[]
[]
[]
[]
[]
[]
[]
[]
[]
[]
[]
[]
[]
[]
[]
[]
[]
[]
[]
[]
[]
[]
[]
[]
[]
[]
[]
[]
[]
[]
[]
[]
[]
[]
[]
[]
[]
[]
[]
[]
[]
[]
[]
[]
[]
[]
[]
[]
[]
[]
[]
[]
[]
[]
[]
[]
[]
[]
[]
[]
[]
[]
[]
[]
[]
[]
[]
[]
[]
[]
[]
[]
[]
[]
[]
[]
[]
[]
[]
[]
[]
[]
[]
[]
[]
[]
[]
[]
[]
[]
[]
[]
[]
[]
[]
[]
[]
[]
[]
[]
[]
[]
[]
[]
[]
[]
[]
[]
[]
[]
[]
[]
[]
[]
[]
[]
[]
[]
[]
[]
[]
[]
[]
[]
[]
[]
[]
[]
[]
[]
[]
[]
[]
[]
[]
[]
[]
[]
[]
[]
[]
[]
[]
[]
[]
[]
[]
[]
[]
[]
[]
[]
[]
[]
[]
[]
[]
[]
[]
[]
[]
[]
[]
[]
[]
[]
[]
[]
[]
[]
[]
[]
[]
[]
[]
[]
[]
[]
[]
[]
[]
[]
[]
[]
[]
[]
[]
[]
[]
[]
[]
[]
[]
[]
[]
[]
[]
[]
[]
[]
[]
[]
[]
[]
[]
[]
[]
[]
[]
[]
[]
[]
[]
[]
[]
[]
[]
[]
[]
[]
[]
[]
[]
[]
[]
[]
[]
[]
[]
[]
[]
[]
[]
[]
[]
[]
[]
[]
[]
[]
[]
[]
[]
[]
[]
[]
[]
[]
[]
[]
[]
[]
[]
[]
[]
[]
[]
[]
[]
[]
[]
[]
[]
[]
[]
[]
[]
[]
[]
[]
[]
[]
[]
[]
[]
[]
[]
[]
[]
[]
[]
[]
[]
[]
[]
[]
[]
[]
[]
[]
[]
[]
[]
[]
[]
[]
[]
[]
[]
[]
[]
[]
[]
[]
[]
[]
[]
[]
[]
[]
[]
[]
[]
[]
[]
[]
[]
[]
[]
[]
[]
[]
[]
[]
[]
[]
[]
[]
[]
[]
[]
[]
[]
[]
[]
[]
[]
[]
[]
[]
[]
[]
[]
[]
[]
[]
[]
[]
[]
[]
[]
[]
[]
[]
[]
[]
[]
[]
[]
[]
[]
[]
[]
[]
[]
[]
[]
[]
[]
[]
[]
[]
[]
[]
[]
[]
[]
[]
[]
[]
[]
[]
[]
[]
[]
[]
[]
[]
[]
[]
[]
[]
[]
[]
[]
[]
[]
[]
[]
[]
[]
[]
[]
[]
[]
[]
[]
[]
[]
[]
[]
[]
[]
[]
[]
[]
[]
[]
[]
[]
[]
[]
[]
[]
[]
[]
[]
[]
[]
[]
[]
[]
[]
[]
[]
[]
[]
[]
[]
[]
[]
[]
[]
[]
[]
[]
[]
[]
[]
[]
[]
[]
[]
[]
[]
[]
[]
[]
[]
[]
[]
[]
[]
[]
[]
[]
[]
[]
[]
[]
[]
[]
[]
[]
[]
[]
[]
[]
[]
[]
[]
[]
[]
[]
[]
[]
[]
[]
[]
[]
[]
[]
[]
[]
[]
[]
[]
[]
[]
[]
[]
[]
[]
[]
[]
[]
[]
[]
[]
[]
[]
[]
[]
[]
[]
[]
[]
[]
[]
[]
[]
[]
[{"$f":"1+1","v":2}]
[{"$f":"1+1","v":2}]
[{"$f":"1+1","v":2}]

{"sheet":"Controles","index":4,"n_rows":1048574,"n_cols":28,"rows_kept":4500,"cut":true,"hidden":true,"merged":[[3,0,3,17]],"bounds":{"rows_first":2000,"rows_last":500,"rows_between":2000,"halvings":0}}
[]
[]
[null,null,null,null,null,null,null,null,null,null,null,null,null,null,null,null,null,null,null,null,null,null,"COORDENAÇÃO DO PROJETO",null,"TEMA","TITULO PROJETO","PPG","NOTA"]
["CONTROLES - em reais (conversão dolar cambio 3,60)",null,null,null,null,null,null,null,null,null,null,null,null,null,null,null,null,null,null,null,null,null,"SELECIONE"]
[null,null,null,null,null,null,null,null,null,null,null,null,null,null,null,null,null,null,null,null,null,null,"ALICE RIBEIRO CASIMIRO LOPES",1,"TEMA 2 - Educação no Mundo Contemporâneo","Políticas de Currículo","Educação",7]
["Bolsas","TIPO","Mensalidade","Auxilio Instalação","Auxilio deslocamento PORTAL","Seguro-saude",null,"Continentes",null,"Destinos/Origens","Auxilio deslocamento REAL",null,null,"ANOS",null,"País","Grupo","Valor","Continente","PRIORITÁRIO",null,null,"ANA CHRYSTINA VENANCIO MIGNOT",2,"TEMA 2 - Educação no Mundo Contemporâneo","Escritas de Si, Memória e Profissão Docente","Educação",7]
["Professor Visitante no Brasil ","Bolsas no país",14000,2200,6555.29,400,0.5,"África",12,"Bolsas no exteriorÁfrica",6807.6,null,null,2019,null,"Afeganistão","A",648,"Ásia","N",null,null,"ANNA PAULA UZIEL",3,"TEMA 6 - Políticas Públicas e Teoria Social","Articulações em ciências humanas e sociais: desafios contemporâneos dos direitos humanos na América Latina e Europa","Psicologia Social",5]
["Jovem Talento com Experiência no Exterior ","Bolsas no país",8000,2200,6555.29,400,6,"América Central",36,"Bolsas no exteriorAmérica Central",4762.8,null,null,2020,null,"África do Sul","B",936,"África","S",null,null,"ANTÔNIO JOSÉ DA SILVA NETO",4,"TEMA 5 - Ciências Exatas e Engenharias: Teoria, Experimentação, Modelagem Computacional e Aplicações","Modelagem Computacional para Aplicações em Engenharia e Meio Ambiente","Modelagem Computacional",6]
["Pós-doutorado com experiência no exterior ","Bolsas no país",4100,2200,6555.29,400,6,"América do Norte",36,"Bolsas no exteriorAmérica do Norte",5774.4000000000005,null,null,null,null,"Albânia","B",936,"Europa","N",null,null,"BRUNO RÊGO DEUSDARÁ RODRIGUES",5,"TEMA 1 - Cultura e Teoria Social: Focalizando Direito, Trabalho e Subjetividade","Linguagem, Migração e Trabalho","Letras",5]
["Professor Visitante no Exterior Sênior ","Bolsas no exterior",8280,8280,5774.4000000000005,324,3,"América do Sul",12,"Bolsas no exteriorAmérica do Sul",2649.6,null,null,null,null,"Alemanha","D",1332,"Europa","S",null,null,"BRUNO WERNECK MINTZ",6,"TEMA 5 - Ciências Exatas e Engenharias: Teoria, Experimentação, Modelagem Computacional e Aplicações","Interações Fortes: Fundamentos Teóricos e Aplicações","Física",5]
["Professor Visitante no Exterior Júnior ","Bolsas no exterior",7560,7560,5774.4000000000005,324,3,"Ásia",12,"Bolsas no exteriorÁsia",9075.6,null,null,null,null,"Andorra","B",936,"Europa","N",null,null,"CATIA CRIVELENTI DE FIGUEIREDO WALTER",26,"TEMA 2 - Educação no Mundo Contemporâneo","Inclusão, comunicação e aprendizagem","Educação",7]
["Doutorado Sanduíche","Bolsas no exterior",4680,4680,5774.4000000000005,324,6,"Europa",12,"Bolsas no exteriorEuropa",6141.6,null,null,null,null,"Angola","D",1332,"África","N",null,null,"CLARA MARIA DE OLIVEIRA ARAÚJO",7,"TEMA 6 - Políticas Públicas e Teoria Social","Análise de Campanhas Públicas para Prevenir a Violência de Gênero no Brasil 2000-2017","Ciências Sociais",5]
["Capacitação ","Bolsas no exterior",4680,4680,5774.4000000000005,324,0,"Oceania",3,"Bolsas no exteriorOceania",11235.6,null,null,null,null,"Antígua e Barbuda","C",1116,"América Central","N",null,null,"DANIEL NUNES PEÇEGO",8,"TEMA 1 - Cultura e Teoria Social: Focalizando Direito, Trabalho e Subjetividade","História, Constituição e Crítica do Direito","Direito",5]
[null,null,null,null,null,null,null,null,null,"Bolsas no paísÁfrica",7012,null,null,null,null,"Arábia Saudita","C",1116,"Ásia","N",null,null,"DENIZE CRISTINA DE OLIVEIRA",9,"TEMA 3 - Saúde: Controle de Doenças e Ações pela Qualidade de Vida","Força de Trabalho e Práticas Assistenciais na Saúde e Enfermagem: AInternacionalização da Produção de Conhecimento na Atenção Básica a Saúde através de Parcerias Sustentáveis","Enfermagem",5]
[null,null,null,null,null,null,null,null,null,"Bolsas no paísAmérica Central",5667,null,null,null,null,"Argélia","B",936,"África","N",null,null,"EDGAR DA ROCHA MARQUES",10,"TEMA 1 - Cultura e Teoria Social: Focalizando Direito, Trabalho e Subjetividade","Subjetividade e Natureza","Filosofia",5]
[null,null,null,null,null,null,null,null,null,"Bolsas no paísAmérica do Sul",4032,null,null,null,null,"Argentina","B",936,"América do Sul","S",null,null,"ERICK FELINTO DE OLIVEIRA",11,"TEMA 1 - Cultura e Teoria Social: Focalizando Direito, Trabalho e Subjetividade","Tecnologias de Comunicação, Cidade e Cultura das Mídias","Comunicação Social",5]
["1 - Cultura e Teoria Social: Focalizando Direito, Trabalho e Subjetividade",null,null,null,null,null,null,null,null,"Bolsas no paísÁsia",7152,null,null,null,null,"Armênia","A",648,"Ásia","N",null,null,"EUGENIA ZANDONÁ",12,"TEMA 7 - Meio Ambiente: Formação, Análise de Impacto Ambiental e Novas Tecnologias em Busca da Sustentabilidade e Questões Sócio-Ambientais","Ecologia de Populações, Comunidades e Ecossistemas Aquáticos: Entendendo e Modelando Ambientes Tropicais","Ecologia e Evolução",6]
["2 - Educação no Mundo Contemporâneo",null,null,null,null,null,null,null,null,"Bolsas no paísEuropa",6134,null,null,null,null,"Austrália","B",936,"Oceania","S",null,null,"FERNANDO DE CASTRO FONTAINHA",13,"TEMA 1 - Cultura e Teoria Social: Focalizando Direito, Trabalho e Subjetividade","Democracia, Desigualdades Sociais e Políticas Públicas","Sociologia",6]
["3 - Saúde: Controle de Doenças e Ações pela Qualidade de Vida",null,null,null,null,null,null,null,null,"Bolsas no paísOceania",9694,null,null,null,null,"Áustria","D",1332,"Europa","S",null,null,"FERNANDO HENRIQUE EDUARDO GUARNIERI",14,"TEMA 4 - Teoria política, história e redes de poder","Política Externa, Regionalismo e Cooperação Internacional","Ciência Política",6]
["4 - Teoria política, história e redes de poder",null,null,null,null,null,null,null,null,"Bolsas no paísAmérica do Norte",6196,null,null,null,null,"Azerbaijão","C",1116,"Ásia","N",null,null,"FLORIANO JOSÉ GODINHO DE OLIVEIRA",15,"TEMA 6 - Políticas Públicas e Teoria Social","Internacionalização do PPG Políticas Públicas e Formação Humana: Inovação e Redes Técnicas na Produção de Políticas Públicas em Ambiente Urbano, Educação e Biopolítica e Formação Humana e Cidadania.","Políticas Públicas e Formação Humana",6]
["5 - Ciências Exatas e Engenharias: Teoria, Experimentação, Modelagem Computacional e Aplicações",null,null,null,null,null,null,null,null,null,null,null,null,null,null,"Bahamas","C",1116,"América Central","N",null,null,"JOAQUIM TEIXEIRA DE ASSIS",16,"TEMA 5 - Ciências Exatas e Engenharias: Teoria, Experimentação, Modelagem Computacional e Aplicações","Modelagem Computacional em Experimentos de Tomografia Computadorizada e Fluorescência de Raios X","Modelagem Computacional",6]
["6 - Políticas Públicas e Teoria Social",null,null,null,null,null,null,null,null,null,null,null,null,null,null,"Bangladesh","A",648,"Ásia","N",null,null,"LUIZ MARTINS MUNDIM FILHO",17,"TEMA 5 - Ciências Exatas e Engenharias: Teoria, Experimentação, Modelagem Computacional e Aplicações","Física de Altas Energias no Âmbito da Colaboração CMS (Compact Muon Solenoid) do Cern e as Tecnologias Associadas da Engenharia e Computação","Física",5]
["7 - Meio Ambiente: Formação, Análise de Impacto Ambiental e Novas Tecnologias em Busca da Sustentabilidade e Questões Sócio-Ambientais",null,null,null,null,null,null,null,null,null,null,null,null,null,null,"Barbados","D",1332,"América Central","N",null,null,"MÁRCIA CRISTINA PAES",19,"TEMA 3 - Saúde: Controle de Doenças e Ações pela Qualidade de Vida","Novas Ferramentas para um Velho Inimigo: a Luta Contra a Doença de Chagas através da Regulação de Transcritos do RNA de Trypanosoma Cruzi","Biociências ",6]
[null,null,null,null,null,null,null,null,null,null,null,null,null,null,null,"Barein","C",1116,"Ásia","N",null,null,"MARIA CLAUDIA PEREIRA COELHO",20,"TEMA 1 - Cultura e Teoria Social: Focalizando Direito, Trabalho e Subjetividade","Cultura, Subjetividade e Emoções","Ciências Sociais",5]
[null,null,null,null,null,null,null,null,null,null,null,null,null,null,null,"Bélgica","D",1332,"Europa","S",null,null,"MARIA DA CONCEIÇÃO SILVA SOARES",21,"TEMA 2 - Educação no Mundo Contemporâneo","Cotidianos, Redes Educativas, Processos Culturais E Imagens","Educação",7]
[0,null,null,null,null,null,null,null,null,null,null,null,null,null,null,"Belize","B",936,"América Central","N",null,null,"MARIO ROBERTO DAL POZ",22,"TEMA 3 - Saúde: Controle de Doenças e Ações pela Qualidade de Vida","Saúde Coletiva e Nutrição: Produção de Conhecimento para Impulsionar a Agenda 2030 – Objetivos do Desenvolvimento Sustentável","Saúde Coletiva",6]
[null,null,null,null,null,null,null,null,null,null,null,null,null,null,null,"Benin","A",648,"África","N",null,null,"NABIL ARAUJO DE SOUZA",18,"TEMA 2 - Educação no Mundo Contemporâneo","Ensino e Aprendizagem de Línguas Estrangeiras Sob Perspectiva Intercultural","Letras",5]
[null,null,null,null,null,null,null,null,null,null,null,null,null,null,null,"Bolívia","A",648,"América do Sul","N",null,null,"PEDRO JORGE VON RANKE PERLINGEIRO",23,"TEMA 5 - Ciências Exatas e Engenharias: Teoria, Experimentação, Modelagem Computacional e Aplicações","Efeitos I-Calóricos","Física",5]
[null,null,null,null,null,null,null,null,null,null,null,null,null,null,null,"Bósnia-Herzegóvina","B",936,"Europa","N",null,null,"PRESCILLA EMY NAGAO FERREIRA",24,"TEMA 3 - Saúde: Controle de Doenças e Ações pela Qualidade de Vida","Mecanismos Moleculares Relacionados à Disfunção Endotelial na Sepse Neonatal","Biociências",6]
[null,null,null,null,null,null,null,null,null,null,null,null,null,null,null,"Botsuana","C",1116,"África","N",null,null,"RICARDO CARVALHO DE BARROS",25,"TEMA 5 - Ciências Exatas e Engenharias: Teoria, Experimentação, Modelagem Computacional e Aplicações","Modelagem Computacional do Transporte Não-Clássico de Partículas Neutras","Modelagem Computacional",6]
[null,null,null,null,null,null,null,null,null,null,null,null,null,null,null,"Brunei Darussalam","C",1116,"Ásia","N",null,null,"SANTIAGO ESTEBAN PEREZ BERGLIAFFA",27,"TEMA 5 - Ciências Exatas e Engenharias: Teoria, Experimentação, Modelagem Computacional e Aplicações","Desafios Contemporâneos em Gravitação e Cosmologia","Física",5]
[null,null,null,null,null,null,null,null,null,null,null,null,null,null,null,"Bulgária","C",1116,"Europa","N",null,null,"SHEILA CABO GERALDO",28,"TEMA 1 - Cultura e Teoria Social: Focalizando Direito, Trabalho e Subjetividade","Geopoéticas e Novas Epistemes: Relações da Arte e da Cultura na Contemporaneidade","Artes ",5]
[null,null,null,null,null,null,null,null,null,null,null,null,null,null,null,"Burkina-Fasso","A",648,"África","N",null,null,"SILENE DE MORAES FREIRE",29,"TEMA 1 - Cultura e Teoria Social: Focalizando Direito, Trabalho e Subjetividade","Trabalho e Questão social","Serviço Social",6]
[null,null,null,null,null,null,null,null,null,null,null,null,null,null,null,"Burundi","B",936,"África","N",null,null,"WALTER OMAR KOHAN",30,"TEMA 2 - Educação no Mundo Contemporâneo","Filosofia na Infância da Vida Escolar","Educação",7]
[null,null,null,null,null,null,null,null,null,null,null,null,null,null,null,"Butão","A",648,"Ásia","N"]
[null,null,null,null,null,null,null,null,null,null,null,null,null,null,null,"Cabo Verde","B",936,"África","N"]
[null,null,null,null,null,null,null,{"$f":"H22&J22","v":""},null,null,null,null,null,null,null,"Camarões","B",936,"África","N"]
[null,null,null,null,null,null,null,null,null,null,null,null,null,null,null,"Camboja","B",936,"Ásia","N"]
[null,null,null,null,null,null,null,null,null,null,null,null,null,null,null,"Canadá","C",1116,"América do Norte","S"]
[null,null,null,null,null,null,null,null,null,null,null,null,null,null,null,"Catar","B",936,"Ásia","N"]
[null,null,null,null,null,null,null,null,null,null,null,null,null,null,null,"Cazaquistão","D",1332,"Ásia","N"]
[null,null,null,null,null,null,null,null,null,null,null,null,null,null,null,"Chade","B",936,"África","N"]
[null,null,null,null,null,null,null,null,null,null,null,null,null,null,null,"Chile","A",648,"América do Sul","N"]
[null,null,null,null,null,null,null,null,null,null,null,null,null,null,null,"China","B",936,"Ásia","S"]
[null,null,null,null,null,null,null,null,null,null,null,null,null,null,null,"Chipre","B",936,"Europa","N"]
[null,null,null,null,null,null,null,null,null,null,null,null,null,null,null,"Colômbia","B",936,"América do Sul","N"]
[null,null,null,null,null,null,null,null,null,null,null,null,null,null,null,"Comores","A",648,"África","N"]
[null,null,null,null,null,null,null,null,null,null,null,null,null,null,null,"Congo","C",1116,"África","N"]
[null,null,null,null,null,null,null,null,null,null,null,null,null,null,null,"Coreia do Norte","A",648,"Ásia","N"]
[null,null,null,null,null,null,null,null,null,null,null,null,null,null,null,"Coréia do Sul","D",1332,"Ásia","S"]
[null,null,null,null,null,null,null,null,null,null,null,null,null,null,null,"Costa do Marfim","C",1116,"África","N"]
[null,null,null,null,null,null,null,null,null,null,null,null,null,null,null,"Costa Rica","A",648,"América Central","N"]
[null,null,null,null,null,null,null,null,null,null,null,null,null,null,null,"Croácia","D",1332,"Europa","N"]
[null,null,null,null,null,null,null,null,null,null,null,null,null,null,null,"Cuba","C",1116,"América Central","N"]
[null,null,null,null,null,null,null,null,null,null,null,null,null,null,null,"Dinamarca","D",1332,"Europa","S"]
[null,null,null,null,null,null,null,null,null,null,null,null,null,null,null,"Djibuti","C",1116,"África","N"]
[null,null,null,null,null,null,null,null,null,null,null,null,null,null,null,"Dominica","B",936,"América Central","N"]
[null,null,null,null,null,null,null,null,null,null,null,null,null,null,null,"Egito","B",936,"África","N"]
[null,null,null,null,null,null,null,null,null,null,null,null,null,null,null,"El Salvador","A",648,"América Central","N"]
[null,null,null,null,null,null,null,null,null,null,null,null,null,null,null,"Emirados Árabes","C",1116,"Ásia","N"]
[null,null,null,null,null,null,null,null,null,null,null,null,null,null,null,"Equador","A",648,"América do Sul","N"]
[null,null,null,null,null,null,null,null,null,null,null,null,null,null,null,"Eritréia","B",936,"África","N"]
[null,null,null,null,null,null,null,null,null,null,null,null,null,null,null,"Eslováquia","B",936,"Europa","N"]
[null,null,null,null,null,null,null,null,null,null,null,null,null,null,null,"Eslovênia","A",648,"Europa","N"]
[null,null,null,null,null,null,null,null,null,null,null,null,null,null,null,"Espanha","D",1332,"Europa","S"]
[null,null,null,null,null,null,null,null,null,null,null,null,null,null,null,"Estados Unidos da América","D",1332,"América do Norte","S"]
[null,null,null,null,null,null,null,null,null,null,null,null,null,null,null,"Estônia","B",936,"Europa","N"]
[null,null,null,null,null,null,null,null,null,null,null,null,null,null,null,"Etiópia","B",936,"África","N"]
[null,null,null,null,null,null,null,null,null,null,null,null,null,null,null,"Fiji","C",1116,"Oceania","N"]
[null,null,null,null,null,null,null,null,null,null,null,null,null,null,null,"Filipinas","A",648,"Ásia","N"]
[null,null,null,null,null,null,null,null,null,null,null,null,null,null,null,"Finlândia","D",1332,"Europa","S"]
[null,null,null,null,null,null,null,null,null,null,null,null,null,null,null,"França","D",1332,"Europa","S"]
[null,null,null,null,null,null,null,null,null,null,null,null,null,null,null,"Gabão","C",1116,"África","N"]
[null,null,null,null,null,null,null,null,null,null,null,null,null,null,null,"Gâmbia","A",648,"África","N"]
[null,null,null,null,null,null,null,null,null,null,null,null,null,null,null,"Gana","B",936,"África","N"]
[null,null,null,null,null,null,null,null,null,null,null,null,null,null,null,"Geórgia","B",936,"Ásia","N"]
[null,null,null,null,null,null,null,null,null,null,null,null,null,null,null,"Granada","D",1332,"América Central","N"]
[null,null,null,null,null,null,null,null,null,null,null,null,null,null,null,"Grécia","D",1332,"Europa","N"]
[null,null,null,null,null,null,null,null,null,null,null,null,null,null,null,"Guatemala","C",1116,"América Central","N"]
[null,null,null,null,null,null,null,null,null,null,null,null,null,null,null,"Guiana","A",648,"América do Sul","N"]
[null,null,null,null,null,null,null,null,null,null,null,null,null,null,null,"Guiné","A",648,"África","N"]
[null,null,null,null,null,null,null,null,null,null,null,null,null,null,null,"Guiné Bissau","A",648,"África","N"]
[null,null,null,null,null,null,null,null,null,null,null,null,null,null,null,"Guiné- Equatorial","B",936,"África","N"]
[null,null,null,null,null,null,null,null,null,null,null,null,null,null,null,"Haiti","B",936,"América Central","N"]
[null,null,null,null,null,null,null,null,null,null,null,null,null,null,null,"Honduras","A",648,"América Central","N"]
[null,null,null,null,null,null,null,null,null,null,null,null,null,null,null,"Hong Kong","D",1332,"Ásia","N"]
[null,null,null,null,null,null,null,null,null,null,null,null,null,null,null,"Hungria","B",936,"Europa","N"]
[null,null,null,null,null,null,null,null,null,null,null,null,null,null,null,"Iêmen","B",936,"Ásia","N"]
[null,null,null,null,null,null,null,null,null,null,null,null,null,null,null,"Ilhas Marshall","B",936,"Oceania","N"]
[null,null,null,null,null,null,null,null,null,null,null,null,null,null,null,"Índia","B",936,"Ásia","S"]
[null,null,null,null,null,null,null,null,null,null,null,null,null,null,null,"Indonésia","A",648,"Ásia","N"]
[null,null,null,null,null,null,null,null,null,null,null,null,null,null,null,"Irã","A",648,"Ásia","N"]
[null,null,null,null,null,null,null,null,null,null,null,null,null,null,null,"Iraque","A",648,"Ásia","N"]
[null,null,null,null,null,null,null,null,null,null,null,null,null,null,null,"Irlanda","D",1332,"Europa","S"]
[null,null,null,null,null,null,null,null,null,null,null,null,null,null,null,"Islândia","D",1332,"Europa","N"]
[null,null,null,null,null,null,null,null,null,null,null,null,null,null,null,"Israel","D",1332,"Ásia","N"]
[null,null,null,null,null,null,null,null,null,null,null,null,null,null,null,"Itália","D",1332,"Europa","S"]
[null,null,null,null,null,null,null,null,null,null,null,null,null,null,null,"Jamaica","C",1116,"América Central","N"]
[null,null,null,null,null,null,null,null,null,null,null,null,null,null,null,"Japão","D",1332,"Ásia","S"]
[null,null,null,null,null,null,null,null,null,null,null,null,null,null,null,"Jordânia","C",1116,"Ásia","N"]
[null,null,null,null,null,null,null,null,null,null,null,null,null,null,null,"Kiribati","B",936,"Oceania","N"]
[null,null,null,null,null,null,null,null,null,null,null,null,null,null,null,"Kuwait","D",1332,"Ásia","N"]
[null,null,null,null,null,null,null,null,null,null,null,null,null,null,null,"Laos","A",648,"Ásia","N"]
[null,null,null,null,null,null,null,null,null,null,null,null,null,null,null,"Lesoto","B",936,"África","N"]
[null,null,null,null,null,null,null,null,null,null,null,null,null,null,null,"Letônia","C",1116,"Europa","N"]
[null,null,null,null,null,null,null,null,null,null,null,null,null,null,null,"Líbano","A",648,"Ásia","N"]
[null,null,null,null,null,null,null,null,null,null,null,null,null,null,null,"Libéria","C",1116,"África","N"]
[null,null,null,null,null,null,null,null,null,null,null,null,null,null,null,"Líbia","B",936,"África","N"]
[null,null,null,null,null,null,null,null,null,null,null,null,null,null,null,"Liechtenstein","D",1332,"Europa","N"]
[null,null,null,null,null,null,null,null,null,null,null,null,null,null,null,"Lituânia","C",1116,"Europa","N"]
[null,null,null,null,null,null,null,null,null,null,null,null,null,null,null,"Luxemburgo","D",1332,"Europa","N"]
[null,null,null,null,null,null,null,null,null,null,null,null,null,null,null,"Macedônia","B",936,"Europa","N"]
[null,null,null,null,null,null,null,null,null,null,null,null,null,null,null,"Madagascar","B",936,"África","N"]
[null,null,null,null,null,null,null,null,null,null,null,null,null,null,null,"Malásia","A",648,"Ásia","N"]
[null,null,null,null,null,null,null,null,null,null,null,null,null,null,null,"Malauí","B",936,"África","N"]
[null,null,null,null,null,null,null,null,null,null,null,null,null,null,null,"Maldivas","A",648,"Ásia","N"]
[null,null,null,null,null,null,null,null,null,null,null,null,null,null,null,"Mali","C",1116,"África","N"]
[null,null,null,null,null,null,null,null,null,null,null,null,null,null,null,"Malta","C",1116,"Europa","N"]
[null,null,null,null,null,null,null,null,null,null,null,null,null,null,null,"Marrocos","A",648,"África","N"]
[null,null,null,null,null,null,null,null,null,null,null,null,null,null,null,"Maurício","C",1116,"África","N"]
[null,null,null,null,null,null,null,null,null,null,null,null,null,null,null,"Mauritânia","C",1116,"África","N"]
[null,null,null,null,null,null,null,null,null,null,null,null,null,null,null,"México","C",1116,"América do Norte","S"]
[null,null,null,null,null,null,null,null,null,null,null,null,null,null,null,"Micronésia","B",936,"Oceania","N"]
[null,null,null,null,null,null,null,null,null,null,null,null,null,null,null,"Moçambique","B",936,"África","N"]
[null,null,null,null,null,null,null,null,null,null,null,null,null,null,null,"Moldávia","B",936,"Europa","N"]
[null,null,null,null,null,null,null,null,null,null,null,null,null,null,null,"Mônaco","D",1332,"Europa","N"]
[null,null,null,null,null,null,null,null,null,null,null,null,null,null,null,"Mongólia","A",648,"Ásia","N"]
[null,null,null,null,null,null,null,null,null,null,null,null,null,null,null,"Montenegro","D",1332,"Europa","N"]
[null,null,null,null,null,null,null,null,null,null,null,null,null,null,null,"Myanmar","A",648,"Ásia","N"]
[null,null,null,null,null,null,null,null,null,null,null,null,null,null,null,"Namíbia","A",648,"África","N"]
[null,null,null,null,null,null,null,null,null,null,null,null,null,null,null,"Nauru","A",648,"Oceania","N"]
[null,null,null,null,null,null,null,null,null,null,null,null,null,null,null,"Nepal","A",648,"Ásia","N"]
[null,null,null,null,null,null,null,null,null,null,null,null,null,null,null,"Nicarágua","A",648,"América Central","N"]
[null,null,null,null,null,null,null,null,null,null,null,null,null,null,null,"Níger","B",936,"África","N"]
[null,null,null,null,null,null,null,null,null,null,null,null,null,null,null,"Nigéria","B",936,"África","N"]
[null,null,null,null,null,null,null,null,null,null,null,null,null,null,null,"Noruega","D",1332,"Europa","S"]
[null,null,null,null,null,null,null,null,null,null,null,null,null,null,null,"Nova Zelândia","B",936,"Oceania","S"]
[null,null,null,null,null,null,null,null,null,null,null,null,null,null,null,"Omã","D",1332,"Ásia","N"]
[null,null,null,null,null,null,null,null,null,null,null,null,null,null,null,"Países Baixos","D",1332,"Europa","S"]
[null,null,null,null,null,null,null,null,null,null,null,null,null,null,null,"Palau","B",936,"Oceania","N"]
[null,null,null,null,null,null,null,null,null,null,null,null,null,null,null,"Panamá","A",648,"América Central","N"]
[null,null,null,null,null,null,null,null,null,null,null,null,null,null,null,"Papua Nova Guiné","B",936,"Oceania","N"]
[null,null,null,null,null,null,null,null,null,null,null,null,null,null,null,"Paquistão","B",936,"Ásia","N"]
[null,null,null,null,null,null,null,null,null,null,null,null,null,null,null,"Paraguai","A",648,"América do Sul","N"]
[null,null,null,null,null,null,null,null,null,null,null,null,null,null,null,"Peru","B",936,"América do Sul","N"]
[null,null,null,null,null,null,null,null,null,null,null,null,null,null,null,"Polônia","B",936,"Europa","N"]
[null,null,null,null,null,null,null,null,null,null,null,null,null,null,null,"Portugal","D",1332,"Europa","N"]
[null,null,null,null,null,null,null,null,null,null,null,null,null,null,null,"Quênia","B",936,"África","N"]
[null,null,null,null,null,null,null,null,null,null,null,null,null,null,null,"Quirguistão","D",1332,"Ásia","N"]
[null,null,null,null,null,null,null,null,null,null,null,null,null,null,null,"Reino Unido","D",1332,"Europa","S"]
[null,null,null,null,null,null,null,null,null,null,null,null,null,null,null,"Rep. Centro Africana","A",648,"África","N"]
[null,null,null,null,null,null,null,null,null,null,null,null,null,null,null,"República da Bielorrússia","A",648,"Europa","N"]
[null,null,null,null,null,null,null,null,null,null,null,null,null,null,null,"República Democrática do Congo","C",1116,"África","N"]
[null,null,null,null,null,null,null,null,null,null,null,null,null,null,null,"República Dominicana","B",936,"América Central","N"]
[null,null,null,null,null,null,null,null,null,null,null,null,null,null,null,"República Tcheca","C",1116,"Europa","N"]
[null,null,null,null,null,null,null,null,null,null,null,null,null,null,null,"República Togolesa","A",648,"África","N"]
[null,null,null,null,null,null,null,null,null,null,null,null,null,null,null,"Romênia","B",936,"Europa","N"]
[null,null,null,null,null,null,null,null,null,null,null,null,null,null,null,"Ruanda","B",936,"África","N"]
[null,null,null,null,null,null,null,null,null,null,null,null,null,null,null,"Rússia","C",1116,"Europa","S"]
[null,null,null,null,null,null,null,null,null,null,null,null,null,null,null,"Salomão","A",648,"Oceania","N"]
[null,null,null,null,null,null,null,null,null,null,null,null,null,null,null,"Samoa","A",648,"Oceania","N"]
[null,null,null,null,null,null,null,null,null,null,null,null,null,null,null,"San Marino","C",1116,"Europa","N"]
[null,null,null,null,null,null,null,null,null,null,null,null,null,null,null,"Santa Lúcia","C",1116,"América Central","N"]
[null,null,null,null,null,null,null,null,null,null,null,null,null,null,null,"São Cristóvão e Nevis","C",1116,"América Central","N"]
[null,null,null,null,null,null,null,null,null,null,null,null,null,null,null,"São Tomé e Príncipe","B",936,"África","N"]
[null,null,null,null,null,null,null,null,null,null,null,null,null,null,null,"São Vicente e Granadinas","C",1116,"América Central","N"]
[null,null,null,null,null,null,null,null,null,null,null,null,null,null,null,"Seicheles","D",1332,"África","N"]
[null,null,null,null,null,null,null,null,null,null,null,null,null,null,null,"Senegal","B",936,"África","N"]
[null,null,null,null,null,null,null,null,null,null,null,null,null,null,null,"Serra Leoa","A",648,"África","N"]
[null,null,null,null,null,null,null,null,null,null,null,null,null,null,null,"Sérvia","D",1332,"Europa","N"]
[null,null,null,null,null,null,null,null,null,null,null,null,null,null,null,"Singapura","C",1116,"Ásia","N"]
[null,null,null,null,null,null,null,null,null,null,null,null,null,null,null,"Síria","A",648,"Ásia","N"]
[null,null,null,null,null,null,null,null,null,null,null,null,null,null,null,"Somália","A",648,"África","N"]
[null,null,null,null,null,null,null,null,null,null,null,null,null,null,null,"Sri Lanka","A",648,"Ásia","N"]
[null,null,null,null,null,null,null,null,null,null,null,null,null,null,null,"Suazilândia","D",1332,"África","N"]
[null,null,null,null,null,null,null,null,null,null,null,null,null,null,null,"Sudão","B",936,"África","N"]
[null,null,null,null,null,null,null,null,null,null,null,null,null,null,null,"Suécia","D",1332,"Europa","S"]
[null,null,null,null,null,null,null,null,null,null,null,null,null,null,null,"Suíça","D",1332,"Europa","S"]
[null,null,null,null,null,null,null,null,null,null,null,null,null,null,null,"Suriname","A",648,"América do Sul","N"]
[null,null,null,null,null,null,null,null,null,null,null,null,null,null,null,"Tadjiquistão","A",648,"Ásia","N"]
[null,null,null,null,null,null,null,null,null,null,null,null,null,null,null,"Tailândia","A",648,"Ásia","N"]
[null,null,null,null,null,null,null,null,null,null,null,null,null,null,null,"Taiwan","C",1116,"Ásia","N"]
[null,null,null,null,null,null,null,null,null,null,null,null,null,null,null,"Tanzânia","B",936,"África","N"]
[null,null,null,null,null,null,null,null,null,null,null,null,null,null,null,"Timor Leste","A",648,"Oceania","N"]
[null,null,null,null,null,null,null,null,null,null,null,null,null,null,null,"Tonga","A",648,"Oceania","N"]
[null,null,null,null,null,null,null,null,null,null,null,null,null,null,null,"Trinidad e Tobago","C",1116,"América Central","N"]
[null,null,null,null,null,null,null,null,null,null,null,null,null,null,null,"Tunísia","A",648,"África","N"]
[null,null,null,null,null,null,null,null,null,null,null,null,null,null,null,"Turcomenistão","A",648,"Ásia","N"]
[null,null,null,null,null,null,null,null,null,null,null,null,null,null,null,"Turquia","A",648,"Ásia","N"]
[null,null,null,null,null,null,null,null,null,null,null,null,null,null,null,"Tuvalu","A",648,"Oceania","N"]
[null,null,null,null,null,null,null,null,null,null,null,null,null,null,null,"Ucrânia","C",1116,"Europa","N"]
[null,null,null,null,null,null,null,null,null,null,null,null,null,null,null,"Uganda","C",1116,"África","N"]
[null,null,null,null,null,null,null,null,null,null,null,null,null,null,null,"Uruguai","B",936,"América do Sul","N"]
[null,null,null,null,null,null,null,null,null,null,null,null,null,null,null,"Uzbequistão","B",936,"Ásia","N"]
[null,null,null,null,null,null,null,null,null,null,null,null,null,null,null,"Vanuatu","D",1332,"Oceania","N"]
[null,null,null,null,null,null,null,null,null,null,null,null,null,null,null,"Venezuela.","B",936,"América do Sul","N"]
[null,null,null,null,null,null,null,null,null,null,null,null,null,null,null,"Vietnã","A",648,"Ásia","N"]
[null,null,null,null,null,null,null,null,null,null,null,null,null,null,null,"Zâmbia","C",1116,"África","N"]
[null,null,null,null,null,null,null,null,null,null,null,null,null,null,null,"Zimbábue","A",648,"África","N"]
[]
[]
[]
[]
[]
[]
[]
[]
[]
[]
[]
[]
[]
[]
[]
[]
[]
[]
[]
[]
[]
[]
[]
[]
[]
[]
[]
[]
[]
[]
[]
[]
[]
[]
[]
[]
[]
[]
[]
[]
[]
[]
[]
[]
[]
[]
[]
[]
[]
[]
[]
[]
[]
[]
[]
[]
[]
[]
[]
[]
[]
[]
[]
[]
[]
[]
[]
[]
[]
[]
[]
[]
[]
[]
[]
[]
[]
[]
[]
[]
[]
[]
[]
[]
[]
[]
[]
[]
[]
[]
[]
[]
[]
[]
[]
[]
[]
[]
[]
[]
[]
[]
[]
[]
[]
[]
[]
[]
[]
[]
[]
[]
[]
[]
[]
[]
[]
[]
[]
[]
[]
[]
[]
[]
[]
[]
[]
[]
[]
[]
[]
[]
[]
[]
[]
[]
[]
[]
[]
[]
[]
[]
[]
[]
[]
[]
[]
[]
[]
[]
[]
[]
[]
[]
[]
[]
[]
[]
[]
[]
[]
[]
[]
[]
[]
[]
[]
[]
[]
[]
[]
[]
[]
[]
[]
[]
[]
[]
[]
[]
[]
[]
[]
[]
[]
[]
[]
[]
[]
[]
[]
[]
[]
[]
[]
[]
[]
[]
[]
[]
[]
[]
[]
[]
[]
[]
[]
[]
[]
[]
[]
[]
[]
[]
[]
[]
[]
[]
[]
[]
[]
[]
[]
[]
[]
[]
[]
[]
[]
[]
[]
[]
[]
[]
[]
[]
[]
[]
[]
[]
[]
[]
[]
[]
[]
[]
[]
[]
[]
[]
[]
[]
[]
[]
[]
[]
[]
[]
[]
[]
[]
[]
[]
[]
[]
[]
[]
[]
[]
[]
[]
[]
[]
[]
[]
[]
[]
[]
[]
[]
[]
[]
[]
[]
[]
[]
[]
[]
[]
[]
[]
[]
[]
[]
[]
[]
[]
[]
[]
[]
[]
[]
[]
[]
[]
[]
[]
[]
[]
[]
[]
[]
[]
[]
[]
[]
[]
[]
[]
[]
[]
[]
[]
[]
[]
[]
[]
[]
[]
[]
[]
[]
[]
[]
[]
[]
[]
[]
[]
[]
[]
[]
[]
[]
[]
[]
[]
[]
[]
[]
[]
[]
[]
[]
[]
[]
[]
[]
[]
[]
[]
[]
[]
[]
[]
[]
[]
[]
[]
[]
[]
[]
[]
[]
[]
[]
[]
[]
[]
[]
[]
[]
[]
[]
[]
[]
[]
[]
[]
[]
[]
[]
[]
[]
[]
[]
[]
[]
[]
[]
[]
[]
[]
[]
[]
[]
[]
[]
[]
[]
[]
[]
[]
[]
[]
[]
[]
[]
[]
[]
[]
[]
[]
[]
[]
[]
[]
[]
[]
[]
[]
[]
[]
[]
[]
[]
[]
[]
[]
[]
[]
[]
[]
[]
[]
[]
[]
[]
[]
[]
[]
[]
[]
[]
[]
[]
[]
[]
[]
[]
[]
[]
[]
[]
[]
[]
[]
[]
[]
[]
[]
[]
[]
[]
[]
[]
[]
[]
[]
[]
[]
[]
[]
[]
[]
[]
[]
[]
[]
[]
[]
[]
[]
[]
[]
[]
[]
[]
[]
[]
[]
[]
[]
[]
[]
[]
[]
[]
[]
[]
[]
[]
[]
[]
[]
[]
[]
[]
[]
[]
[]
[]
[]
[]
[]
[]
[]
[]
[]
[]
[]
[]
[]
[]
[]
[]
[]
[]
[]
[]
[]
[]
[]
[]
[]
[]
[]
[]
[]
[]
[]
[]
[]
[]
[]
[]
[]
[]
[]
[]
[]
[]
[]
[]
[]
[]
[]
[]
[]
[]
[]
[]
[]
[]
[]
[]
[]
[]
[]
[]
[]
[]
[]
[]
[]
[]
[]
[]
[]
[]
[]
[]
[]
[]
[]
[]
[]
[]
[]
[]
[]
[]
[]
[]
[]
[]
[]
[]
[]
[]
[]
[]
[]
[]
[]
[]
[]
[]
[]
[]
[]
[]
[]
[]
[]
[]
[]
[]
[]
[]
[]
[]
[]
[]
[]
[]
[]
[]
[]
[]
[]
[]
[]
[]
[]
[]
[]
[]
[]
[]
[]
[]
[]
[]
[]
[]
[]
[]
[]
[]
[]
[]
[]
[]
[]
[]
[]
[]
[]
[]
[]
[]
[]
[]
[]
[]
[]
[]
[]
[]
[]
[]
[]
[]
[]
[]
[]
[]
[]
[]
[]
[]
[]
[]
[]
[]
[]
[]
[]
[]
[]
[]
[]
[]
[]
[]
[]
[]
[]
[]
[]
[]
[]
[]
[]
[]
[]
[]
[]
[]
[]
[]
[]
[]
[]
[]
[]
[]
[]
[]
[]
[]
[]
[]
[]
[]
[]
[]
[]
[]
[]
[]
[]
[]
[]
[]
[]
[]
[]
[]
[]
[]
[]
[]
[]
[]
[]
[]
[]
[]
[]
[]
[]
[]
[]
[]
[]
[]
[]
[]
[]
[]
[]
[]
[]
[]
[]
[]
[]
[]
[]
[]
[]
[]
[]
[]
[]
[]
[]
[]
[]
[]
[]
[]
[]
[]
[]
[]
[]
[]
[]
[]
[]
[]
[]
[]
[]
[]
[]
[]
[]
[]
[]
[]
[]
[]
[]
[]
[]
[]
[]
[]
[]
[]
[]
[]
[]
[]
[]
[]
[]
[]
[]
[]
[]
[]
[]
[]
[]
[]
[]
[]
[]
[]
[]
[]
[]
[]
[]
[]
[]
[]
[]
[]
[]
[]
[]
[]
[]
[]
[]
[]
[]
[]
[]
[]
[]
[]
[]
[]
[]
[]
[]
[]
[]
[]
[]
[]
[]
[]
[]
[]
[]
[]
[]
[]
[]
[]
[]
[]
[]
[]
[]
[]
[]
[]
[]
[]
[]
[]
[]
[]
[]
[]
[]
[]
[]
[]
[]
[]
[]
[]
[]
[]
[]
[]
[]
[]
[]
[]
[]
[]
[]
[]
[]
[]
[]
[]
[]
[]
[]
[]
[]
[]
[]
[]
[]
[]
[]
[]
[]
[]
[]
[]
[]
[]
[]
[]
[]
[]
[]
[]
[]
[]
[]
[]
[]
[]
[]
[]
[]
[]
[]
[]
[]
[]
[]
[]
[]
[]
[]
[]
[]
[]
[]
[]
[]
[]
[]
[]
[]
[]
[]
[]
[]
[]
[]
[]
[]
[]
[]
[]
[]
[]
[]
[]
[]
[]
[]
[]
[]
[]
[]
[]
[]
[]
[]
[]
[]
[]
[]
[]
[]
[]
[]
[]
[]
[]
[]
[]
[]
[]
[]
[]
[]
[]
[]
[]
[]
[]
[]
[]
[]
[]
[]
[]
[]
[]
[]
[]
[]
[]
[]
[]
[]
[]
[]
[]
[]
[]
[]
[]
[]
[]
[]
[]
[]
[]
[]
[]
[]
[]
[]
[]
[]
[]
[]
[]
[]
[]
[]
[]
[]
[]
[]
[]
[]
[]
[]
[]
[]
[]
[]
[]
[]
[]
[]
[]
[]
[]
[]
[]
[]
[]
[]
[]
[]
[]
[]
[]
[]
[]
[]
[]
[]
[]
[]
[]
[]
[]
[]
[]
[]
[]
[]
[]
[]
[]
[]
[]
[]
[]
[]
[]
[]
[]
[]
[]
[]
[]
[]
[]
[]
[]
[]
[]
[]
[]
[]
[]
[]
[]
[]
[]
[]
[]
[]
[]
[]
[]
[]
[]
[]
[]
[]
[]
[]
[]
[]
[]
[]
[]
[]
[]
[]
[]
[]
[]
[]
[]
[]
[]
[]
[]
[]
[]
[]
[]
[]
[]
[]
[]
[]
[]
[]
[]
[]
[]
[]
[]
[]
[]
[]
[]
[]
[]
[]
[]
[]
[]
[]
[]
[]
[]
[]
[]
[]
[]
[]
[]
[]
[]
[]
[]
[]
[]
[]
[]
[]
[]
[]
[]
[]
[]
[]
[]
[]
[]
[]
[]
[]
[]
[]
[]
[]
[]
[]
[]
[]
[]
[]
[]
[]
[]
[]
[]
[]
[]
[]
[]
[]
[]
[]
[]
[]
[]
[]
[]
[]
[]
[]
[]
[]
[]
[]
[]
[]
[]
[]
[]
[]
[]
[]
[]
[]
[]
[]
[]
[]
[]
[]
[]
[]
[]
[]
[]
[]
[]
[]
[]
[]
[]
[]
[]
[]
[]
[]
[]
[]
[]
[]
[]
[]
[]
[]
[]
[]
[]
[]
[]
[]
[]
[]
[]
[]
[]
[]
[]
[]
[]
[]
[]
[]
[]
[]
[]
[]
[]
[]
[]
[]
[]
[]
[]
[]
[]
[]
[]
[]
[]
[]
[]
[]
[]
[]
[]
[]
[]
[]
[]
[]
[]
[]
[]
[]
[]
[]
[]
[]
[]
[]
[]
[]
[]
[]
[]
[]
[]
[]
[]
[]
[]
[]
[]
[]
[]
[]
[]
[]
[]
[]
[]
[]
[]
[]
[]
[]
[]
[]
[]
[]
[]
[]
[]
[]
[]
[]
[]
[]
[]
[]
[]
[]
[]
[]
[]
[]
[]
[]
[]
[]
[]
[]
[]
[]
[]
[]
[]
[]
[]
[]
[]
[]
[]
[]
[]
[]
[]
[]
[]
[]
[]
[]
[]
[]
[]
[]
[]
[]
[]
[]
[]
[]
[]
[]
[]
[]
[]
[]
[]
[]
[]
[]
[]
[]
[]
[]
[]
[]
[]
[]
[]
[]
[]
[]
[]
[]
[]
[]
[]
[]
[]
[]
[]
[]
[]
[]
[]
[]
[]
[]
[]
[]
[]
[]
[]
[]
[]
[]
[]
[]
[]
[]
[]
[]
[]
[]
[]
[]
[]
[]
[]
[]
[]
[]
[]
[]
[]
[]
[]
[]
[]
[]
[]
[]
[]
[]
[]
[]
[]
[]
[]
[]
[]
[]
[]
[]
[]
[]
[]
[]
[]
[]
[]
[]
[]
[]
[]
[]
[]
[]
[]
[]
[]
[]
[]
[]
[]
[]
[]
[]
[]
[]
[]
[]
[]
[]
[]
[]
[]
[]
[]
[]
[]
[]
[]
[]
[]
[]
[]
[]
[]
[]
[]
[]
[]
[]
[]
[]
[]
[]
[]
[]
[]
[]
[]
[]
[]
[]
[]
[]
[]
[]
[]
[]
[]
[]
[]
[]
[]
[]
[]
[]
[]
[]
[]
[]
[]
[]
[]
[]
[]
[]
[]
[]
[]
[]
[]
[]
[]
[]
[]
[]
[]
[]
[]
[]
[]
[]
[]
[]
[]
[]
[]
[]
[]
[]
[]
[]
[]
[]
[]
[]
[]
[]
[]
[]
[]
[]
[]
[]
[]
[]
[]
[]
[]
[]
[]
[]
[]
[]
[]
[]
[]
[]
[]
[]
[]
[]
[]
[]
[]
[]
[]
[]
[]
[]
[]
[]
[]
[]
[]
[]
[]
[]
[]
[]
[]
[]
[]
[]
[]
[]
[]
[]
[]
[]
[]
[]
[]
[]
[]
[]
[]
[]
[]
[]
[]
[]
[]
[]
[]
[]
[]
[]
[]
[]
[]
[]
[]
[]
[]
[]
[]
[]
[]
[]
[]
[]
[]
[]
[]
[]
[]
[]
[]
[]
[]
[]
[]
[]
[]
[]
[]
[]
[]
[]
[]
[]
[]
[]
[]
[]
[]
[]
[]
[]
[]
[]
[]
[]
[]
[]
[]
[]
[]
[]
[]
[]
[]
[]
[]
[]
[]
[]
[]
[]
[]
[]
[]
[]
[]
[]
[]
[]
[]
[]
[]
[]
[]
[]
[]
[]
[]
[]
[]
[]
[]
[]
[]
[]
[]
[]
[]
[]
[]
[]
[]
[]
[]
[]
[]
[]
[]
[]
[]
[]
[]
[]
[]
[]
[]
[]
[]
[]
[]
[]
[]
[]
[]
[]
[]
[]
[]
[]
[]
[]
[]
[]
[]
[]
[]
[]
[]
[]
[]
[]
[]
[]
[]
[]
[]
[]
[]
[]
[]
[]
[]
[]
[]
[]
[]
[]
[]
[]
[]
[]
[]
[]
[]
[]
[]
[]
[]
[]
[]
[]
[]
[]
[]
[]
[]
[]
[]
[]
[]
[]
[]
[]
[]
[]
[]
[]
[]
[]
[]
[]
[]
[]
[]
[]
[]
[]
[]
[]
[]
[]
[]
[]
[]
[]
[]
[]
[]
[]
[]
[]
[]
[]
[]
[]
[]
[]
[]
[]
[]
[]
[]
[]
[]
[]
[]
[]
[]
[]
[]
[]
[]
[]
[]
[]
[]
[]
[]
[]
[]
[]
[]
[]
[]
[]
[]
[]
[]
[]
[]
[]
[]
[]
[]
[]
[]
[]
[]
[]
[]
[]
[]
[]
[]
[]
[]
[]
[]
[]
[]
[]
[]
[]
[]
[]
[]
[]
[]
[]
[]
[]
[]
[]
[]
[]
[]
[]
[]
[]
[]
[]
[]
[]
[]
[]
[]
[]
[]
[]
[]
[]
[]
[]
[]
[]
[]
[]
[]
[]
[]
[]
[]
[]
[]
[]
[]
[]
[]
[]
[]
[]
[]
[]
[]
[]
[]
[]
[]
[]
[]
[]
[]
[]
[]
[]
[]
[]
[]
[]
[]
[]
[]
[]
[]
[]
[]
[]
[]
[]
[]
[]
[]
[]
[]
[]
[]
[]
[]
[]
[]
[]
[]
[]
[]
[]
[]
[]
[]
[]
[]
[]
[]
[]
[]
[]
[]
[]
[]
[]
[]
[]
[]
[]
[]
[]
[]
[]
[]
[]
[]
[]
[]
[]
[]
[]
[]
[]
[]
[]
[]
[]
[]
[]
[]
[]
[]
[]
[]
[]
[]
[]
[]
[]
[]
[]
[]
[]
[]
[]
[]
[]
[]
[]
[]
[]
[]
[]
[]
[]
[]
[]
[]
[]
[]
[]
[]
[]
[]
[]
[]
[]
[]
[]
[]
[]
[]
[]
[]
[]
[]
[]
[]
[]
[]
[]
[]
[]
[]
[]
[]
[]
[]
[]
[]
[]
[]
[]
[]
[]
[]
[]
[]
[]
[]
[]
[]
[]
[]
[]
[]
[]
[]
[]
[]
[]
[]
[]
[]
[]
[]
[]
[]
[]
[]
[]
[]
[]
[]
[]
[]
[]
[]
[]
[]
[]
[]
[]
[]
[]
[]
[]
[]
[]
[]
[]
[]
[]
[]
[]
[]
[]
[]
[]
[]
[]
[]
[]
[]
[]
[]
[]
[]
[]
[]
[]
[]
[]
[]
[]
[]
[]
[]
[]
[]
[]
[]
[]
[]
[]
[]
[]
[]
[]
[]
[]
[]
[]
[]
[]
[]
[]
[]
[]
[]
[]
[]
[]
[]
[]
[]
[]
[]
[]
[]
[]
[]
[]
[]
[]
[]
[]
[]
[]
[]
[]
[]
[]
[]
[]
[]
[]
[]
[]
[]
[]
[]
[]
[]
[]
[]
[]
[]
[]
[]
[]
[]
[]
[]
[]
[]
[]
[]
[]
[]
[]
[]
[]
[]
[]
[]
[]
[]
[]
[]
[]
[]
[]
[]
[]
[]
[]
[]
[]
[]
[]
[]
[]
[]
[]
[]
[]
[]
[]
[]
[]
[]
[]
[]
[]
[]
[]
[]
[]
[]
[]
[]
[]
[]
[]
[]
[]
[]
[]
[]
[]
[]
[]
[]
[]
[]
[]
[]
[]
[]
[]
[]
[]
[]
[]
[]
[]
[]
[]
[]
[]
[]
[]
[]
[]
[]
[]
[]
[]
[]
[]
[]
[]
[]
[]
[]
[]
[]
[]
[]
[]
[]
[]
[]
[]
[]
[]
[]
[]
[]
[]
[]
[]
[]
[]
[]
[]
[]
[]
[]
[]
[]
[]
[]
[]
[]
[]
[]
[]
[]
[]
[]
[]
[]
[]
[]
[]
[]
[]
[]
[]
[]
[]
[]
[]
[]
[]
[]
[]
[]
[]
[]
[]
[]
[]
[]
[]
[]
[]
[]
[]
[]
[]
[]
[]
[]
[]
[]
[]
[]
[]
[]
[]
[]
[]
[]
[]
[]
[]
[]
[]
[]
[]
[]
[]
[]
[]
[]
[]
[]
[]
[]
[]
[]
[]
[]
[]
[]
[]
[]
[]
[]
[]
[]
[]
[]
[]
[]
[]
[]
[]
[]
[]
[]
[]
[]
[]
[]
[]
[]
[]
[]
[]
[]
[]
[]
[]
[]
[]
[]
[]
[]
[]
[]
[]
[]
[]
[]
[]
[]
[]
[]
[]
[]
[]
[]
[]
[]
[]
[]
[]
[]
[]
[]
[]
[]
[]
[]
[]
[]
[]
[]
[]
[]
[]
[]
[]
[]
[]
[]
[]
[]
[]
[]
[]
[]
[]
[]
[]
[]
[]
[]
[]
[]
[]
[]
[]
[]
[]
[]
[]
[]
[]
[]
[]
[]
[]
[]
[]
[]
[]
[]
[]
[]
[]
[]
[]
[]
[]
[]
[]
[]
[]
[]
[]
[]
[]
[]
[]
[]
[]
[]
[]
[]
[]
[]
[]
[]
[]
[]
[]
[]
[]
[]
[]
[]
[]
[]
[]
[]
[]
[]
[]
[]
[]
[]
[]
[]
[]
[]
[]
[]
[]
[]
[]
[]
[]
[]
[]
[]
[]
[]
[]
[]
[]
[]
[]
[]
[]
[]
[]
[]
[]
[]
[]
[]
[]
[]
[]
[]
[]
[]
[]
[]
[]
[]
[]
[]
[]
[]
[]
[]
[]
[]
[]
[]
[]
[]
[]
[]
[]
[]
[]
[]
[]
[]
[]
[]
[]
[]
[]
[]
[]
[]
[]
[]
[]
[]
[]
[]
[]
[]
[]
[]
[]
[]
[]
[]
[]
[]
[]
[]
[]
[]
[]
[]
[]
[]
[]
[]
[]
[]
[]
[]
[]
[]
[]
[]
[]
[]
[]
[]
[]
[]
[]
[]
[]
[]
[]
[]
[]
[]
[]
[]
[]
[]
[]
[]
[]
[]
[]
[]
[]
[]
[]
[]
[]
[]
[]
[]
[]
[]
[]
[]
[]
[]
[]
[]
[]
[]
[]
[]
[]
[]
[]
[]
[]
[]
[]
[]
[]
[]
[]
[]
[]
[]
[]
[]
[]
[]
[]
[]
[]
[]
[]
[]
[]
[]
[]
[]
[]
[]
[]
[]
[]
[]
[]
[]
[]
[]
[]
[]
[]
[]
[]
[]
[]
[]
[]
[]
[]
[]
[]
[]
[]
[]
[]
[]
[]
[]
[]
[]
[]
[]
[]
[]
[]
[]
[]
[]
[]
[]
[]
[]
[]
[]
[]
[]
[]
[]
[]
[]
[]
[]
[]
[]
[]
[]
[]
[]
[]
[]
[]
[]
[]
[]
[]
[]
[]
[]
[]
[]
[]
[]
[]
[]
[]
[]
[]
[]
[]
[]
[]
[]
[]
[]
[]
[]
[]
[]
[]
[]
[]
[]
[]
[]
[]
[]
[]
[]
[]
[]
[]
[]
[]
[]
[]
[]
[]
[]
[]
[]
[]
[]
[]
[]
[]
[]
[]
[]
[]
[]
[]
[]
[]
[]
[]
[]
[]
[]
[]
[]
[]
[]
[]
[]
[]
[]
[]
[]
[]
[]
[]
[]
[]
[]
[]
[]
[]
[]
[]
[]
[]
[]
[]
[]
[]
[]
[]
[]
[]
[]
[]
[]
[]
[]
[]
[]
[]
[]
[]
[]
[]
[]
[]
[]
[]
[]
[]
[]
[]
[]
[]
[]
[]
[]
[]
[]
[]
[]
[]
[]
[]
[]
[]
[]
[]
[]
[]
[]
[]
[]
[]
[]
[]
[]
[]
[]
[]
[]
[]
[]
[]
[]
[]
[]
[]
[]
[]
[]
[]
[]
[]
[]
[]
[]
[]
[]
[]
[]
[]
[]
[]
[]
[]
[]
[]
[]
[]
[]
[]
[]
[]
[]
[]
[]
[]
[]
[]
[]
[]
[]
[]
[]
[]
[]
[]
[]
[]
[]
[]
[]
[]
[]
[]
[]
[]
[]
[]
[]
[]
[]
[]
[]
[]
[]
[]
[]
[]
[]
[]
[]
[]
[]
[]
[]
[]
[]
[]
[]
[]
[]
[]
[]
[]
[]
[]
[]
[]
[]
[]
[]
[]
[]
[]
[]
[]
[]
[]
[]
[]
[]
[]
[]
[]
[]
[]
[]
[]
[]
[]
[]
[]
[]
[]
[]
[]
[]
[]
[]
[]
[]
[]
[]
[]
[]
[]
[]
[]
[]
[]
[]
[]
[]
[]
[]
[]
[]
[]
[]
[]
[]
[]
[]
[]
[]
[]
[]
[]
[]
[]
[]
[]
[]
[]
[]
[]
[]
[]
[]
[]
[]
[]
[]
[]
[]
[]
[]
[]
[]
[]
[]
[]
[]
[]
[]
[]
[]
[]
[]
[]
[]
[]
[]
[]
[]
[]
[]
[]
[]
[]
[]
[]
[]
[]
[]
[]
[]
[]
[]
[]
[]
[]
[]
[]
[]
[]
[]
[]
[]
[]
[]
[]
[]
[]
[]
[]
[]
[]
[]
[]
[]
[]
[]
[]
[]
[]
[]
[]
[]
[]
[]
[]
[]
[]
[]
[]
[]
[]
[]
[]
[]
[]
[]
[]
[]
[]
[]
[]
[]
[]
[]
[]
[]
[]
[]
[]
[]
[]
[]
[]
[]
[]
[]
[]
[]
[]
[]
[]
[]
[]
[]
[]
[]
[]
[]
[]
[]
[]
[]
[]
[]
[]
[]
[]
[]
[]
[]
[]
[]
[]
[]
[]
[]
[]
[]
[]
[]
[]
[]
[]
[]
[]
[]
[]
[]
[]
[]
[]
[]
[]
[]
[]
[]
[]
[]
[]
[]
[]
[]
[]
[]
[]
[]
[]
[]
[]
[]
[]
[]
[]
[]
[]
[]
[]
[]
[]
[]
[]
[]
[]
[]
[]
[]
[]
[]
[]
[]
[]
[]
[]
[]
[]
[]
[]
[]
[]
[]
[]
[]
[]
[]
[]
[]
[]
[]
[]
[]
[]
[]
[]
[]
[]
[]
[]
[]
[]
[]
[]
[]
[]
[]
[]
[]
[]
[]
[]
[]
[]
[]
[]
[]
[]
[]
[]
[]
[]
[]
[]
[]
[]
[]
[]
[]
[]
[]
[]
[]
[]
[]
[]
[]
[]
[]
[]
[]
[]
[]
[]
[]
[]
[]
[]
[]
[]
[]
[]
[]
[]
[]
[]
[]
[]
[]
[]
[]
[]
[]
[]
[]
[]
[]
[]
[]
[]
[]
[]
[]
[]
[]
[]
[]
[]
[]
[]
[]
[]
[]
[]
[]
[]
[]
[]
[]
[]
[]
[]
[]
[]
[]
[]
[]
[]
[]
[]
[]
[]
[]
[]
[]
[]
[]
[]
[]
[]
[]
[]
[]
[]
[]
[]
[]
[]
[]
[]
[]
[]
[]
[]
[]
[]
[]
[]
[]
[]
[]
[]
[]
[]
[]
[]
[]
[]
[]
[]
[]
[]
[]
[]
[]
[]
[]
[]
[]
[]
[]
[]
[]
[]
[]
[]
[]
[]
[]
[]
[]
[]
[]
[]
[]
[]
[]
[]
[]
[]
[]
[]
[]
[]
[]
[]
[]
[]
[]
[]
[]
[]
[]
[]
[]
[]
[]
[]
[]
[]
[]
[]
[]
[]
[]
[]
[]
[]
[]
[]
[]
[]
[]
[]
[]
[]
[]
[]
[]
[]
[]
[]
[]
[]
[]
[]
[]
[]
[]
[]
[]
[]
[]
[]
[]
[]
[]
[]
[]
[]
[]
[]
[]
[]
[]
[]
[]
[]
[]
[]
[]
[]
[]
[]
[]
[]
[]
[]
[]
[]
[]
[]
[]
[]
[]
[]
[]
[]
[]
[]
[]
[]
[]
[]
[]
[]
[]
[]
[]
[]
[]
[]
[]
[]
[]
[]
[]
[]
[]
[]
[]
[]
[]
[]
[]
[]
[]
[]
[]
[]
[]
[]
[]
[]
[]
[]
[]
[]
[]
[]
[]
[]
[]
[]
[]
[]
[]
[]
[]
[]
[]
[]
[]
[]
[]
[]
[]
[]
[]
[]
[]
[]
[]
[]
[]
[]
[]
[]
[]
[]
[]
[]
[]
[]
[]
[]
[]
[]
[]
[]
[]
[]
[]
[]
[]
[]
[]
[]
[]
[]
[]
[]
[]
[]
[]
[]
[]
[]
[]
[]
[]
[]
[]
[]
[]
[]
[]
[]
[]
[]
[]
[]
[]
[]
[]
[]
[]
[]
[]
[]
[]
[]
[]
[]
[]
[]
[]
[]
[]
[]
[]
[]
[]
[]
[]
[]
[]
[]
[]
[]
[]
[]
[]
[]
[]
[]
[]
[]
[]
[]
[]
[]
[]
[]
[]
[]
[]
[]
[]
[]
[]
[]
[]
[]
[]
[]
[]
[]
[]
[]
[]
[]
[]
[]
[]
[]
[]
[]
[]
[]
[]
[]
[]
[]
[]
[]
[]
[]
[]
[]
[]
[]
[]
[]
[]
[]
[]
[]
[]
[]
[]
[]
[]
[]
[]
[]
[]
[]
[]
[]
[]
[]
[]
[]
[]
[]
[]
[]
[]
[]
[]
[]
[]
[]
[]
[]
[]
[]
[]
[]
[]
[]
[]
[]
[]
[]
[]
[]
[]
[]
[]
[]
[]
[]
[]
[]
[]
[]
[]
[]
[]
[]
[]
[]
[]
[]
[]
[]
[]
[]
[]
[]
[]
[]
[]
[]
[]
[]
[]
[]
[]
[]
[]
[]
[]
[]
[]
[]
[]
[]
[]
[]
[]
[]
[]
[]
[]
[]
[]
[]
[]
[]
[]
[]
[]
[]
[]
[]
[]
[]
[]
[]
[]
[]
[]
[]
[]
[]
[]
[]
[]
[]
[]
[]
[]
[]
[]
[]
[]
[]
[]
[]
[]
[]
[]
[]
[]
[]
[]
[]
[]
[]
[]
[]
[]
[]
[]
[]
[]
[]
[]
[]
[]
[]
[]
[]
[]
[]
[]
[]
[]
[]
[]
[]
[]
[]
[]
[]
[]
[]
[]
[]
[]
[]
[]
[]
[]
[]
[]
[]
[]
[]
[]
[]
[]
[]
[]
[]
[]
[]
[]
[]
[]
[]
[]
[]
[]
[]
[]
[]
[]
[]
[]
[]
[]
[]
[]
[]
[]
[]
[]
[]
[]
[]
[]
[]
[]
[]
[]
[]
[]
[]
[]
[]
[]
[]
[]
[]
[]
[]
[]
[]
[]
[]
[]
[]
[]
[]
[]
[]
[]
[]
[]
[]
[]
[]
[]
[]
[]
[]
[]
[]
[]
[]
[]
[]
[]
[]
[]
[]
[]
[]
[]
[]
[]
[]
[]
[]
[]
[]
[]
[]
[]
[]
[]
[]
[]
[]
[]
[]
[]
[]
[]
[]
[]
[]
[]
[]
[]
[]
[]
[]
[]
[]
[]
[]
[]
[]
[{"$f":"1+1","v":2}]
[]
[]
[]
[]
[]
[]
[]
[]
[]
[]
[]
[]
[]
[]
[]
[]
[]
[]
[]
[]
[]
[]
[]
[]
[]
[]
[]
[]
[]
[]
[]
[]
[]
[]
[]
[]
[]
[]
[]
[]
[]
[]
[]
[]
[]
[]
[]
[]
[]
[]
[]
[]
[]
[]
[]
[]
[]
[]
[]
[]
[]
[]
[]
[]
[]
[]
[]
[]
[]
[]
[]
[]
[]
[]
[]
[]
[]
[]
[]
[]
[]
[]
[]
[]
[]
[]
[]
[]
[]
[]
[]
[]
[]
[]
[]
[]
[]
[]
[]
[]
[]
[]
[]
[]
[]
[]
[]
[]
[]
[]
[]
[]
[]
[]
[]
[]
[]
[]
[]
[]
[]
[]
[]
[]
[]
[]
[]
[]
[]
[]
[]
[]
[]
[]
[]
[]
[{"$f":"1+1","v":2}]